BEGIN:VCALENDAR
VERSION:2.0
PRODID:-//Association Romande et francophone de Berne et environs - ECPv6.15.20//NONSGML v1.0//EN
CALSCALE:GREGORIAN
METHOD:PUBLISH
X-ORIGINAL-URL:https://www.arb-cdb.ch
X-WR-CALDESC:Évènements pour Association Romande et francophone de Berne et environs
REFRESH-INTERVAL;VALUE=DURATION:PT1H
X-Robots-Tag:noindex
X-PUBLISHED-TTL:PT1H
BEGIN:VTIMEZONE
TZID:Europe/Paris
BEGIN:DAYLIGHT
TZOFFSETFROM:+0100
TZOFFSETTO:+0200
TZNAME:CEST
DTSTART:20240331T010000
END:DAYLIGHT
BEGIN:STANDARD
TZOFFSETFROM:+0200
TZOFFSETTO:+0100
TZNAME:CET
DTSTART:20241027T010000
END:STANDARD
BEGIN:DAYLIGHT
TZOFFSETFROM:+0100
TZOFFSETTO:+0200
TZNAME:CEST
DTSTART:20250330T010000
END:DAYLIGHT
BEGIN:STANDARD
TZOFFSETFROM:+0200
TZOFFSETTO:+0100
TZNAME:CET
DTSTART:20251026T010000
END:STANDARD
BEGIN:DAYLIGHT
TZOFFSETFROM:+0100
TZOFFSETTO:+0200
TZNAME:CEST
DTSTART:20260329T010000
END:DAYLIGHT
BEGIN:STANDARD
TZOFFSETFROM:+0200
TZOFFSETTO:+0100
TZNAME:CET
DTSTART:20261025T010000
END:STANDARD
END:VTIMEZONE
BEGIN:VEVENT
DTSTART;TZID=Europe/Paris:20250801T100000
DTEND;TZID=Europe/Paris:20250801T113000
DTSTAMP:20260420T054251
CREATED:20250508T185714Z
LAST-MODIFIED:20250508T185714Z
UID:11222-1754042400-1754047800@www.arb-cdb.ch
SUMMARY:Les rendez-vous de l'ARB
DESCRIPTION:Nous vous invitons à nous rejoindre autour d’un café le premier vendredi du mois à 10h00 au restaurant Molino\, Waisenhausplatz 13\, 3011 Berne. Pour plus de renseignements : susanafankhauser@yahoo.fr.
URL:https://www.arb-cdb.ch/event/les-rendez-vous-de-larb-2025-8/
LOCATION:Restaurant Molino\, Waisenhausplatz 13\, 3011 Berne
CATEGORIES:Ouvert à tous,Réunion
END:VEVENT
BEGIN:VEVENT
DTSTART;VALUE=DATE:20250802
DTEND;VALUE=DATE:20250804
DTSTAMP:20260420T054251
CREATED:20250525T185356Z
LAST-MODIFIED:20250525T185356Z
UID:11255-1754092800-1754265599@www.arb-cdb.ch
SUMMARY:Sortie à vélo\, les 3 lacs ou le Jura
DESCRIPTION:Le Club de randonnée et de ski de fond de Berne (CRF) vous invite à une\nsortie à vélo dans la région des 3 lacs ou dans le Jura\nLe jour définitif de l’excursion\, samedi ou dimanche\, dépend de la météo.\nAdressez-vous directement à l’organisatrice ou l’organisateur (voir plus bas) de préférence avant le jeudi soir.\nCela vous permet de recevoir les renseignements utiles et d’optimaliser les transports.\nVous pouvez charger le programme actuel du CRF est ici\net voir des photos des précédentes sorties ici dès 2019 et ici de 2016 à 2018
URL:https://www.arb-cdb.ch/event/sortie-a-velo-les-3-lacs-ou-le-jura-2025/
CATEGORIES:Excursion,Gratuit,Ouvert à tous
ATTACH;FMTTYPE=image/png:https://www.arb-cdb.ch/wp-content/uploads/CRF_TexteEtTout400px.png
ORGANIZER;CN="CRF Christian W%C3%BCthrich":MAILTO:christian@c3c4.ch
END:VEVENT
BEGIN:VEVENT
DTSTART;VALUE=DATE:20250802
DTEND;VALUE=DATE:20250810
DTSTAMP:20260420T054251
CREATED:20250305T101509Z
LAST-MODIFIED:20250305T102419Z
UID:11083-1754092800-1754783999@www.arb-cdb.ch
SUMMARY:Une semaine à Bad Wörishofen (Bavière\, D)
DESCRIPTION:Cet été\, du 2 au 9 août 2025\, la Paroisse réformée de Berne a le grand plaisir de vous convier à\nune semaine de vacances à Bad Wörishofen (Bavière\, D).\nC’est ouvert à toutes les personnes qui souhaitent passer une semaine en commun\, sans distinction d’âge ni de confession. Que vous soyez bons marcheurs ou que vous ayez l’intention de contempler le panorama depuis la terrasse\, le programme sera adapté à vos besoins.\nLe bulletin d’inscription (délai 15 mai 2025) au format Word est ici\, au format pdf est ici.
URL:https://www.arb-cdb.ch/event/une-semaine-a-bad-woerishofen2025/
CATEGORIES:Excursion,Ouvert à tous,Payant,sur inscription
ATTACH;FMTTYPE=image/jpeg:https://www.arb-cdb.ch/wp-content/uploads/2025/03/Les-vacances-2025-ImEnA.jpg
ORGANIZER;CN="Paroisse r%C3%A9form%C3%A9e fran%C3%A7aise%2C rencontres et vacances avec Sarah Vollert":MAILTO:sarah.vollert@egliserefberne.ch
END:VEVENT
BEGIN:VEVENT
DTSTART;TZID=Europe/Paris:20250802T120000
DTEND;TZID=Europe/Paris:20250802T130000
DTSTAMP:20260420T054251
CREATED:20250203T150022Z
LAST-MODIFIED:20250203T150025Z
UID:10940-1754136000-1754139600@www.arb-cdb.ch
SUMMARY:ESTIVALE n° 6
DESCRIPTION:ESTIVALE N° 6\n \nRécital d’orgue\navec Freddie James \n  \n 
URL:https://www.arb-cdb.ch/event/estivale-n-6/
LOCATION:Église française de Berne\, Zeughausgasse 8\, 3011 Berne\, Switzerland
CATEGORIES:Collecte,Musique,Ouvert à tous
END:VEVENT
BEGIN:VEVENT
DTSTART;VALUE=DATE:20250807
DTEND;VALUE=DATE:20250810
DTSTAMP:20260420T054251
CREATED:20250504T104418Z
LAST-MODIFIED:20250504T104928Z
UID:11166-1754524800-1754783999@www.arb-cdb.ch
SUMMARY:Buskers 2025
DESCRIPTION:Buskers Bern Festival des Arts de Rue.\n3 soirs dès 18 h dans la vielle ville. Boire et manger jusqu’à minuit voir 0 h 30\, samedi dès 16 h.\,\nVendredi et samedi\, dès 15 h pour les enfants sur la Münsterplatteform.\nLe brace­let du festi­val et le programme: CHF 20.– pour les trois jours.\nPour les dona­teurs: CHF 30.– pour les trois jours (avec le brace­let de dona­teur\, l’entrée au Busker­shaus est gratuite les trois soirées).\nPour les enfants jusqu’à 12 ans\, sans le programme: CHF 5. – .\nLes artistes sont payés au chapeau : il circule entre les spectateurs pour collecter ce qui paye les artistes.\nUne brève description en français sur le site Bern.ch\nLes informations détaillées et pratiques (en allemand) sont ici
URL:https://www.arb-cdb.ch/event/buskers-2025/
CATEGORIES:Animation,Collecte,Festival,Musique,Ouvert à tous,Théâtre
ATTACH;FMTTYPE=image/jpeg:https://www.arb-cdb.ch/wp-content/uploads/2023/04/20230810buskers-5-9a41a2ff.jpg
END:VEVENT
BEGIN:VEVENT
DTSTART;TZID=Europe/Paris:20250809T120000
DTEND;TZID=Europe/Paris:20250809T130000
DTSTAMP:20260420T054251
CREATED:20250203T150146Z
LAST-MODIFIED:20250203T150150Z
UID:10942-1754740800-1754744400@www.arb-cdb.ch
SUMMARY:ESTIVALE n° 7
DESCRIPTION:ESTIVALE N° 7\n \nBrigitte Scholl\, mezzo-soprano\nKurt Meier\, orgue \n  \n 
URL:https://www.arb-cdb.ch/event/estivale-n-7/
LOCATION:Église française de Berne\, Zeughausgasse 8\, 3011 Berne\, Switzerland
CATEGORIES:Collecte,Musique,Ouvert à tous
END:VEVENT
BEGIN:VEVENT
DTSTART;TZID=Europe/Paris:20250813T125000
DTEND;TZID=Europe/Paris:20250813T183000
DTSTAMP:20260420T054251
CREATED:20250724T105213Z
LAST-MODIFIED:20250725T133110Z
UID:11425-1755089400-1755109800@www.arb-cdb.ch
SUMMARY:Promenade pédestre d'août
DESCRIPTION:L’équipe des randos pédestres de la paroisse réformée de Berne vous propose sa promenade pédestre\nd’août entre Emmenmatt et Langnau\, le long de l’Ilfis.\nRendez-vous à 12 h 50\, Treffpunkt gare de Berne. Départ 13 h 12\, voie 7\, direction Langnau i.E.\nPromenade chaque deuxième mercredi du mois\, de mars à novembre\nProchaines rando : 10 septembre (journée)\, 8 octobre\, 12 novembre
URL:https://www.arb-cdb.ch/event/promenade-pedestre-daout2025/
CATEGORIES:Excursion,Ouvert à tous
ATTACH;FMTTYPE=image/jpeg:https://www.arb-cdb.ch/wp-content/uploads/2022/05/LogoGroupePedestreEgliseFrancaiseDeBerne.jpg
END:VEVENT
BEGIN:VEVENT
DTSTART;VALUE=DATE:20250816
DTEND;VALUE=DATE:20250817
DTSTAMP:20260420T054251
CREATED:20250203T151248Z
LAST-MODIFIED:20250203T151253Z
UID:10950-1755302400-1755388799@www.arb-cdb.ch
SUMMARY:ORGELSPAZIERGANG
DESCRIPTION:ORGELSPAZIERGANG\n \nLes orgues de la ville de Berne en fête \n  \n 
URL:https://www.arb-cdb.ch/event/orgelspaziergang-4/
LOCATION:Église française de Berne\, Zeughausgasse 8\, 3011 Berne\, Switzerland
CATEGORIES:Collecte,Musique,Ouvert à tous
END:VEVENT
BEGIN:VEVENT
DTSTART;VALUE=DATE:20250817
DTEND;VALUE=DATE:20250818
DTSTAMP:20260420T054251
CREATED:20250525T192004Z
LAST-MODIFIED:20250525T192004Z
UID:11260-1755388800-1755475199@www.arb-cdb.ch
SUMMARY:Barbecue au bord de la Kander avec le CRF
DESCRIPTION:Le Club de randonnée et de ski de fond de Berne (CRF) vous invite à un\nBarbecue au bord de la Kander. Le super Feuerstelle Kander Spiezwiler nous y attend.\nBallade facile depuis la gare de Spiez\nAdressez-vous directement à l’organisatrice ou l’organisateur (voir plus bas) de préférence 2 jours avant la sortie.\nCela vous permet de recevoir les renseignements utiles et d’optimaliser les transports.\nVous pouvez charger le programme actuel du CRF est ici\net voir des photos des précédentes sorties ici dès 2019 et ici de 2016 à 2018
URL:https://www.arb-cdb.ch/event/barbecue-au-bord-de-la-kander-avec-le-crf-2025/
CATEGORIES:Excursion,Gratuit,sur inscription
END:VEVENT
BEGIN:VEVENT
DTSTART;VALUE=DATE:20250821
DTEND;VALUE=DATE:20250823
DTSTAMP:20260420T054251
CREATED:20250525T193122Z
LAST-MODIFIED:20250525T193122Z
UID:11262-1755734400-1755907199@www.arb-cdb.ch
SUMMARY:Marche dans les Alpes  valaisannes ou bernoises
DESCRIPTION:Le Club de randonnée et de ski de fond de Berne (CRF) vous invite à une\nmarche dans les Alpes valaisannes ou bernoises\nLe jour définitif de l’excursion\, jeudi ou vendredi\, dépend de la météo.\nAdressez-vous directement à l’organisatrice ou l’organisateur (voir plus bas) de préférence 2 jours avant la sortie.\nCela vous permet de recevoir les renseignements utiles et d’optimaliser les transports.\nVous pouvez charger le programme actuel du CRF est ici\net voir des photos des précédentes sorties ici dès 2019 et ici de 2016 à 2018
URL:https://www.arb-cdb.ch/event/marche-dans-lesalpes-valaisannes-ou-bernoises-2025/
CATEGORIES:Excursion,Gratuit,Ouvert à tous
ATTACH;FMTTYPE=image/png:https://www.arb-cdb.ch/wp-content/uploads/CRF_TexteEtTout400px.png
END:VEVENT
BEGIN:VEVENT
DTSTART;TZID=Europe/Paris:20250823T120000
DTEND;TZID=Europe/Paris:20250823T130000
DTSTAMP:20260420T054251
CREATED:20250203T150429Z
LAST-MODIFIED:20250203T150433Z
UID:10944-1755950400-1755954000@www.arb-cdb.ch
SUMMARY:ESTIVALE n° 8
DESCRIPTION:ESTIVALE N° 8\n \nIntercity Flute Players Bern \n  \n 
URL:https://www.arb-cdb.ch/event/estivale-n-8/
LOCATION:Église française de Berne\, Zeughausgasse 8\, 3011 Berne\, Switzerland
CATEGORIES:Collecte,Musique,Ouvert à tous
END:VEVENT
BEGIN:VEVENT
DTSTART;TZID=Europe/Paris:20250828T180000
DTEND;TZID=Europe/Paris:20250828T210000
DTSTAMP:20260420T054251
CREATED:20250107T145431Z
LAST-MODIFIED:20250107T153657Z
UID:10817-1756404000-1756414800@www.arb-cdb.ch
SUMMARY:Chronique d'un rêve\, au Ciné-CLAP
DESCRIPTION:Film d’Edgar Reitz\, 2013.\nDans un village marqué par la misère\, alors que les idée libérales et les découvertes secouent l’Allemagne\, un jeune paysan parvient à émanciper son esprit et son âme grâce à la lecture des livres d’un grand voyageur. Une véritable ode à la vie intérieure.\nVersion originale (D) sous-titrée en français.\nOrganisé par le Ciné-CLAP de l’Église réformée de Berne\,\nApéro de bienvenue dès 18 h. Projection à 19 h (durée du film : 1 h 47).\nAu CAP\, Predigergasse 3\, Berne\nChaque projection est suivie d’une collecte. Prix indicatif: 15 CHF.
URL:https://www.arb-cdb.ch/event/chronique-d_un-reve-cine-clap/
LOCATION:CAP\, Maison de paroisse de la Paroisse réformée française\, Predigergasse 3\, 3011 Berne\, Suisse
CATEGORIES:Collecte,Film s.-t. fr,Gratuit,Ouvert à tous
ATTACH;FMTTYPE=image/jpeg:https://www.arb-cdb.ch/wp-content/uploads/2025/01/ChoniqueDUnReve.jpg
END:VEVENT
BEGIN:VEVENT
DTSTART;TZID=Europe/Paris:20250829T170000
DTEND;TZID=Europe/Paris:20250829T220000
DTSTAMP:20260420T054251
CREATED:20250820T103315Z
LAST-MODIFIED:20250820T103315Z
UID:11475-1756486800-1756504800@www.arb-cdb.ch
SUMMARY:Fête d'été au Quartier des musées de Berne
DESCRIPTION:Le vendredi 29 août à partir de 17 heures\, la fête d’été au Quartier des Musées de Berne vous invite à flâner\, danser et savourer – avec un marché aux puces\, une discothèque à rollers et de délicieux plats
URL:https://www.arb-cdb.ch/event/fete-dete-au-quartie-des-musees-de-berne-2025/
CATEGORIES:Animation,Ouvert à tous
END:VEVENT
BEGIN:VEVENT
DTSTART;TZID=Europe/Paris:20250830T120000
DTEND;TZID=Europe/Paris:20250830T130000
DTSTAMP:20260420T054251
CREATED:20250203T150543Z
LAST-MODIFIED:20250203T150546Z
UID:10946-1756555200-1756558800@www.arb-cdb.ch
SUMMARY:ESTIVALE n° 9
DESCRIPTION:ESTIVALE N° 9\n \nPascale Van Coppenolle\, orgue\nRichard Lepetit\, percussions \n  \n 
URL:https://www.arb-cdb.ch/event/estivale-n-9/
LOCATION:Église française de Berne\, Zeughausgasse 8\, 3011 Berne\, Switzerland
CATEGORIES:Collecte,Musique,Ouvert à tous
END:VEVENT
BEGIN:VEVENT
DTSTART;VALUE=DATE:20250831
DTEND;VALUE=DATE:20250901
DTSTAMP:20260420T054251
CREATED:20250525T200812Z
LAST-MODIFIED:20250525T200812Z
UID:11268-1756598400-1756684799@www.arb-cdb.ch
SUMMARY:Vélo de Schwarzenburg au pied du Gantrich et  Schwarzenburg avec le CRF
DESCRIPTION:Le Club de randonnée et de ski de fond de Berne (CRF) vous invite à une\nsortie à vélo au pied du Gantrisch depuis Schwarzenburg. 40 km\, 650 m de dénivelé. \nAdressez-vous directement à l’organisatrice ou l’organisateur (voir plus bas) de préférence avant le jeudi soir.\nCela vous permet de recevoir les renseignements utiles et d’optimaliser les transports.\nVous pouvez charger le programme actuel du CRF est ici\net voir des photos des précédentes sorties ici dès 2019 et ici de 2016 à 2018
URL:https://www.arb-cdb.ch/event/velo-de-schwarzenburg-au-pied-du-gantrich-et-schwarzenburg-avec-le-crf-2025/
CATEGORIES:Excursion,Gratuit,sur inscription
END:VEVENT
END:VCALENDAR