BEGIN:VCALENDAR
VERSION:2.0
PRODID:-//Association Romande et francophone de Berne et environs - ECPv6.15.20//NONSGML v1.0//EN
CALSCALE:GREGORIAN
METHOD:PUBLISH
X-WR-CALNAME:Association Romande et francophone de Berne et environs
X-ORIGINAL-URL:https://www.arb-cdb.ch
X-WR-CALDESC:Évènements pour Association Romande et francophone de Berne et environs
REFRESH-INTERVAL;VALUE=DURATION:PT1H
X-Robots-Tag:noindex
X-PUBLISHED-TTL:PT1H
BEGIN:VTIMEZONE
TZID:Europe/Paris
BEGIN:DAYLIGHT
TZOFFSETFROM:+0100
TZOFFSETTO:+0200
TZNAME:CEST
DTSTART:20240331T010000
END:DAYLIGHT
BEGIN:STANDARD
TZOFFSETFROM:+0200
TZOFFSETTO:+0100
TZNAME:CET
DTSTART:20241027T010000
END:STANDARD
BEGIN:DAYLIGHT
TZOFFSETFROM:+0100
TZOFFSETTO:+0200
TZNAME:CEST
DTSTART:20250330T010000
END:DAYLIGHT
BEGIN:STANDARD
TZOFFSETFROM:+0200
TZOFFSETTO:+0100
TZNAME:CET
DTSTART:20251026T010000
END:STANDARD
BEGIN:DAYLIGHT
TZOFFSETFROM:+0100
TZOFFSETTO:+0200
TZNAME:CEST
DTSTART:20260329T010000
END:DAYLIGHT
BEGIN:STANDARD
TZOFFSETFROM:+0200
TZOFFSETTO:+0100
TZNAME:CET
DTSTART:20261025T010000
END:STANDARD
END:VTIMEZONE
BEGIN:VEVENT
DTSTART;TZID=Europe/Paris:20250605T170000
DTEND;TZID=Europe/Paris:20250605T213000
DTSTAMP:20260420T022349
CREATED:20241126T175549Z
LAST-MODIFIED:20250107T154125Z
UID:10605-1749142800-1749159000@www.arb-cdb.ch
SUMMARY:Les Enfants du Paradis\, au Ciné-CLAP
DESCRIPTION:Film de Marcel Carné\, 1945\nLes amants immortels Baptiste et Garance vous entraineront à nouveau dans le monde émerveillé des artistes et des poètes\, celui d’une Paris où l’élégance pénètre même le langage des mauvais garçons.\nOrganisé par le Ciné-CLAP de l’Église réformée de Berne\,\nApéro de bienvenue dès 17 h. Projection à 18 h (durée 3 h 09).\nAu CAP\, Predigergasse 3\, Berne\nChaque projection est suivie d’une collecte. Prix indicatif: 15 CHF.
URL:https://www.arb-cdb.ch/event/les-enfants-du-paradis-au-cine-clap/
LOCATION:CAP\, Maison de paroisse de la Paroisse réformée française\, Predigergasse 3\, 3011 Berne\, Suisse
CATEGORIES:Collecte,Film projeté en français,Film v.o. fr,Gratuit,Ouvert à tous
ATTACH;FMTTYPE=image/jpeg:https://www.arb-cdb.ch/wp-content/uploads/2024/11/LesEnfantsDuParadis.jpg
END:VEVENT
BEGIN:VEVENT
DTSTART;VALUE=DATE:20250606
DTEND;VALUE=DATE:20250607
DTSTAMP:20260420T022349
CREATED:20250508T183919Z
LAST-MODIFIED:20250508T183919Z
UID:11210-1749168000-1749254399@www.arb-cdb.ch
SUMMARY:Invitation à la sortie de la SNB
DESCRIPTION:La Société des Neuchâtelois de Berne (SNB) a le plaisir de vous inviter\nà sa traditionnelle sortie de printemps dans le canton de Neuchâtel\,\nmusée de l’Absinthe à Moutier\nManifestation ouverte à tous sur inscription jusqu’au 28 mai 2025
URL:https://www.arb-cdb.ch/event/invitation-sortie-de-la-snb-2025/
CATEGORIES:Excursion,Ouvert à tous,Payant,sur inscription
ORGANIZER;CN="Soci%C3%A9t%C3%A9 des Neuch%C3%A2telois %C3%A0 Berne":MAILTO:muehlemann.alfred@bluewin.ch
END:VEVENT
BEGIN:VEVENT
DTSTART;VALUE=DATE:20250606
DTEND;VALUE=DATE:20250608
DTSTAMP:20260420T022349
CREATED:20250521T125042Z
LAST-MODIFIED:20250521T125042Z
UID:11243-1749168000-1749340799@www.arb-cdb.ch
SUMMARY:Charmey - La Valsainte – Charmey (vallée du Javro) avec le CRF
DESCRIPTION:Le Club de randonnée et de ski de fond de Berne (CRF) vous invite à une\nrandonnée dans la vallée du Javro\, env. 11 km\, 3 h 30\,  ↓↑ 300 m.\nLa date définitive\, vendredi ou samedi\, de l’excursion dépend de la météo.\nAdressez-vous directement à l’organisatrice ou l’organisateur (voir plus bas) de préférence avant le jeudi soir.\nCela vous permet de recevoir les renseignements utiles et d’optimaliser les transports.\nVous pouvez charger le programme actuel du CRF est ici\net voir des photos des précédentes sorties ici dès 2019 et ici de 2016 à 2018
URL:https://www.arb-cdb.ch/event/charmey-la-valsainte-charmey_vallee-du-javro-2025/
CATEGORIES:Excursion,Gratuit,Ouvert à tous
ATTACH;FMTTYPE=image/png:https://www.arb-cdb.ch/wp-content/uploads/CRF_TexteEtTout400px.png
END:VEVENT
BEGIN:VEVENT
DTSTART;TZID=Europe/Paris:20250606T100000
DTEND;TZID=Europe/Paris:20250606T113000
DTSTAMP:20260420T022349
CREATED:20250306T161552Z
LAST-MODIFIED:20250508T185116Z
UID:11097-1749204000-1749209400@www.arb-cdb.ch
SUMMARY:Les rendez-vous de l'ARB
DESCRIPTION:Nous vous invitons à nous rejoindre autour d’un café le premier vendredi du mois à 10h00 au restaurant Molino\, Waisenhausplatz 13\, 3011 Berne. Pour plus de renseignements : susanafankhauser@yahoo.fr.
URL:https://www.arb-cdb.ch/event/les-rendez-vous-de-larb-2025-6/
LOCATION:Restaurant Molino\, Waisenhausplatz 13\, 3011 Berne
CATEGORIES:Ouvert à tous,Réunion
END:VEVENT
BEGIN:VEVENT
DTSTART;VALUE=DATE:20250609
DTEND;VALUE=DATE:20250614
DTSTAMP:20260420T022349
CREATED:20250525T181833Z
LAST-MODIFIED:20250525T181833Z
UID:11246-1749427200-1749859199@www.arb-cdb.ch
SUMMARY:Pentecôte à vélo avec le CRF\, région de Beaune
DESCRIPTION:Le Club de randonnée et de ski de fond de Berne (CRF) vous invite à  venir avec lui\n5 jour à Beaune\, avec 3 jours de randonnée à vélo. Rendez-vous à Beaune\nLes inscriptions sont terminées\,\nmais en cas d’intérêt adressez-vous directement aux organisateurs (voir plus bas).\nVous pouvez charger le programme actuel du CRF est ici\net voir des photos des précédentes sorties ici dès 2019 et ici de 2016 à 2018
URL:https://www.arb-cdb.ch/event/pentecote-a-velo-avec-le-crf-region-de-beaune/
CATEGORIES:Excursion,Ouvert à tous,sur inscription
ATTACH;FMTTYPE=image/png:https://www.arb-cdb.ch/wp-content/uploads/CRF_TexteEtTout400px.png
ORGANIZER;CN="CRF Danielle et Jean-Fr. Perrochet":MAILTO:jean-fr.perrochet@bluewin.ch
END:VEVENT
BEGIN:VEVENT
DTSTART;TZID=Europe/Paris:20250611T081000
DTEND;TZID=Europe/Paris:20250611T182200
DTSTAMP:20260420T022349
CREATED:20250521T122617Z
LAST-MODIFIED:20250521T122617Z
UID:11241-1749629400-1749666120@www.arb-cdb.ch
SUMMARY:Promenade pédestre de juin
DESCRIPTION:L’équipe des randos pédestres de la paroisse réformée de Berne vous propose sa promenade pédestre\nd’un jour en juin au Lauenensee.\nRendez-vous à 8 h 10\, Treffpunkt gare de Berne. Départ du train en direction de Zweisimmen : 8 h 39\, quai 9\nPour cette journée\, s’inscrire jusqu’au 2 juin (feuille d’insciption au format pdf ou au format odt\, compatible Word) \nPromenade chaque deuxième mercredi du mois\, de mars à novembre\nProchaines rando : 9 juillet \, 13 août\, 10 septembre (journée)\, 8 octobre\, 12 novembre
URL:https://www.arb-cdb.ch/event/promenade-pedestre-de-juin-2025/
CATEGORIES:Excursion,Ouvert à tous,sur inscription
ATTACH;FMTTYPE=image/jpeg:https://www.arb-cdb.ch/wp-content/uploads/2022/05/LogoGroupePedestreEgliseFrancaiseDeBerne.jpg
END:VEVENT
BEGIN:VEVENT
DTSTART;TZID=Europe/Paris:20250614T120000
DTEND;TZID=Europe/Paris:20250614T130000
DTSTAMP:20260420T022349
CREATED:20250203T143752Z
LAST-MODIFIED:20250203T143945Z
UID:10920-1749902400-1749906000@www.arb-cdb.ch
SUMMARY:LES ESTIVALES 2025
DESCRIPTION:Estivale INAUGURATION\n \nInauguration de la plaque des donatrices/donateurs\npour l’orgue Kuhn\n\n \n 
URL:https://www.arb-cdb.ch/event/les-estivales-2025/
LOCATION:Église française de Berne\, Zeughausgasse 8\, 3011 Berne\, Switzerland
CATEGORIES:Collecte,Musique,Ouvert à tous
END:VEVENT
BEGIN:VEVENT
DTSTART;VALUE=DATE:20250621
DTEND;VALUE=DATE:20250623
DTSTAMP:20260420T022349
CREATED:20250620T164038Z
LAST-MODIFIED:20250620T164038Z
UID:11293-1750464000-1750636799@www.arb-cdb.ch
SUMMARY:Les 20 ans du Zentrum Paul Klee et du Creaviva
DESCRIPTION:En 2025\, le Zentrum Paul Klee et le Creaviva fêtent leurs 20 ans d’existence. À l’occasion de cet anniversaire\, un programme varié constitué d’expositions prestigieuses\, de temps forts dans les domaines de la musique\, la littérature et la médiation artistique\, ainsi que du projet agricole FRUCHTLAND. \nSamedi 21 juin des évènement et animations de 10 à 24 h\, dimanche 22 juin de 10 à 18 h\nTous les détails et le programme complet sont ici
URL:https://www.arb-cdb.ch/event/les-20-ans-du-zentrum-paul-klee-et-du-creaviva/
LOCATION:Centre Paul Klee\, Monument im Fruchtland 3\, Berne\, 3006\, Suisse
CATEGORIES:Animation,Festival,Ouvert à tous
ATTACH;FMTTYPE=image/jpeg:https://www.arb-cdb.ch/wp-content/uploads/2025/06/20250621a22-20ansPaulKlee.jpg
END:VEVENT
BEGIN:VEVENT
DTSTART;TZID=Europe/Paris:20250621T120000
DTEND;TZID=Europe/Paris:20250621T130000
DTSTAMP:20260420T022349
CREATED:20250203T144418Z
LAST-MODIFIED:20250203T144422Z
UID:10924-1750507200-1750510800@www.arb-cdb.ch
SUMMARY:ESTIVALE
DESCRIPTION:FETE DE LA MUSIQUE\n \navec les étudiants de la HKB\nhochschule der Künste Bern \n  \n 
URL:https://www.arb-cdb.ch/event/estivale/
LOCATION:Église française de Berne\, Zeughausgasse 8\, 3011 Berne\, Switzerland
CATEGORIES:Collecte,Musique,Ouvert à tous
END:VEVENT
BEGIN:VEVENT
DTSTART;VALUE=DATE:20250624
DTEND;VALUE=DATE:20250626
DTSTAMP:20260420T022349
CREATED:20250525T182810Z
LAST-MODIFIED:20250525T184846Z
UID:11248-1750723200-1750895999@www.arb-cdb.ch
SUMMARY:Course de Gruyères à Bulle avec le CRF
DESCRIPTION:Le Club de randonnée et de ski de fond de Berne (CRF) vous invite à une\nrandonnée de Gruyères à Bulle.\nLe jour définitif de l’excursion\, mardi ou mercredi\, dépend de la météo.\nAdressez-vous directement à l’organisatrice ou l’organisateur (voir plus bas) de préférence 2 jours avant la sortie.\nCela vous permet de recevoir les renseignements utiles et d’optimaliser les transports.\nVous pouvez charger le programme actuel du CRF est ici\net voir des photos des précédentes sorties ici dès 2019 et ici de 2016 à 2018
URL:https://www.arb-cdb.ch/event/course-de-gruyeres-a-bulle-avec-le-crf/
CATEGORIES:Excursion,Gratuit,Ouvert à tous
ATTACH;FMTTYPE=image/png:https://www.arb-cdb.ch/wp-content/uploads/CRF_TexteEtTout400px.png
END:VEVENT
BEGIN:VEVENT
DTSTART;VALUE=DATE:20250626
DTEND;VALUE=DATE:20250627
DTSTAMP:20260420T022349
CREATED:20241219T203344Z
LAST-MODIFIED:20250430T171441Z
UID:10728-1750896000-1750982399@www.arb-cdb.ch
SUMMARY:Sortie d’été de la SFB
DESCRIPTION:La Société fribourgeoise de Berne (SFB) a le plaisir de vous inviter à\nsa sortie d’été qui se fera au Salon de musique de Cormoret\,\nManifestation ouverte à tous sur inscription jusqu’au 30 mai 2025
URL:https://www.arb-cdb.ch/event/sortie-dete-de-la-sfb-2025/
LOCATION:Salon de musique\, Vieille-Route 22\, Cormoret\, 2612\, Suisse
CATEGORIES:Excursion,Musique,Ouvert à tous,Payant,sur inscription
END:VEVENT
END:VCALENDAR