BEGIN:VCALENDAR
VERSION:2.0
PRODID:-//Association Romande et francophone de Berne et environs - ECPv6.15.20//NONSGML v1.0//EN
CALSCALE:GREGORIAN
METHOD:PUBLISH
X-WR-CALNAME:Association Romande et francophone de Berne et environs
X-ORIGINAL-URL:https://www.arb-cdb.ch
X-WR-CALDESC:Évènements pour Association Romande et francophone de Berne et environs
REFRESH-INTERVAL;VALUE=DURATION:PT1H
X-Robots-Tag:noindex
X-PUBLISHED-TTL:PT1H
BEGIN:VTIMEZONE
TZID:Europe/Paris
BEGIN:DAYLIGHT
TZOFFSETFROM:+0100
TZOFFSETTO:+0200
TZNAME:CEST
DTSTART:20240331T010000
END:DAYLIGHT
BEGIN:STANDARD
TZOFFSETFROM:+0200
TZOFFSETTO:+0100
TZNAME:CET
DTSTART:20241027T010000
END:STANDARD
BEGIN:DAYLIGHT
TZOFFSETFROM:+0100
TZOFFSETTO:+0200
TZNAME:CEST
DTSTART:20250330T010000
END:DAYLIGHT
BEGIN:STANDARD
TZOFFSETFROM:+0200
TZOFFSETTO:+0100
TZNAME:CET
DTSTART:20251026T010000
END:STANDARD
BEGIN:DAYLIGHT
TZOFFSETFROM:+0100
TZOFFSETTO:+0200
TZNAME:CEST
DTSTART:20260329T010000
END:DAYLIGHT
BEGIN:STANDARD
TZOFFSETFROM:+0200
TZOFFSETTO:+0100
TZNAME:CET
DTSTART:20261025T010000
END:STANDARD
END:VTIMEZONE
BEGIN:VEVENT
DTSTART;VALUE=DATE:20250302
DTEND;VALUE=DATE:20250303
DTSTAMP:20260420T022430
CREATED:20241229T192138Z
LAST-MODIFIED:20250228T153142Z
UID:10798-1740873600-1740873600@www.arb-cdb.ch
SUMMARY:Randonnée dans la région de Gstaad-Saanenmöser
DESCRIPTION:Le Club de randonnée et de ski de fond de Berne (CRF) vous invite à une\nrandonnée pédestre dans la région de Gstaad-Saanenmöser\, env. 3 h\nLa date définitive\, dimanche ou lundi\, de l’excursion dépend de la météo.\nAdressez-vous directement à l’organisatrice ou l’organisateur (voir plus bas) de préférence avant le jeudi soir.\nCela vous permet de recevoir les renseignements utiles et d’optimaliser les transports.\nVous pouvez charger le programme actuel du CRF est ici\net voir des photos des précédentes sorties ici dès 2019 et ici de 2016 à 2018
URL:https://www.arb-cdb.ch/event/randonnee-dans-la-region-de-gtaad-saanemoeser-202503/
CATEGORIES:Excursion,Gratuit,Ouvert à tous
ATTACH;FMTTYPE=image/png:https://www.arb-cdb.ch/wp-content/uploads/CRF_TexteEtTout400px.png
END:VEVENT
BEGIN:VEVENT
DTSTART;TZID=Europe/Paris:20250305T180000
DTEND;TZID=Europe/Paris:20250305T190000
DTSTAMP:20260420T022430
CREATED:20250124T144948Z
LAST-MODIFIED:20250124T165041Z
UID:10870-1741197600-1741201200@www.arb-cdb.ch
SUMMARY:Pourquoi les belettes ressemblent-elles à des petites saucisses sur pattes ?
DESCRIPTION:Le musée d’histoire naturelle (nmbe) organise 2 visites en français (5 et 6 mars) avec Madame Anne-Claire Fabre\, conservatrice pour les mammifères au nmbe.\nComme elle vient de France\, il tient à cœur du musée de proposer des visites publiques des collections également en français.\nAlors profitez d’une de ces 2 visites guidées en coulisse\, en français.\n Toutes les informations et inscriptions sur la page dédiée du nmbe.
URL:https://www.arb-cdb.ch/event/pourquoi-les-belettes-ressemblent-elles-a-des-petites-saucisses-sur-pattes-1/
LOCATION:Musée d’histoire naturelle\, Bernastrasse 15\, 3005 Berne\, Suisse
CATEGORIES:Ouvert à tous,Payant,sur inscription,Visite guidée
ATTACH;FMTTYPE=image/jpeg:https://www.arb-cdb.ch/wp-content/uploads/2025/01/NMBE_Anne-Claire_FabreRED.jpg
END:VEVENT
BEGIN:VEVENT
DTSTART;TZID=Europe/Paris:20250306T121500
DTEND;TZID=Europe/Paris:20250306T131500
DTSTAMP:20260420T022430
CREATED:20250124T145450Z
LAST-MODIFIED:20250124T165524Z
UID:10877-1741263300-1741266900@www.arb-cdb.ch
SUMMARY:Pourquoi les belettes ressemblent-elles à des petites saucisses sur pattes ?
DESCRIPTION:Le musée d’histoire naturelle (nmbe) organise 2 visites en français (5 et 6 mars) avec Madame Anne-Claire Fabre\, conservatrice pour les mammifères au nmbe.\nComme elle vient de France\, il tient à cœur du musée de proposer des visites publiques des collections également en français.\nAlors profitez d’une de ces 2 visites guidées en coulisse\, en français.\n Toutes les informations et inscriptions sur la page dédiée du nmbe.
URL:https://www.arb-cdb.ch/event/pourquoi-les-belettes-ressemblent-elles-a-des-petites-saucisses-sur-pattes-2/
LOCATION:Musée d’histoire naturelle\, Bernastrasse 15\, 3005 Berne\, Suisse
CATEGORIES:Ouvert à tous,Payant,sur inscription,Visite guidée
ATTACH;FMTTYPE=image/jpeg:https://www.arb-cdb.ch/wp-content/uploads/2025/01/NMBE_Anne-Claire_FabreRED.jpg
END:VEVENT
BEGIN:VEVENT
DTSTART;TZID=Europe/Paris:20250306T141500
DTEND;TZID=Europe/Paris:20250306T160000
DTSTAMP:20260420T022430
CREATED:20240611T091352Z
LAST-MODIFIED:20240611T091352Z
UID:10113-1741270500-1741276800@www.arb-cdb.ch
SUMMARY:Conférence UNAB
DESCRIPTION:Zoé Kergomard \nMaître-assistante en histoire contemporaine\, Université de Zurich \n1971\, une révolution? Perceptions et conséquences du suffrage féminin dans l’histoire démocratique suisse \nLes hommes suisses ont attendu 1971 pour accepter l’introduction du suffrage féminin dans la constitution fédérale. Si les multiples causes de ce retard en comparaison internationale sont entre temps bien connues\, cette conférence souhaite en interroger l’impact sur l’histoire de la démocratie suisse. Quelles traces ont laissé des décennies de «démocratie des hommes» («Männerdemokratie») dans la culture et les pratiques politiques? Que s’est-il concrètement passé lors de l’introduction du suffrage féminin? Comment ce tournant a-t-il été appréhendé à l’époque? Peut-on parler d’une révolution? Avec quelles marges de manœuvre les Suissesses ont-elles pu exercer leurs nouveaux droits politiques? Quel bilan peut-on faire de leur arrivée dans l’espace politique? En quoi la longue histoire des luttes pour l’égalité politique résonne-t-elle encore aujourd’hui? \nCette page est tirée du site de l’UNAB.
URL:https://www.arb-cdb.ch/event/conference-unab-250306/
LOCATION:Fondation ascaro\, Belpstrasse 37\, 3007 Berne\, Suisse
CATEGORIES:Conférence,Payant pour les non-membres
ORGANIZER;CN="Universit%C3%A9 des A%C3%AEn%C3%A9s de langue fran%C3%A7aise de Berne   ( UNAB )":MAILTO:unab@bluewin.ch
END:VEVENT
BEGIN:VEVENT
DTSTART;TZID=Europe/Paris:20250307T100000
DTEND;TZID=Europe/Paris:20250307T113000
DTSTAMP:20260420T022430
CREATED:20250306T160829Z
LAST-MODIFIED:20250306T160958Z
UID:11092-1741341600-1741347000@www.arb-cdb.ch
SUMMARY:Les rendez-vous de l'ARB
DESCRIPTION:Nous vous invitons à nous rejoindre autour d’un café le premier vendredi du mois à 10h00 au restaurant Molino\, Waisenhausplatz 13\, 3011 Berne. Pour plus de renseignements : susanafankhauser@yahoo.fr.
URL:https://www.arb-cdb.ch/event/les-rendez-vous-de-larb-3-2/
LOCATION:Restaurant Molino\, Waisenhausplatz 13\, 3011 Berne
CATEGORIES:Ouvert à tous,Réunion
END:VEVENT
BEGIN:VEVENT
DTSTART;TZID=Europe/Paris:20250312T125000
DTEND;TZID=Europe/Paris:20250312T163000
DTSTAMP:20260420T022430
CREATED:20250228T152346Z
LAST-MODIFIED:20250228T152346Z
UID:11031-1741783800-1741797000@www.arb-cdb.ch
SUMMARY:Promenade pédestre de mars
DESCRIPTION:L’équipe des randos pédestres de la paroisse réformée de Berne vous propose sa promenade pédestre\nde mars\, première rando de 2025\nDe Fraubrunnen la marche est aisée; elle dure env. 1h50 sur des sentiers plats et des chemins de campagne ainsi qu’au-travers d’une forêt.\nRendez-vous à 12 h 50\, Treffpunkt gare de Berne. RBS voie 21 départ 13 h 05\nChaque deuxième mercredi du mois\, de mars à novembre\nProchaines rando : 9 avril\, 14 mai\, 11 juin (journée)\, 9 juillet \, 13 août\, 10 septembre (journée)\, 8 octobre\, 12 novembre
URL:https://www.arb-cdb.ch/event/promenade-pedestre-de-mars-2025/
CATEGORIES:Excursion,Ouvert à tous
ATTACH;FMTTYPE=image/jpeg:https://www.arb-cdb.ch/wp-content/uploads/2022/05/LogoGroupePedestreEgliseFrancaiseDeBerne.jpg
END:VEVENT
BEGIN:VEVENT
DTSTART;TZID=Europe/Paris:20250313T141500
DTEND;TZID=Europe/Paris:20250313T160000
DTSTAMP:20260420T022430
CREATED:20240611T091526Z
LAST-MODIFIED:20240611T091526Z
UID:10115-1741875300-1741881600@www.arb-cdb.ch
SUMMARY:Conférence UNAB
DESCRIPTION:Célia Sapart \nClimatologue et glaciologue suisse \nChangements climatiques: Apprendre du Passé pour Préparer Notre Futur \nLes changements climatiques font aujourd’hui partie du quotidien\, mais beaucoup de messages faussés circulent encore à leur sujet. Comment sait-on que le climat change? Quelles en sont les causes? Quelles sont les solutions pour atténuer les risques liés à ces changements? Allons-nous être capables de nous adapter? \nA travers ses récits d’expéditions polaires\, ses recherches et son travail au front de l’action climatique\, Célia Sapart répondra à ces questions et fera un état des lieux des connaissances sur l’état de notre climat tout en mettant en avant les solutions qui existent à tous les nouveaux de notre société pour créer des futurs souhaitables. \nCette page est tirée du site de l’UNAB.
URL:https://www.arb-cdb.ch/event/conference-unab-250313/
LOCATION:Fondation ascaro\, Belpstrasse 37\, 3007 Berne\, Suisse
CATEGORIES:Conférence,Payant pour les non-membres
ORGANIZER;CN="Universit%C3%A9 des A%C3%AEn%C3%A9s de langue fran%C3%A7aise de Berne   ( UNAB )":MAILTO:unab@bluewin.ch
END:VEVENT
BEGIN:VEVENT
DTSTART;TZID=Europe/Paris:20250313T181500
DTEND;TZID=Europe/Paris:20250313T210000
DTSTAMP:20260420T022430
CREATED:20250309T192028Z
LAST-MODIFIED:20250309T192520Z
UID:11108-1741889700-1741899600@www.arb-cdb.ch
SUMMARY:Cine Debat Rencontres vous invite à la projection du film " Le voyage d'Inuk " de Mike Magidson et à la deuxième édition de l’Aare de lire\, prix littéraire de la jeunesse bernoise.
DESCRIPTION:Découverte du Groënland sur les traces de Mike Magidson\, un périple vers le Grand Nord en compagnie d’Inuk\, un adolescent\, et Ikuma\, un chasseur d’ours. \n18h15 : Accueil et buffet\n19h20 : Remise du prix Littéraire l’Aare de lire suivie de la projection du film  » Le voyage d’Inuk  » \nInscriptions jusqu’au mardi 11 mars par mail :inscriptioncdr@gmail.com \n  \n  \n 
URL:https://www.arb-cdb.ch/event/cine-debat-rencontres-vous-invite-a-la-projection-du-film-le-voyage-dinuk-de-mike-magidson-et-a-la-deuxieme-edition-de-laare-de-lire-prix-litteraire-de-la-jeunesse-bernoise/
LOCATION:Freies Gymnasium\, Beaulieustrasse 55\, 3012 Berne\, Suisse
CATEGORIES:Film projeté en français
END:VEVENT
BEGIN:VEVENT
DTSTART;TZID=Europe/Paris:20250315T140000
DTEND;TZID=Europe/Paris:20250315T160000
DTSTAMP:20260420T022430
CREATED:20250203T135912Z
LAST-MODIFIED:20250203T140155Z
UID:10901-1742047200-1742054400@www.arb-cdb.ch
SUMMARY:CONCERT -- Masterclasse
DESCRIPTION:CONCERT ORGUE  \nMasterclasse BOV dès 09h00\nsuivi d’un concert sur le nouvel orgue Kuhn:\nThomas Leutenegger\nJürg Brunner\nAntonio Garcia \n  \n  \n  \n  \n  \n 
URL:https://www.arb-cdb.ch/event/concert-4/
LOCATION:Église française de Berne\, Zeughausgasse 8\, 3011 Berne\, Switzerland
CATEGORIES:Collecte,Musique,Ouvert à tous
END:VEVENT
BEGIN:VEVENT
DTSTART;TZID=Europe/Paris:20250320T141500
DTEND;TZID=Europe/Paris:20250320T160000
DTSTAMP:20260420T022430
CREATED:20240611T091821Z
LAST-MODIFIED:20240611T091821Z
UID:10117-1742480100-1742486400@www.arb-cdb.ch
SUMMARY:Conférence UNAB
DESCRIPTION:Gilles Borel \nConservateur en chef au Muséum cantonal des sciences naturelles de l’UNIL \nLe Chablais – une boite à idées géologiques qui raconte notre histoire du temps \nLe Chablais entre les cantons du Valais\, de Vaud et la France voisine cache une configuration géologique singulière sous l’aspect banal d’une région alpine creusée de vallées glaciaires. Celui-ci a permis l’émergence de deux théories géologiques à l’impact mondial: la théorie glaciaire en 1841 et la tectonique des nappes en 1903. Elle a également vu s’y développer deux outils de datation originaux aux conséquences surprenantes. \nAu rappel de ces évènements majeurs pris dans leur contexte d’époque\, c’est surtout leur utilisation qui va nous permettre de brosser une succession de paysages qui nous racontent les 300 derniers millions d’années d’«histoire suisse»! \nCette page est tirée du site de l’UNAB.
URL:https://www.arb-cdb.ch/event/conference-unab-250320/
LOCATION:Fondation ascaro\, Belpstrasse 37\, 3007 Berne\, Suisse
CATEGORIES:Conférence,Payant pour les non-membres
ORGANIZER;CN="Universit%C3%A9 des A%C3%AEn%C3%A9s de langue fran%C3%A7aise de Berne   ( UNAB )":MAILTO:unab@bluewin.ch
END:VEVENT
BEGIN:VEVENT
DTSTART;VALUE=DATE:20250322
DTEND;VALUE=DATE:20250324
DTSTAMP:20260420T022430
CREATED:20250228T153540Z
LAST-MODIFIED:20250228T154943Z
UID:11034-1742601600-1742774399@www.arb-cdb.ch
SUMMARY:Sortie à vélo\, région des 3 lacs
DESCRIPTION:Le Club de randonnée et de ski de fond de Berne (CRF) vous invite à une\nsortie à vélo dans la régin des 3 lacs\nLa date définitive\, samedi ou dimanche\, de l’excursion dépend de la météo.\nAdressez-vous directement à l’organisatrice ou l’organisateur (voir plus bas) de préférence avant le jeudi soir.\nCela vous permet de recevoir les renseignements utiles et d’optimaliser les transports.\nVous pouvez charger le programme actuel du CRF est ici\net voir des photos des précédentes sorties ici dès 2019 et ici de 2016 à 2018
URL:https://www.arb-cdb.ch/event/sortie-a-velo-region-des-3-lac2025/
CATEGORIES:Excursion,Gratuit,Ouvert à tous
ATTACH;FMTTYPE=image/png:https://www.arb-cdb.ch/wp-content/uploads/CRF_TexteEtTout400px.png
ORGANIZER;CN="CRF Christian W%C3%BCthrich":MAILTO:christian@c3c4.ch
END:VEVENT
BEGIN:VEVENT
DTSTART;TZID=Europe/Paris:20250325T141500
DTEND;TZID=Europe/Paris:20250325T160000
DTSTAMP:20260420T022430
CREATED:20240611T134558Z
LAST-MODIFIED:20240611T134558Z
UID:10151-1742912100-1742918400@www.arb-cdb.ch
SUMMARY:Séminaire UNAB de Mme Liselotte GOLLO (2/3)
DESCRIPTION:Séminaire en trois volets de Mme Liselotte GOLLO\n\nHistorienne de l’art \nLe maniérisme – de Pontormo à Bronzino\n(2e partie)\n\n\n\n\n\n\n  \n\n\n\n\n\n\n\n\n\n\nInscription: ici \nDocumentation: ici \nCette page est tirée du site de l’UNAB.
URL:https://www.arb-cdb.ch/event/seminaire-unab-250325/
LOCATION:Fondation ascaro\, Belpstrasse 37\, 3007 Berne\, Suisse
CATEGORIES:Payant,Payant pour les non-membres,Séminaire
ORGANIZER;CN="Universit%C3%A9 des A%C3%AEn%C3%A9s de langue fran%C3%A7aise de Berne   ( UNAB )":MAILTO:unab@bluewin.ch
END:VEVENT
BEGIN:VEVENT
DTSTART;TZID=Europe/Paris:20250325T190000
DTEND;TZID=Europe/Paris:20250325T200000
DTSTAMP:20260420T022430
CREATED:20250216T195345Z
LAST-MODIFIED:20250216T195345Z
UID:10997-1742929200-1742932800@www.arb-cdb.ch
SUMMARY:L’Alliance française de Berne vous invite à un entretien avec JACQUES de WATTEVILLE et JOSÉ GARCIA-ARANDA sur «La Suisse et l'Union européenne : accord-cadre\, enjeux et perspectives»
DESCRIPTION:
URL:https://www.arb-cdb.ch/event/lalliance-francaise-de-berne-vous-invite-a-un-entretien-avec-jacques-de-watteville-et-jose-garcia-aranda-sur-la-suisse-et-lunion-europeenne-accord-cadre-enjeux-et-perspectives/
LOCATION:Schulwarte\, Helvetiaplatz 2\, 3005 Berne\, Switzerland
CATEGORIES:Conférence
END:VEVENT
BEGIN:VEVENT
DTSTART;TZID=Europe/Paris:20250327T141500
DTEND;TZID=Europe/Paris:20250327T160000
DTSTAMP:20260420T022430
CREATED:20240611T092013Z
LAST-MODIFIED:20240611T092013Z
UID:10119-1743084900-1743091200@www.arb-cdb.ch
SUMMARY:Conférence UNAB
DESCRIPTION:Patrick Crispini \nChef d’orchestre\, musicien\, pédagogue \nVertiges de la valse\, une révolution à 3 temps \nDepuis 1958\, le monde se met au diapason de la grâce\, lors du concert de nouvel an retransmis chaque 1er janvier en eurovision depuis la salle dorée du Musikverein de Vienne. La valse viennoise mène le bal mais dissimule une histoire de conquête bien plus révolutionnaire qu’il n’y paraît. Le mot valse provient de l’allemand walzen (tourner en rond) qui a des origines très anciennes. Sa nature paysanne et sautillante va se métamorphoser au XIXe siècle en une danse de salon encore très corsetée. En 1774\, Goethe intègre la valse dans une scène célèbre des Souffrances du jeune Werther\, lui accordant une place désormais essentielle dans les élans du romantisme naissant. Elle fait son entrée dans les salons bourgeois. Dès le Congrès de Vienne de 1815\, on comprend la force mobilisatrice et fédératrice de cette danse à trois temps\, désormais libérée des codes de cour. On bâtit un peu partout des grandes salles de bal recouvertes de parquet ouvertes au public qui y manifeste son accession à de nouveaux plaisirs réservés jusque-là à l’aristocratie. Longtemps jugée inconvenante par son image de couple enlacé\, et non plus côte-à-côte ou vis-à-vis comme dans les danses de cour\, la valse inaugure une nouvelle sensualité. \nCette page est tirée du site de l’UNAB.
URL:https://www.arb-cdb.ch/event/conference-unab-250327/
LOCATION:Fondation ascaro\, Belpstrasse 37\, 3007 Berne\, Suisse
CATEGORIES:Conférence,Payant pour les non-membres
ORGANIZER;CN="Universit%C3%A9 des A%C3%AEn%C3%A9s de langue fran%C3%A7aise de Berne   ( UNAB )":MAILTO:unab@bluewin.ch
END:VEVENT
BEGIN:VEVENT
DTSTART;TZID=Europe/Paris:20250328T200000
DTEND;TZID=Europe/Paris:20250328T213000
DTSTAMP:20260420T022430
CREATED:20250203T140651Z
LAST-MODIFIED:20250203T140804Z
UID:10905-1743192000-1743197400@www.arb-cdb.ch
SUMMARY:CONCERT -- Duruflé\, requiem
DESCRIPTION:REQUIEM DE DURUFLE  \nEnsemble vocal Canto Vivo\nDirection: Brigitte Scholl\nMezzo-soprano: Stephanie Szanto\nOrgue Goll: Antonio Garcia \n  \n  \n  \n  \n  \n 
URL:https://www.arb-cdb.ch/event/concert-masterclasse-duplicatat/
LOCATION:Église française de Berne\, Zeughausgasse 8\, 3011 Berne\, Switzerland
CATEGORIES:Collecte,Musique,Ouvert à tous
END:VEVENT
BEGIN:VEVENT
DTSTART;TZID=Europe/Paris:20250329T190000
DTEND;TZID=Europe/Paris:20250329T190000
DTSTAMP:20260420T022430
CREATED:20250109T113821Z
LAST-MODIFIED:20250109T114548Z
UID:10838-1743274800-1743274800@www.arb-cdb.ch
SUMMARY:AareThéâtre : La bonne planque
DESCRIPTION:La troupe de théâtre amateur francophone de la ville de Berne\, AareThéâtre\, vous propose son nouveau spectacle : : \nLa bonne planque\, une comédie de Michel André\n\nPremière des 5 représentations à l’ECLF de son spectacle 2025\nVous êtes aussi les bienvenus au BArethéâtre\,\nouvert 1 heure avant chaque spectacle et 1 heure après. \n\n		\n			\n			\n		\n\n		\n 
URL:https://www.arb-cdb.ch/event/aaretheatre-la-bonne-planque/
LOCATION:Ecole cantonale de langue française\, Berne Jupiterstrasse 2\, 3015 Bern
CATEGORIES:Collecte,Ouvert à tous,Théâtre
END:VEVENT
BEGIN:VEVENT
DTSTART;TZID=Europe/Paris:20250330T170000
DTEND;TZID=Europe/Paris:20250330T170000
DTSTAMP:20260420T022430
CREATED:20250109T114813Z
LAST-MODIFIED:20250109T115859Z
UID:10844-1743354000-1743354000@www.arb-cdb.ch
SUMMARY:AareThéâtre : La bonne planque
DESCRIPTION:La troupe de théâtre amateur francophone de la ville de Berne\, AareThéâtre\, vous propose son nouveau spectacle : : \nLa bonne planque\, une comédie de Michel André\n\n2e des 5 représentations à l’ECLF de son spectacle 2025\nVous êtes aussi les bienvenus au BArethéâtre\,\nouvert 1 heure avant chaque spectacle et 1 heure après. \n\n		\n			\n			\n		\n\n		\n 
URL:https://www.arb-cdb.ch/event/aaretheatre-la-bonne-planque-2e/
LOCATION:Ecole cantonale de langue française\, Berne Jupiterstrasse 2\, 3015 Bern
CATEGORIES:Collecte,Ouvert à tous,Théâtre
END:VEVENT
END:VCALENDAR