BEGIN:VCALENDAR
VERSION:2.0
PRODID:-//Association Romande et francophone de Berne et environs - ECPv6.15.20//NONSGML v1.0//EN
CALSCALE:GREGORIAN
METHOD:PUBLISH
X-WR-CALNAME:Association Romande et francophone de Berne et environs
X-ORIGINAL-URL:https://www.arb-cdb.ch
X-WR-CALDESC:Évènements pour Association Romande et francophone de Berne et environs
REFRESH-INTERVAL;VALUE=DURATION:PT1H
X-Robots-Tag:noindex
X-PUBLISHED-TTL:PT1H
BEGIN:VTIMEZONE
TZID:Europe/Paris
BEGIN:DAYLIGHT
TZOFFSETFROM:+0100
TZOFFSETTO:+0200
TZNAME:CEST
DTSTART:20220327T010000
END:DAYLIGHT
BEGIN:STANDARD
TZOFFSETFROM:+0200
TZOFFSETTO:+0100
TZNAME:CET
DTSTART:20221030T010000
END:STANDARD
BEGIN:DAYLIGHT
TZOFFSETFROM:+0100
TZOFFSETTO:+0200
TZNAME:CEST
DTSTART:20230326T010000
END:DAYLIGHT
BEGIN:STANDARD
TZOFFSETFROM:+0200
TZOFFSETTO:+0100
TZNAME:CET
DTSTART:20231029T010000
END:STANDARD
BEGIN:DAYLIGHT
TZOFFSETFROM:+0100
TZOFFSETTO:+0200
TZNAME:CEST
DTSTART:20240331T010000
END:DAYLIGHT
BEGIN:STANDARD
TZOFFSETFROM:+0200
TZOFFSETTO:+0100
TZNAME:CET
DTSTART:20241027T010000
END:STANDARD
END:VTIMEZONE
BEGIN:VEVENT
DTSTART;TZID=Europe/Paris:20231202T110000
DTEND;TZID=Europe/Paris:20231202T130000
DTSTAMP:20260423T163153
CREATED:20231116T220832Z
LAST-MODIFIED:20231116T220832Z
UID:9446-1701514800-1701522000@www.arb-cdb.ch
SUMMARY:Lecture & dédicace chez Payot «Zwölf Fabeln/Douze fables de La Fontaine»
DESCRIPTION:La lecture sous forme de «Jeu théâtral» de Yves Seydoux et Valérie Valkanap\, sera suivie d’une séance de dédicace.\nEn présence de l’illustratrice\, Alice Lobsiger. \n\n		\n			\n			\n		\n\n		\n 
URL:https://www.arb-cdb.ch/event/lecture-dedicace-chez-payot-douse-fables-de-la-fontaine-bernois-francais/
CATEGORIES:Animation,dédicace,dédicace de livre,Gratuit,Ouvert à tous
END:VEVENT
BEGIN:VEVENT
DTSTART;TZID=Europe/Paris:20231205T180000
DTEND;TZID=Europe/Paris:20231205T223000
DTSTAMP:20260423T163153
CREATED:20231109T120535Z
LAST-MODIFIED:20231109T121541Z
UID:9434-1701799200-1701815400@www.arb-cdb.ch
SUMMARY:Rencontre annuelle Helvetia Latina - Alliance française avec la nouvelle présidente de la Confédération
DESCRIPTION:
URL:https://www.arb-cdb.ch/event/rencontre-annuelle-helvetia-latina/
LOCATION:Restaurant Kreuz\, Zeughausgasse 41\, Berne\, 3011\, Switzerland
CATEGORIES:Gratuit,Réception,sur inscription
END:VEVENT
BEGIN:VEVENT
DTSTART;TZID=Europe/Paris:20231207T141500
DTEND;TZID=Europe/Paris:20231207T160000
DTSTAMP:20260423T163153
CREATED:20230808T145608Z
LAST-MODIFIED:20230808T145608Z
UID:9126-1701958500-1701964800@www.arb-cdb.ch
SUMMARY:Conférence UNAB
DESCRIPTION:Pierre CLEITMAN \nComédien\, musicien et conférencier\, Paris \nComment devenir philosophe en 2 x 30 minutes (mi-temps comprise)\nEn 1971 était publié (à titre posthume) un Cours de philosophie en six heures un quart écrit par le grand écrivain polonais Witold Gombrowicz. Après avoir lu et apprécié ce chef-d’œuvre de brièveté et de pertinence pédagogique\, Pierre Cleitman a décidé de faire encore plus compact! \nTout va en effet beaucoup plus vite qu’il y a soixante ans et nos contemporains font preuve d’infiniment moins de patience. Pour réussir à capter leur attention distraite et sollicitée en permanence\, il faut désormais déployer des efforts inouïs de précision\, de concentration\, voire de miniaturisation. Trouver la formule expéditive et néanmoins pertinente. La formule qui fait mouche sans pour autant bourdonner! Pierre Cleitman nous demandera donc six fois moins de temps. Deux fois trente minutes seront nécessaires\, et même\, qui sait\, suffisantes. \nAvec éventuellement une mi­temps pour souffler un peu et poser les questions qui s’imposent.\nPour réussir cette initiation philosophique dans les délais impartis\, sera sollicité (entre autres) le spécialiste par excellence de la forme brève: le philosophe grec Héraclite\, surnommé Héraclite l’Obscur pour la luminosité paradoxale de ses aphorismes. \nEn voici un\, en avant-première: Si tout n’était que fumée\, nous connaîtrions par les narines… \n\n\n\n\n\n\n\n\n\n\n\n\n\n\n\nCette page est tirée du site de l’UNAB.
URL:https://www.arb-cdb.ch/event/conference-unab-231207/
LOCATION:Fondation ascaro\, Belpstrasse 37\, 3007 Berne\, Suisse
CATEGORIES:Conférence,Payant pour les non-membres
ORGANIZER;CN="Universit%C3%A9 des A%C3%AEn%C3%A9s de langue fran%C3%A7aise de Berne   ( UNAB )":MAILTO:unab@bluewin.ch
END:VEVENT
BEGIN:VEVENT
DTSTART;TZID=Europe/Paris:20231207T170000
DTEND;TZID=Europe/Paris:20231207T210000
DTSTAMP:20260423T163153
CREATED:20230114T183029Z
LAST-MODIFIED:20230117T113240Z
UID:8455-1701968400-1701982800@www.arb-cdb.ch
SUMMARY:Orgueil et préjugés\, au Ciné-CLAP
DESCRIPTION:Film de Joe Wright\, 2005\nD’après le roman de Jane Austen\, dans les magnifiques décors de l’Angleterre du 18ème siècle\, une intrigue mêlant romantisme brûlant et fine ironie. L’actrice Keira Knightley incarne un personnage aux traits de caractère modernes.\nOrganisé par l’Église réformée de Berne (Ciné-Clap)\,\nen collaboration avec le Lichtspiel (cinémathèque de Berne)\nPlus de détails\nApéro de bienvenue offert dès 17 h. Projection à 18 h.\nAu Lichtspiel\, Sandrainstrasse 3\, Berne\nChaque projection est suivie d’une collecte. Prix indicatif: 15 CHF.\nTélécharger le programme de l’année (papillon)
URL:https://www.arb-cdb.ch/event/orgueil-et-prejuges-au-cine-clap/
LOCATION:Lichtspiel\, cinémathèque de Berne\, Sandrainstrasse 3\, 3007 Berne\, Suisse
CATEGORIES:Animation,Collecte,Gratuit,Ouvert à tous
ATTACH;FMTTYPE=image/jpeg:https://www.arb-cdb.ch/wp-content/uploads/2023/01/orgueil-et-prejuges.jpg
END:VEVENT
BEGIN:VEVENT
DTSTART;TZID=Europe/Paris:20231212T150000
DTEND;TZID=Europe/Paris:20231212T150000
DTSTAMP:20260423T163153
CREATED:20231203T085245Z
LAST-MODIFIED:20231203T085337Z
UID:9499-1702393200-1702393200@www.arb-cdb.ch
SUMMARY:Mini-culte festif de Noël au Talgut
DESCRIPTION:Sarah Vollert\, diacre de la Paroisse française réformée de Berne :\nSi le cœur vous en dit… vous êtes les très bienvenu-e-s à ce culte (en français) et au verre de l’amitié qui suivra 😊\nJe vous souhaite de bien arpenter ce mois de décembre (…un peu revêche niveau météo pour l’instant mais qui ne peut qu’aller vers du mieux !)
URL:https://www.arb-cdb.ch/event/mini-culte-festif-de-noel-2023/
LOCATION:Restaurant Arcadia\, Talgut-Zentrum 34\, 3063 Ittigen\, Suisse
CATEGORIES:Autre manifestation,Gratuit,Ouvert à tous
END:VEVENT
BEGIN:VEVENT
DTSTART;TZID=Europe/Paris:20231213T193000
DTEND;TZID=Europe/Paris:20231213T210000
DTSTAMP:20260423T163153
CREATED:20230228T154002Z
LAST-MODIFIED:20230418T173840Z
UID:8626-1702495800-1702501200@www.arb-cdb.ch
SUMMARY:REGER JUBILAEUM
DESCRIPTION:Die Choral Vorspiele « Advent & Weihnachten »\nREGER JUBILAEUM\n\nAvec les étudiants de la HKB-Orgel & Kirchenmusik\nDir. Brigitte Scholl et Antonio Garcia\nOffenes Einsingen/Einführung 18h45 \n  \n  \n  \n 
URL:https://www.arb-cdb.ch/event/concert-choeurs-5/
LOCATION:Église française de Berne\, Zeughausgasse 8\, 3011 Berne\, Switzerland
CATEGORIES:Collecte,Musique,Ouvert à tous
END:VEVENT
BEGIN:VEVENT
DTSTART;TZID=Europe/Paris:20231214T141500
DTEND;TZID=Europe/Paris:20231214T160000
DTSTAMP:20260423T163153
CREATED:20230808T145922Z
LAST-MODIFIED:20230808T150005Z
UID:9128-1702563300-1702569600@www.arb-cdb.ch
SUMMARY:Conférence UNAB
DESCRIPTION:Alain SCHÄRLIG \nMathématicien et professeur honoraire à la Faculté des HEC de l’Université de Lausanne \nGerbert d’Aurillac\, l’homme de science devenu pape\nLes historiens du calcul élémentaire font parfois allusion à Gerbert d’Aurillac\, soit parce qu’on lui attribue d’avoir introduit les chiffres arabes en Europe\, soit parce qu’il est l’inventeur d’un abaque – une «planche à compter» – plus performant que tous les autres. Et chez les historiens de l’Église\, on ne le mentionne guère que pour dire qu’il a fini sa vie comme pape. \nGerbert a pourtant été un personnage hors du commun\, à la fois comme homme de science avant la lettre et comme enseignant de très haut niveau – c’est l’aspect de sa vie qui nous intéresse le plus – et comme ecclésiastique en vue\, menant une activité quasiment politique au sein de l’Église\, entrelardée d’un nombre étonnant de longs voyages effectués dans les conditions spartiates de son époque. \nC’est ce que nous exposera le conférencier\, en insistant non seulement sur les chiffres arabes et l’abaque\, mais aussi sur l’enseignement scientifique de Gerbert. Au Xe siècle\, ce n’était pas évident. \n\n\n\n\n\n\n\n\n\n\n\n\n\n\n\n\n\n\nCette page est tirée du site de l’UNAB.
URL:https://www.arb-cdb.ch/event/conference-unab-231214/
LOCATION:Fondation ascaro\, Belpstrasse 37\, 3007 Berne\, Suisse
CATEGORIES:Conférence,Payant pour les non-membres
ORGANIZER;CN="Universit%C3%A9 des A%C3%AEn%C3%A9s de langue fran%C3%A7aise de Berne   ( UNAB )":MAILTO:unab@bluewin.ch
END:VEVENT
BEGIN:VEVENT
DTSTART;TZID=Europe/Paris:20231219T190000
DTEND;TZID=Europe/Paris:20231219T220000
DTSTAMP:20260423T163153
CREATED:20231106T124401Z
LAST-MODIFIED:20231107T141445Z
UID:9416-1703012400-1703023200@www.arb-cdb.ch
SUMMARY:Soirée de Noël ARB - Alliance française
DESCRIPTION:L’Alliance française de Berne (afberne) et l’Association romande et francophone de Berne et environs (ARB) invitent leurs membre à leur soirée de Noël
URL:https://www.arb-cdb.ch/event/soiree-de-noel-arb-alliance-francaise/
LOCATION:Schulwarte\, Helvetiaplatz 2\, 3005 Berne\, Switzerland
CATEGORIES:Gratuit,Réservé aux membres,Théâtre
END:VEVENT
END:VCALENDAR