BEGIN:VCALENDAR
VERSION:2.0
PRODID:-//Association Romande et francophone de Berne et environs - ECPv6.15.20//NONSGML v1.0//EN
CALSCALE:GREGORIAN
METHOD:PUBLISH
X-WR-CALNAME:Association Romande et francophone de Berne et environs
X-ORIGINAL-URL:https://www.arb-cdb.ch
X-WR-CALDESC:Évènements pour Association Romande et francophone de Berne et environs
REFRESH-INTERVAL;VALUE=DURATION:PT1H
X-Robots-Tag:noindex
X-PUBLISHED-TTL:PT1H
BEGIN:VTIMEZONE
TZID:Europe/Paris
BEGIN:DAYLIGHT
TZOFFSETFROM:+0100
TZOFFSETTO:+0200
TZNAME:CEST
DTSTART:20190331T010000
END:DAYLIGHT
BEGIN:STANDARD
TZOFFSETFROM:+0200
TZOFFSETTO:+0100
TZNAME:CET
DTSTART:20191027T010000
END:STANDARD
BEGIN:DAYLIGHT
TZOFFSETFROM:+0100
TZOFFSETTO:+0200
TZNAME:CEST
DTSTART:20200329T010000
END:DAYLIGHT
BEGIN:STANDARD
TZOFFSETFROM:+0200
TZOFFSETTO:+0100
TZNAME:CET
DTSTART:20201025T010000
END:STANDARD
BEGIN:DAYLIGHT
TZOFFSETFROM:+0100
TZOFFSETTO:+0200
TZNAME:CEST
DTSTART:20210328T010000
END:DAYLIGHT
BEGIN:STANDARD
TZOFFSETFROM:+0200
TZOFFSETTO:+0100
TZNAME:CET
DTSTART:20211031T010000
END:STANDARD
END:VTIMEZONE
BEGIN:VEVENT
DTSTART;TZID=Europe/Paris:20200801T120000
DTEND;TZID=Europe/Paris:20200801T130000
DTSTAMP:20260420T145019
CREATED:20200307T131406Z
LAST-MODIFIED:20200628T140458Z
UID:5403-1596283200-1596286800@www.arb-cdb.ch
SUMMARY:Estivales 2020\, Hommage aux fleurs
DESCRIPTION:Musique à l’église française de Berne vous invite à ses Estivales 2020 \nHommage aux fleurs\nAlex Doll\, peintre\nCassandre Stornetta\, mezzo-soprano\nClaire Schwob\, piano\nAntonio García\, orgue \nAttention\, modification du programme général en raison de l’indisponibilité de l’un ou l’autre de nos musiciens\nvoici le nouveau programme des Estivales 2020  \n		\n			\n			\n		\n\n		 \nVous pouvez télécharger\nLe programme de la saison 2020 de Musique à l’église française de Berne
URL:https://www.arb-cdb.ch/event/estivales-2020-hommage-aux-fleurs/
LOCATION:Église française de Berne\, Zeughausgasse 8\, 3011 Berne\, Switzerland
CATEGORIES:Collecte,Musique,Ouvert à tous
END:VEVENT
BEGIN:VEVENT
DTSTART;VALUE=DATE:20200808
DTEND;VALUE=DATE:20200810
DTSTAMP:20260420T145019
CREATED:20200815T201139Z
LAST-MODIFIED:20200815T205550Z
UID:5829-1596844800-1597017599@www.arb-cdb.ch
SUMMARY:À vélo avec le CRF
DESCRIPTION:À vélo\, sur les crêtes du Jura\nLa date définitive\, samedi ou dimanche\, de l’excursion dépend de la météo.\nAdressez-vous directement à l’organisatrice ou l’organisateur de préférence avant le jeudi soir.\nCela vous permet de recevoir les renseignements utiles et d’optimaliser les transports.\nC’est une sortie organisée par le Club de randonnée et de ski de fond\, Berne (CRF).\nVous pouvez charger le programme actuel du CRF. ici\net voir des photos des précédentes sorties ici dès 2019 et ici de 2007 à 2018
URL:https://www.arb-cdb.ch/event/a-velo-avec-le-crf-2020-08/
CATEGORIES:Excursion,Gratuit,Ouvert à tous
ORGANIZER;CN="CRF Christian W%C3%BCthrich":MAILTO:christian@c3c4.ch
END:VEVENT
BEGIN:VEVENT
DTSTART;TZID=Europe/Paris:20200808T120000
DTEND;TZID=Europe/Paris:20200808T130000
DTSTAMP:20260420T145019
CREATED:20200307T132102Z
LAST-MODIFIED:20200628T135949Z
UID:5409-1596888000-1596891600@www.arb-cdb.ch
SUMMARY:Estivales 2020\, D'après Onofrio Guarracino 1668
DESCRIPTION:Musique à l’église française de Berne vous invite à ses Estivales 2020 \nD’après Onofrio Guarracino 1668\nKatharina Suske\, Hautbois\nAntonio Garcia\,    Virginal \nAttention\, modification du programme général en raison de l’indisponibilité de l’un ou l’autre de nos musiciens\nvoici le nouveau programme des Estivales 2020  \n		\n			\n			\n		\n\n		 \nVous pouvez télécharger\nLe programme de la saison 2020 de Musique à l’église française de Berne
URL:https://www.arb-cdb.ch/event/estivales-2020-dapres-onofrio-guarracino-1668/
LOCATION:Église française de Berne\, Zeughausgasse 8\, 3011 Berne\, Switzerland
CATEGORIES:Collecte,Musique,Ouvert à tous
END:VEVENT
BEGIN:VEVENT
DTSTART;TZID=Europe/Paris:20200815T120000
DTEND;TZID=Europe/Paris:20200815T180000
DTSTAMP:20260420T145019
CREATED:20200307T132309Z
LAST-MODIFIED:20200628T135807Z
UID:5411-1597492800-1597514400@www.arb-cdb.ch
SUMMARY:Estivales 2020\, Orgues de grandeurs
DESCRIPTION:Musique à l’église française de Berne vous invite à ses Estivales 2020 \nOrgues de grandeurs \nPromenade musicale avec\nKlangbox-Pascal Viglino\, percussions\nAntonio Garcia\, orgues \nAttention\, modification du programme général en raison de l’indisponibilité de l’un ou l’autre de nos musiciens\nvoici le nouveau programme des Estivales 2020  \n		\n			\n			\n		\n\n		 \nVous pouvez télécharger\nLe programme de la saison 2020 de Musique à l’église française de Berne
URL:https://www.arb-cdb.ch/event/estivales-2020-orgelspaziergang/
LOCATION:Église française de Berne\, Zeughausgasse 8\, 3011 Berne\, Switzerland
CATEGORIES:Collecte,Musique,Ouvert à tous
END:VEVENT
BEGIN:VEVENT
DTSTART;VALUE=DATE:20200822
DTEND;VALUE=DATE:20200824
DTSTAMP:20260420T145019
CREATED:20200815T202339Z
LAST-MODIFIED:20200815T205511Z
UID:5833-1598054400-1598227199@www.arb-cdb.ch
SUMMARY:Marcher avec le CRF
DESCRIPTION:Le Club de randonnée et de ski de fond de Berne (CRF) vous invite à venir marcher avec lui\nDans le Parc naturel Rütli « Berner Naturschutz ». Habkern-Interlaken. 3h15\, ↑ 300 m ↓ 800 m\nLa date définitive\, samedi ou dimanche\, de l’excursion dépend de la météo.\nAdressez-vous directement à l’organisatrice ou l’organisateur (voir plus bas) de préférence avant le jeudi soir.\nCela vous permet de recevoir les renseignements utiles et d’optimaliser les transports.\nVous pouvez charger le programme actuel du CRF. ici\net voir des photos des précédentes sorties ici dès 2019 et ici de 2007 à 2018
URL:https://www.arb-cdb.ch/event/marcher-avec-le-crf-2020-08/
CATEGORIES:Excursion,Gratuit,Ouvert à tous
END:VEVENT
BEGIN:VEVENT
DTSTART;TZID=Europe/Paris:20200822T120000
DTEND;TZID=Europe/Paris:20200822T123000
DTSTAMP:20260420T145019
CREATED:20200307T132414Z
LAST-MODIFIED:20200628T135532Z
UID:5413-1598097600-1598099400@www.arb-cdb.ch
SUMMARY:Estivales 2020\, Récital "Alexandre Guilmant"
DESCRIPTION:Musique à l’église française de Berne vous invite à ses Estivales 2020 \nRécital « Alexandre Guilmant »\n\navec Jürg Brunner à l’orgue \nAttention\, modification du programme général en raison de l’indisponibilité de l’un ou l’autre de nos musiciens\nvoici le nouveau programme des Estivales 2020  \n		\n			\n			\n		\n\n		 \nVous pouvez télécharger\nLe programme de la saison 2020 de Musique à l’église française de Berne
URL:https://www.arb-cdb.ch/event/estivales-2020-recital-dorgue-2/
LOCATION:Église française de Berne\, Zeughausgasse 8\, 3011 Berne\, Switzerland
CATEGORIES:Collecte,Musique,Ouvert à tous
END:VEVENT
BEGIN:VEVENT
DTSTART;VALUE=DATE:20200829
DTEND;VALUE=DATE:20200830
DTSTAMP:20260420T145019
CREATED:20200307T133308Z
LAST-MODIFIED:20200628T135211Z
UID:5417-1598659200-1598745599@www.arb-cdb.ch
SUMMARY:Fête de l'Eglise française
DESCRIPTION:Musique à l’église française de Berne vous invite à la \nFête de l’église française\nen raison du Covid-19 la fête est reportée au dimanche 8 novembre 2020\n \nVous pouvez télécharger\nLe programme de la saison 2020 de Musique à l’église française de Berne
URL:https://www.arb-cdb.ch/event/fete-de-leglise-francaise/
LOCATION:Église française de Berne\, Zeughausgasse 8\, 3011 Berne\, Switzerland
CATEGORIES:Collecte,Musique,Ouvert à tous
END:VEVENT
BEGIN:VEVENT
DTSTART;VALUE=DATE:20200829
DTEND;VALUE=DATE:20200831
DTSTAMP:20260420T145019
CREATED:20200815T204213Z
LAST-MODIFIED:20200815T205140Z
UID:5836-1598659200-1598831999@www.arb-cdb.ch
SUMMARY:Marcher avec le CRF
DESCRIPTION:Le Club de randonnée et de ski de fond de Berne (CRF) vous invite à venir marcher avec lui\nDébut de la Rampe sud du Lötschberg.. Env. 3 h 30\, 10\,5 km\, montée 100 m\, descente 150 m\nLa date définitive\, samedi ou dimanche\, de l’excursion dépend de la météo.\nAdressez-vous directement à l’organisatrice ou l’organisateur (voir plus bas) de préférence avant le jeudi soir.\nCela vous permet de recevoir les renseignements utiles et d’optimaliser les transports.\nVous pouvez charger le programme actuel du CRF. ici\net voir des photos des précédentes sorties ici dès 2019 et ici de 2007 à 2018
URL:https://www.arb-cdb.ch/event/marcher-avec-le-crf-2020-08b/
CATEGORIES:Excursion,Gratuit,Ouvert à tous
END:VEVENT
BEGIN:VEVENT
DTSTART;TZID=Europe/Paris:20200829T120000
DTEND;TZID=Europe/Paris:20200829T123000
DTSTAMP:20260420T145019
CREATED:20200307T132708Z
LAST-MODIFIED:20200628T135428Z
UID:5415-1598702400-1598704200@www.arb-cdb.ch
SUMMARY:Estivales 2020\, Tubes de la Renaissance
DESCRIPTION:Musique à l’église française de Berne vous invite à son ultime Estivale 2020 \nTubes de la Renaissance\nPascale Van Coppenolle\, orgue\nWilliam Dongois\, cornet à bouquin (Paris/Genève) \nAttention\, modification du programme général en raison de l’indisponibilité de l’un ou l’autre de nos musiciens\nvoici le nouveau programme des Estivales 2020  \n		\n			\n			\n		\n\n		 \nVous pouvez télécharger\nLe programme de la saison 2020 de Musique à l’église française de Berne\nhttps://www.arb-cdb.ch/event/musique-et-parole-duplicatat/programme-a5-2020/ ‎
URL:https://www.arb-cdb.ch/event/estivales-2020-tubes-de-la-renaissance/
LOCATION:Église française de Berne\, Zeughausgasse 8\, 3011 Berne\, Switzerland
CATEGORIES:Collecte,Musique,Ouvert à tous
END:VEVENT
END:VCALENDAR