BEGIN:VCALENDAR
VERSION:2.0
PRODID:-//Association Romande et francophone de Berne et environs - ECPv6.15.20//NONSGML v1.0//EN
CALSCALE:GREGORIAN
METHOD:PUBLISH
X-WR-CALNAME:Association Romande et francophone de Berne et environs
X-ORIGINAL-URL:https://www.arb-cdb.ch
X-WR-CALDESC:Évènements pour Association Romande et francophone de Berne et environs
REFRESH-INTERVAL;VALUE=DURATION:PT1H
X-Robots-Tag:noindex
X-PUBLISHED-TTL:PT1H
BEGIN:VTIMEZONE
TZID:Europe/Paris
BEGIN:DAYLIGHT
TZOFFSETFROM:+0100
TZOFFSETTO:+0200
TZNAME:CEST
DTSTART:20190331T010000
END:DAYLIGHT
BEGIN:STANDARD
TZOFFSETFROM:+0200
TZOFFSETTO:+0100
TZNAME:CET
DTSTART:20191027T010000
END:STANDARD
BEGIN:DAYLIGHT
TZOFFSETFROM:+0100
TZOFFSETTO:+0200
TZNAME:CEST
DTSTART:20200329T010000
END:DAYLIGHT
BEGIN:STANDARD
TZOFFSETFROM:+0200
TZOFFSETTO:+0100
TZNAME:CET
DTSTART:20201025T010000
END:STANDARD
BEGIN:DAYLIGHT
TZOFFSETFROM:+0100
TZOFFSETTO:+0200
TZNAME:CEST
DTSTART:20210328T010000
END:DAYLIGHT
BEGIN:STANDARD
TZOFFSETFROM:+0200
TZOFFSETTO:+0100
TZNAME:CET
DTSTART:20211031T010000
END:STANDARD
END:VTIMEZONE
BEGIN:VEVENT
DTSTART;VALUE=DATE:20200208
DTEND;VALUE=DATE:20200210
DTSTAMP:20260423T135816
CREATED:20200113T135635Z
LAST-MODIFIED:20200815T202940Z
UID:5101-1581120000-1581292799@www.arb-cdb.ch
SUMMARY:Marcher avec le CRF
DESCRIPTION:Le Club de randonnée et de ski de fond de Berne (CRF) vous invite à venir marcher avec lui de\nBrugg à Schinznach-Bad\, 6 km le long de l’Aar (6 km) puis bains\nthermaux de Schinznach possibles (détails\, voir le programme ci-dessous)\nLa date définitive\, samedi ou dimanche\, de l’excursion dépend de la météo.\nAdressez-vous directement à l’organisatrice ou l’organisateur (voir le programme ci-dessous).\nMerci de vous annoncer jusqu’au jeudi soir. Cela vous permet de recevoir les renseignements utiles et d’optimaliser les transports.
URL:https://www.arb-cdb.ch/event/marcher-avec-le-crf-2020-01/
CATEGORIES:Excursion,Gratuit,Ouvert à tous
END:VEVENT
BEGIN:VEVENT
DTSTART;TZID=Europe/Paris:20200211T141500
DTEND;TZID=Europe/Paris:20200211T161500
DTSTAMP:20260423T135816
CREATED:20190630T144113Z
LAST-MODIFIED:20190630T170753Z
UID:4536-1581430500-1581437700@www.arb-cdb.ch
SUMMARY:Séminaire UNAB de M. Denis RUFF (1/3)
DESCRIPTION:Séminaire en trois volets de M. Denis RUFF\n\nArchitecte\, enseignant\, autodidacte en histoire des cultures \nLes sanctuaires égyptiens (1re partie)\nLa civilisation égyptienne nous a légué un grand nombre d’objets et de monuments. La plupart d’entre eux sont de caractère religieux ou symbolique. Les archéologues se concentrent sur les traces écrites ou tangibles que leurs fouilles révèlent. L’héritage culturel nous vient d’une Égypte qui dépasse les limites définies par l’égyptologie. La vallée du Nil reste la terre qui a vu naître les sciences et les techniques : ordre social\, taille de la pierre\, mathématiques\, architecture\, écriture\, orfèvrerie… \n\nAu cours de ces après-midis\, nous apprendrons à connaître ces lieux sacrés et leurs particularités\, témoins d’une culture fascinante \n\n\n1re partie: LA MORT : les nécropoles de Gizeh\, Sakkarah-Memphis\, Abydos\n2e partie: LA NAISSANCE : Louxor\, Edfou\, Dendera\n3e partie: LE COSMOS : Kom Ombo\, Héliopolis\, Sekem\n\n\n\nUn voyage dans le temps et dans l’espace qui provoque toujours le même étonnement. \nInscription: ici \nPapillon: \n		\n			\n			\n		\n\n		 \nCette page est tirée du site de l’UNAB.
URL:https://www.arb-cdb.ch/event/conference-unab-2019-s31/
LOCATION:Université de Berne\, Hochschulstrasse 4\, Berne\, 3012\, Suisse
CATEGORIES:Payant,Payant pour les non-membres,Séminaire
ORGANIZER;CN="Universit%C3%A9 des A%C3%AEn%C3%A9s de langue fran%C3%A7aise de Berne   ( UNAB )":MAILTO:unab@bluewin.ch
END:VEVENT
BEGIN:VEVENT
DTSTART;TZID=Europe/Paris:20200212T180000
DTEND;TZID=Europe/Paris:20200212T200000
DTSTAMP:20260423T135816
CREATED:20190402T134741Z
LAST-MODIFIED:20190402T134741Z
UID:4121-1581530400-1581537600@www.arb-cdb.ch
SUMMARY:Apéritif de réseautage
DESCRIPTION:
URL:https://www.arb-cdb.ch/event/aperitif-de-reseautage-4/
CATEGORIES:Sur invitation
END:VEVENT
BEGIN:VEVENT
DTSTART;TZID=Europe/Paris:20200213T120000
DTEND;TZID=Europe/Paris:20200213T133000
DTSTAMP:20260423T135816
CREATED:20200202T212101Z
LAST-MODIFIED:20200202T213652Z
UID:5180-1581595200-1581600600@www.arb-cdb.ch
SUMMARY:Sortie à Berne du film CHAMBRE 212
DESCRIPTION:QUINNIE annonce le film Chambre 212\, prix d’interprétation au Festival de Canne 2019\, \nIl commence au Ciné movie 1 comme Ciné Lunch tous les jours pour au moins une semaine.\nVous pouvez contrôler les films en français à Berne ici\nClic sur l’image ou directement sur le lien ci-dessus pour plus de détail et accéder à la bande-annonce
URL:https://www.arb-cdb.ch/event/sortie-a-berne-du-film-chambre-212/
CATEGORIES:Film v.o. fr,Ouvert à tous,Payant
END:VEVENT
BEGIN:VEVENT
DTSTART;TZID=Europe/Paris:20200213T141500
DTEND;TZID=Europe/Paris:20200213T161500
DTSTAMP:20260423T135816
CREATED:20190630T132810Z
LAST-MODIFIED:20200112T102234Z
UID:4481-1581603300-1581610500@www.arb-cdb.ch
SUMMARY:Conférence UNAB
DESCRIPTION:La conférence de M. Bourahima OUATTARA est remplacée par\n\nM. Claude HAENGGLI\n\nIngénieur-chimiste\, Licencié ès sciences\, Traducteur littéraire \nFriedrich Glauser\, un écrivain suisse dont la vie est un véritable roman \nSingulière figure que celle de Friedrich Glauser\, écrivain suisse-allemand parfaitement francophone qui passe sa courte vie à errer dans l’Europe de l’entre-deux-guerres. Il est surtout connu pour ses romans policiers\, dont plusieurs ont fait l’objet d’adaptations cinématographiques à succès\, comme L’inspecteur Studer\, le Royaume de Matto et Le Chinois. \nMais son œuvre littéraire comporte aussi des romans à teneur autobiographique et de nombreuses nouvelles qui le placent au rang d’un des plus grands écrivains suisses du XXe siècle. Son existence mouvementée entre le mouvement Dada\, la Légion étrangère\, les métiers de plongeur dans le restaurant d’un hôtel parisien\, de mineur de fond en Belgique\, de jardinier\, ainsi que huit ans au total dans des maisons d’arrêt ou des asiles psychiatriques\, se termine prématurément en 1938\, à l’âge de 42 ans\, la veille du jour de son mariage. Son traducteur nous en fera connaître quelques péripéties particulièrement marquantes et nous présentera un choix de textes qui s’y rapportent. \n\n\nCette page est tirée du site de l’UNAB.
URL:https://www.arb-cdb.ch/event/conference-unab-2019-c15/
LOCATION:Musée d’histoire naturelle\, Bernastrasse 15\, 3005 Berne\, Suisse
CATEGORIES:Conférence,Payant pour les non-membres
ORGANIZER;CN="Universit%C3%A9 des A%C3%AEn%C3%A9s de langue fran%C3%A7aise de Berne   ( UNAB )":MAILTO:unab@bluewin.ch
END:VEVENT
BEGIN:VEVENT
DTSTART;VALUE=DATE:20200215
DTEND;VALUE=DATE:20200217
DTSTAMP:20260423T135816
CREATED:20200113T133616Z
LAST-MODIFIED:20200113T170404Z
UID:5092-1581724800-1581897599@www.arb-cdb.ch
SUMMARY:Ski de fond avec le CRF
DESCRIPTION:Le Club de randonnée et de ski de fond de Berne (CRF) vous invite a venir faire du ski de fond avec lui à Habkern ou lieu selon enneigement\nLa date définitive\, samedi ou dimanche\, de l’excursion dépend de la météo\nAdressez-vous directement à l’organisatrice ou l’organisateur (voir le programme ci-dessous).\nMerci de vous annoncer jusqu’au jeudi soir. Cela vous permet de recevoir les renseignements utiles et d’optimaliser les transports
URL:https://www.arb-cdb.ch/event/ski-de-fond-avec-le-crf-2020-2/
CATEGORIES:Excursion,Gratuit,Ouvert à tous
END:VEVENT
BEGIN:VEVENT
DTSTART;TZID=Europe/Paris:20200218T141500
DTEND;TZID=Europe/Paris:20200218T161500
DTSTAMP:20260423T135816
CREATED:20190630T144209Z
LAST-MODIFIED:20190630T170626Z
UID:4538-1582035300-1582042500@www.arb-cdb.ch
SUMMARY:Séminaire UNAB de M. Denis RUFF (2/3)
DESCRIPTION:Séminaire en trois volets de M. Denis RUFF\n\nArchitecte\, enseignant\, autodidacte en histoire des cultures \nLes sanctuaires égyptiens (2e partie)\nLa civilisation égyptienne nous a légué un grand nombre d’objets et de monuments. La plupart d’entre eux sont de caractère religieux ou symbolique. Les archéologues se concentrent sur les traces écrites ou tangibles que leurs fouilles révèlent. L’héritage culturel nous vient d’une Égypte qui dépasse les limites définies par l’égyptologie. La vallée du Nil reste la terre qui a vu naître les sciences et les techniques : ordre social\, taille de la pierre\, mathématiques\, architecture\, écriture\, orfèvrerie… \n\nAu cours de ces après-midis\, nous apprendrons à connaître ces lieux sacrés et leurs particularités\, témoins d’une culture fascinante \n\n1re partie: LA MORT : les nécropoles de Gizeh\, Sakkarah-Memphis\, Abydos\n2e partie: LA NAISSANCE : Louxor\, Edfou\, Dendera\n3e partie: LE COSMOS : Kom Ombo\, Héliopolis\, Sekem\n\n\n\nUn voyage dans le temps et dans l’espace qui provoque toujours le même étonnement. \nInscription: ici \nPapillon: \n		\n			\n			\n		\n\n		 \nCette page est tirée du site de l’UNAB.
URL:https://www.arb-cdb.ch/event/conference-unab-2019-s32/
LOCATION:Université de Berne\, Hochschulstrasse 4\, Berne\, 3012\, Suisse
CATEGORIES:Payant,Payant pour les non-membres,Séminaire
ORGANIZER;CN="Universit%C3%A9 des A%C3%AEn%C3%A9s de langue fran%C3%A7aise de Berne   ( UNAB )":MAILTO:unab@bluewin.ch
END:VEVENT
BEGIN:VEVENT
DTSTART;TZID=Europe/Paris:20200220T141500
DTEND;TZID=Europe/Paris:20200220T161500
DTSTAMP:20260423T135816
CREATED:20190630T133019Z
LAST-MODIFIED:20190630T140426Z
UID:4483-1582208100-1582215300@www.arb-cdb.ch
SUMMARY:Conférence UNAB
DESCRIPTION:M. Jean-Robert PROBST\n\nJournaliste\, écrivain \nLe Parc de Kakadu – l’Australie sauvage\nSitué au nord de l’Australie\, entre la ville de Darwin et la Terre d’Arnhem\, le Parc national de Kakadu recèle des trésors exceptionnels. Sur les parois des grottes\, on peut observer des dessins aborigènes datant de plusieurs milliers d’années. Au cœur des billabongs (les étangs)\, la flore et la faune se confondent depuis la nuit des temps. Au détour des mangroves\, d’étranges oiseaux côtoient les crocodiles\, les tortues au long cou\, les lézards à collerette et les wallabys. Le Parc de Kakadu\, c’est un autre monde\, étrange et magnifique. \n\n\nCette page est tirée du site de l’UNAB.
URL:https://www.arb-cdb.ch/event/conference-unab-2019-c16/
LOCATION:Musée d’histoire naturelle\, Bernastrasse 15\, 3005 Berne\, Suisse
CATEGORIES:Conférence,Payant pour les non-membres
ORGANIZER;CN="Universit%C3%A9 des A%C3%AEn%C3%A9s de langue fran%C3%A7aise de Berne   ( UNAB )":MAILTO:unab@bluewin.ch
END:VEVENT
BEGIN:VEVENT
DTSTART;TZID=Europe/Paris:20200221T190000
DTEND;TZID=Europe/Paris:20200221T190000
DTSTAMP:20260423T135816
CREATED:20200203T234154Z
LAST-MODIFIED:20200204T155625Z
UID:5205-1582311600-1582311600@www.arb-cdb.ch
SUMMARY:Récital-spectacle de Christophe Barbier
DESCRIPTION:L’Alliance française de Berne et L’Association romande et francophone de Berne et environs (ARB)\nont le plaisir d’inviter leurs membres à ce récital-spectacle\, Le tour du théâtre en 80 minutes\, le 21 février 19 h à la Schulwarte\nTous les détails ici
URL:https://www.arb-cdb.ch/event/recital-spectacle-de-christophe-barbier/
LOCATION:Institut für Weiterbildung und Medienbildung / Mediothek (Schulwarte)\, Helvetiaplatz 2\, 3005 Berne\, Suisse
CATEGORIES:Animation,Conférence,Réservé aux membres
END:VEVENT
BEGIN:VEVENT
DTSTART;VALUE=DATE:20200222
DTEND;VALUE=DATE:20200224
DTSTAMP:20260423T135816
CREATED:20200113T133857Z
LAST-MODIFIED:20200113T170439Z
UID:5094-1582329600-1582502399@www.arb-cdb.ch
SUMMARY:Ski de fond avec le CRF
DESCRIPTION:Le Club de randonnée et de ski de fond de Berne (CRF) vous invite a venir faire du ski de fond avec lui dans le Jura ou lieu selon enneigement\nLa date définitive\, samedi ou dimanche\, de l’excursion dépend de la météo.\nAdressez-vous directement à l’organisatrice ou l’organisateur (voir le programme ci-dessous).\nMerci de vous annoncer jusqu’au jeudi soir. Cela vous permet de recevoir les renseignements utiles et d’optimaliser les transports
URL:https://www.arb-cdb.ch/event/ski-de-fond-avec-le-crf-2020-3/
CATEGORIES:Excursion,Gratuit,Ouvert à tous
ORGANIZER;CN="CRF Danielle Perrochet":MAILTO:danielle.perrochet@bluewin.ch
END:VEVENT
BEGIN:VEVENT
DTSTART;TZID=Europe/Paris:20200223T180000
DTEND;TZID=Europe/Paris:20200223T193000
DTSTAMP:20260423T135816
CREATED:20200203T102408Z
LAST-MODIFIED:20200209T174645Z
UID:5201-1582480800-1582486200@www.arb-cdb.ch
SUMMARY:Musique et Parole
DESCRIPTION:Musique à l’église française de Berne vous invite à ce concert \navec le Duo Assai \n\n		\n			\n			\n		\n\n		\nVous pouvez télécharger\nle programme de musique à l’église française de Berne
URL:https://www.arb-cdb.ch/event/musique-et-parole-4/
LOCATION:Église française de Berne\, Zeughausgasse 8\, 3011 Berne\, Switzerland
CATEGORIES:Collecte,Musique,Ouvert à tous
END:VEVENT
BEGIN:VEVENT
DTSTART;TZID=Europe/Paris:20200225T141500
DTEND;TZID=Europe/Paris:20200225T161500
DTSTAMP:20260423T135816
CREATED:20190630T144349Z
LAST-MODIFIED:20190630T170708Z
UID:4540-1582640100-1582647300@www.arb-cdb.ch
SUMMARY:Séminaire UNAB de M. Denis RUFF (3/3)
DESCRIPTION:Séminaire en trois volets de M. Denis RUFF\n\nArchitecte\, enseignant\, autodidacte en histoire des cultures \nLes sanctuaires égyptiens (3e partie)\nLa civilisation égyptienne nous a légué un grand nombre d’objets et de monuments. La plupart d’entre eux sont de caractère religieux ou symbolique. Les archéologues se concentrent sur les traces écrites ou tangibles que leurs fouilles révèlent. L’héritage culturel nous vient d’une Égypte qui dépasse les limites définies par l’égyptologie. La vallée du Nil reste la terre qui a vu naître les sciences et les techniques : ordre social\, taille de la pierre\, mathématiques\, architecture\, écriture\, orfèvrerie… \n\nAu cours de ces après-midis\, nous apprendrons à connaître ces lieux sacrés et leurs particularités\, témoins d’une culture fascinante \n\n1re partie: LA MORT : les nécropoles de Gizeh\, Sakkarah-Memphis\, Abydos\n2e partie: LA NAISSANCE : Louxor\, Edfou\, Dendera\n3e partie: LE COSMOS : Kom Ombo\, Héliopolis\, Sekem\n\n\n\nUn voyage dans le temps et dans l’espace qui provoque toujours le même étonnement. \nInscription: ici \nPapillon: \n		\n			\n			\n		\n\n		 \nCette page est tirée du site de l’UNAB.
URL:https://www.arb-cdb.ch/event/conference-unab-2019-s33/
LOCATION:Université de Berne\, Hochschulstrasse 4\, Berne\, 3012\, Suisse
CATEGORIES:Payant,Payant pour les non-membres,Séminaire
ORGANIZER;CN="Universit%C3%A9 des A%C3%AEn%C3%A9s de langue fran%C3%A7aise de Berne   ( UNAB )":MAILTO:unab@bluewin.ch
END:VEVENT
BEGIN:VEVENT
DTSTART;TZID=Europe/Paris:20200227T141500
DTEND;TZID=Europe/Paris:20200227T161500
DTSTAMP:20260423T135816
CREATED:20190630T133219Z
LAST-MODIFIED:20190630T140458Z
UID:4485-1582812900-1582820100@www.arb-cdb.ch
SUMMARY:Conférence UNAB
DESCRIPTION:Mme Suzette SANDOZ\n\nAncienne conseillère nationale \nGilets jaunes : quelques réflexions sur la démocratie directe\nLe mouvement des gilets jaunes a incité certains politiciens français et même le président Macron à ironiser sur la démocratie directe à la Suisse. C’est l’occasion de souligner la différence essentielle qu’il y a entre les gilets jaunes et la démocratie en général\, et plus spécifiquement entre eux et la démocratie directe helvétique. Mais les gilets jaunes sont aussi une occasion de se pencher sur la démocratie en général et sur la nôtre en particulier et de se demander si des dangers la guettent et\, en cas de réponse positive\, lesquels\, puis de chercher alors comment y parer et même comment améliorer nos institutions si nécessaire. \n\n\nCette page est tirée du site de l’UNAB.
URL:https://www.arb-cdb.ch/event/conference-unab-2019-c17/
LOCATION:Musée d’histoire naturelle\, Bernastrasse 15\, 3005 Berne\, Suisse
CATEGORIES:Conférence,Payant pour les non-membres
ORGANIZER;CN="Universit%C3%A9 des A%C3%AEn%C3%A9s de langue fran%C3%A7aise de Berne   ( UNAB )":MAILTO:unab@bluewin.ch
END:VEVENT
BEGIN:VEVENT
DTSTART;VALUE=DATE:20200229
DTEND;VALUE=DATE:20200302
DTSTAMP:20260423T135816
CREATED:20200113T134151Z
LAST-MODIFIED:20200113T170123Z
UID:5097-1582934400-1583107199@www.arb-cdb.ch
SUMMARY:Ski de fond avec le CRF
DESCRIPTION:Le Club de randonnée et de ski de fond de Berne (CRF) vous invite a venir faire du ski de fond avec lui dans le Jura ou lieu selon enneigement\nLa date définitive\, samedi ou dimanche\, de l’excursion dépend de la météo.\nAdressez-vous directement à l’organisatrice ou l’organisateur (voir le programme ci-dessous).
URL:https://www.arb-cdb.ch/event/ski-de-fond-avec-le-crf-2020-4/
CATEGORIES:Excursion,Gratuit,Ouvert à tous
ORGANIZER;CN="CRF Christian W%C3%BCthrich":MAILTO:christian@c3c4.ch
END:VEVENT
END:VCALENDAR