BEGIN:VCALENDAR
VERSION:2.0
PRODID:-//Association Romande et francophone de Berne et environs - ECPv6.15.20//NONSGML v1.0//EN
CALSCALE:GREGORIAN
METHOD:PUBLISH
X-WR-CALNAME:Association Romande et francophone de Berne et environs
X-ORIGINAL-URL:https://www.arb-cdb.ch
X-WR-CALDESC:Évènements pour Association Romande et francophone de Berne et environs
REFRESH-INTERVAL;VALUE=DURATION:PT1H
X-Robots-Tag:noindex
X-PUBLISHED-TTL:PT1H
BEGIN:VTIMEZONE
TZID:Europe/Paris
BEGIN:DAYLIGHT
TZOFFSETFROM:+0100
TZOFFSETTO:+0200
TZNAME:CEST
DTSTART:20180325T010000
END:DAYLIGHT
BEGIN:STANDARD
TZOFFSETFROM:+0200
TZOFFSETTO:+0100
TZNAME:CET
DTSTART:20181028T010000
END:STANDARD
BEGIN:DAYLIGHT
TZOFFSETFROM:+0100
TZOFFSETTO:+0200
TZNAME:CEST
DTSTART:20190331T010000
END:DAYLIGHT
BEGIN:STANDARD
TZOFFSETFROM:+0200
TZOFFSETTO:+0100
TZNAME:CET
DTSTART:20191027T010000
END:STANDARD
BEGIN:DAYLIGHT
TZOFFSETFROM:+0100
TZOFFSETTO:+0200
TZNAME:CEST
DTSTART:20200329T010000
END:DAYLIGHT
BEGIN:STANDARD
TZOFFSETFROM:+0200
TZOFFSETTO:+0100
TZNAME:CET
DTSTART:20201025T010000
END:STANDARD
END:VTIMEZONE
BEGIN:VEVENT
DTSTART;TZID=Europe/Paris:20191001T190000
DTEND;TZID=Europe/Paris:20191001T190000
DTSTAMP:20260423T200603
CREATED:20190927T123736Z
LAST-MODIFIED:20190927T130748Z
UID:4861-1569956400-1569956400@www.arb-cdb.ch
SUMMARY:Conférence d’Amin Maalouf Le Naufrage des civilisations
DESCRIPTION:L’Alliance Française de Berne a le plaisir de vous inviter à une conférence de \nAmin Maalouf\, écrivain \nLe Naufrage des civilisations \nNé à Beyrouth\, Amin Maalouf a grandi en Egypte avant de faire des études de sociologie et de\nsciences économiques dans sa ville natale et de devenir journaliste au principal quotidien An-Nahar\npour lequel il couvre la politique internationale. Au moment de la guerre civile\, il quitte le Liban pour\nla France et prend la direction de Jeune Afrique.\nIl connaît son premier succès littéraire avec Léon l’Africain\, en 1986 (Jean-Claude Lattès). Sept ans\nplus tard\, Le Rocher de Tanios est couronné par le Prix Goncourt (Grasset). Ce sont le Proche Orient\net ses déchirures qui fournissent l’arrière-plan à la plupart de ses livres. Amin Maalouf a été élu à\nl’Académie française en 2011.\nDans son intervention\, il partira de son dernier livre\, Le Naufrage des civilisations (Grasset\, 2019). \nLe programme de l’Alliance Française de Berne n’est pas définitif. Son agenda est ici \nLes manifestations sont en principe réservées aux membres de l’Alliance Française de Berne. Les visiteurs non-membres sont les bienvenus et devront s’acquitter d’un prix d’entrée de CHF15.-
URL:https://www.arb-cdb.ch/event/conference-maalouf-naufrage-civilisations/
LOCATION:Institut für Weiterbildung und Medienbildung / Mediothek (Schulwarte)\, Helvetiaplatz 2\, 3005 Berne\, Suisse
CATEGORIES:Conférence,Payant pour les non-membres
END:VEVENT
BEGIN:VEVENT
DTSTART;TZID=Europe/Paris:20191002T090000
DTEND;TZID=Europe/Paris:20191002T170000
DTSTAMP:20260423T200603
CREATED:20190627T083646Z
LAST-MODIFIED:20190630T165855Z
UID:4418-1570006800-1570035600@www.arb-cdb.ch
SUMMARY:Excursion au Musée Chaplin
DESCRIPTION:Excursion de l’UNAB au Musée Chaplin de Corsier-sur-Vevey\nMercredi 2 octobre 2019\, de 9 à 17 heures \nDéplacements en car au départ de Berne. \nVisite guidée du musée suivie d’un repas au restaurant The Tramp. \nInscription: ici \nPapillon: \n		\n			\n			\n		\n\n		 \n 
URL:https://www.arb-cdb.ch/event/excursion-au-musee-chaplin/
LOCATION:Musée Chaplin\, Route de Fenil 2\, Corsier-sur-Vevey\, 1804\, Suisse
CATEGORIES:Excursion,Ouvert à tous,Payant,Payant pour les non-membres,sur inscription
ORGANIZER;CN="UNAB Michel Schwob":MAILTO:michel.schwob@bluewin.ch
END:VEVENT
BEGIN:VEVENT
DTSTART;TZID=Europe/Paris:20191003T141500
DTEND;TZID=Europe/Paris:20191003T161500
DTSTAMP:20260423T200603
CREATED:20190630T125732Z
LAST-MODIFIED:20190630T125732Z
UID:4451-1570112100-1570119300@www.arb-cdb.ch
SUMMARY:Conférence UNAB
DESCRIPTION:M. Thierry MALVESY\n\nConservateur\, Collection des sciences de la Terre\, Muséum d’histoire naturelle de Neuchâtel \nLa formation des océans et des continents\nNotre planète existe depuis 4 milliards 700 millions d’années et depuis ce temps\, les continents et les océans ne cessent de bouger à sa surface\, millimètre par millimètre. Ils se manifestent à nous de temps en temps par des tremblements de terre et du volcanisme. L’étude de ces phénomènes représente la plus grande révolution géologique de ce siècle\, la théorie de la tectonique des plaques et la réhabilitation d’un homme\, Alfred Wegener\, le père de la théorie de la dérive des continents. \n\n\n\nCette page est tirée du site de l’UNAB.
URL:https://www.arb-cdb.ch/event/conference-unab-2019-c05/
LOCATION:Musée d’histoire naturelle\, Bernastrasse 15\, 3005 Berne\, Suisse
CATEGORIES:Conférence,Payant pour les non-membres
ORGANIZER;CN="Universit%C3%A9 des A%C3%AEn%C3%A9s de langue fran%C3%A7aise de Berne   ( UNAB )":MAILTO:unab@bluewin.ch
END:VEVENT
BEGIN:VEVENT
DTSTART;VALUE=DATE:20191005
DTEND;VALUE=DATE:20191007
DTSTAMP:20260423T200603
CREATED:20190827T153659Z
LAST-MODIFIED:20190827T153659Z
UID:4749-1570233600-1570406399@www.arb-cdb.ch
SUMMARY:Marcher avec le CRF
DESCRIPTION:Le Club de randonnée et de ski de fond de Berne (CRF) vous invite à venir marcher avec lui de\nSörenberg à Chemmeri-boden\, env. 3 h\, ↑150 ↓ 500 m (détails\, voir le programme ci-dessous)\nLa date définitive\, samedi ou dimanche\, de l’excursion dépend de la météo.\nAdressez-vous directement à l’organisatrice ou l’organisateur. Inscription au plus tard jeudi soir pour la réservation des transports publics\nCela vous permet de recevoir les renseignements utiles et d’optimaliser les transports.
URL:https://www.arb-cdb.ch/event/marcher-avec-le-crf-2019-7-3-6/
CATEGORIES:Excursion,Gratuit,Ouvert à tous
END:VEVENT
BEGIN:VEVENT
DTSTART;TZID=Europe/Paris:20191009T133000
DTEND;TZID=Europe/Paris:20191009T133000
DTSTAMP:20260423T200603
CREATED:20190901T105824Z
LAST-MODIFIED:20190901T105824Z
UID:4774-1570627800-1570627800@www.arb-cdb.ch
SUMMARY:Promenade pédestre : Sur les traces des Celtes et des Romains
DESCRIPTION:L’Église réformée française vous invite à cette promenade pédestre
URL:https://www.arb-cdb.ch/event/promenade-pedestre-2019-10-celtes-et-romains/
CATEGORIES:Excursion,Ouvert à tous
END:VEVENT
BEGIN:VEVENT
DTSTART;TZID=Europe/Paris:20191010T141500
DTEND;TZID=Europe/Paris:20191010T161500
DTSTAMP:20260423T200603
CREATED:20190630T125944Z
LAST-MODIFIED:20190630T125944Z
UID:4453-1570716900-1570724100@www.arb-cdb.ch
SUMMARY:Conférence UNAB
DESCRIPTION:M. Pierre GRESSER\n\nProfesseur honoraire en histoire médiévale à l’Université de Franche-Comté \nLa civilisation Inca\nAu début du 16e siècle\, quand les Européens vont s’imposer sur le continent américain\, deux civilisations éclatantes recouvraient une partie de l’Amérique : les Aztèques essentiellement au niveau du Mexique actuel\, les Incas depuis l’Équateur jusqu’au milieu du Chili contemporain. Avant ces peuples\, d’autres cultures s’étaient développées sans atteindre un tel essor. \nLa civilisation Inca a de multiples caractéristiques que ce soit dans le domaine politique\, économique\, social et religieux. Mais ce sont indubitablement les vestiges archéologiques qui retiennent le plus l’attention\, le Machu Picchu étant le site le plus célèbre. \nLa conférence mettra l’accent sur un patrimoine architectural d’exception élaboré par des hommes qui ignoraient l’écriture et le fer. \n\n\n\nCette page est tirée du site de l’UNAB.
URL:https://www.arb-cdb.ch/event/conference-unab-2019-c06/
LOCATION:Musée d’histoire naturelle\, Bernastrasse 15\, 3005 Berne\, Suisse
CATEGORIES:Conférence,Payant pour les non-membres
ORGANIZER;CN="Universit%C3%A9 des A%C3%AEn%C3%A9s de langue fran%C3%A7aise de Berne   ( UNAB )":MAILTO:unab@bluewin.ch
END:VEVENT
BEGIN:VEVENT
DTSTART;VALUE=DATE:20191012
DTEND;VALUE=DATE:20191014
DTSTAMP:20260423T200603
CREATED:20190827T154626Z
LAST-MODIFIED:20190827T155636Z
UID:4753-1570838400-1571011199@www.arb-cdb.ch
SUMMARY:Marcher avec le CRF
DESCRIPTION:Le Club de randonnée et de ski de fond de Berne (CRF) vous invite à venir marcher avec lui autour du\nHinterburgseeli avec vue sur le lac de Brienz et le Rothorn de Brienz. 2 ½ h\, ↑↓ 360 m (détails\, voir le programme ci-dessous)\nLa date définitive\, samedi ou dimanche\, de l’excursion dépend de la météo.\nAdressez-vous directement à l’organisatrice ou l’organisateur de préférence avant le jeudi soir.\nCela vous permet de recevoir les renseignements utiles et d’optimaliser les transports.
URL:https://www.arb-cdb.ch/event/marcher-avec-le-crf-2019-7-3-7/
CATEGORIES:Excursion,Gratuit,Ouvert à tous
END:VEVENT
BEGIN:VEVENT
DTSTART;VALUE=DATE:20191013
DTEND;VALUE=DATE:20191014
DTSTAMP:20260423T200603
CREATED:20190827T140439Z
LAST-MODIFIED:20190827T140439Z
UID:4728-1570924800-1571011199@www.arb-cdb.ch
SUMMARY:Sortie Bénichon de la SFB
DESCRIPTION:La Société fribourgeoise de Berne (SFB) vous invite à sa sortie Bénichon au restaurant de La Croix-Blanche à La Roche\, en Gruyère.
URL:https://www.arb-cdb.ch/event/sortie-benichon-de-la-sfb-2019/
LOCATION:La Croix Blanche à La Roche\, route de Fribourg 1\, La Roche FR\, 1634\, Suisse
CATEGORIES:Autre manifestation,Excursion,Ouvert à tous,Payant
END:VEVENT
BEGIN:VEVENT
DTSTART;TZID=Europe/Paris:20191016T180000
DTEND;TZID=Europe/Paris:20191016T200000
DTSTAMP:20260423T200603
CREATED:20190402T133706Z
LAST-MODIFIED:20190402T133706Z
UID:4108-1571248800-1571256000@www.arb-cdb.ch
SUMMARY:Apéritif de réseautage
DESCRIPTION:
URL:https://www.arb-cdb.ch/event/aperitif-de-reseautage-2/
CATEGORIES:Sur invitation
END:VEVENT
BEGIN:VEVENT
DTSTART;TZID=Europe/Paris:20191016T181500
DTEND;TZID=Europe/Paris:20191016T223000
DTSTAMP:20260423T200603
CREATED:20190517T130135Z
LAST-MODIFIED:20190517T130135Z
UID:4295-1571249700-1571265000@www.arb-cdb.ch
SUMMARY:Ciné-Débat-Rencontres de Berne : La Route d’Istanbul
DESCRIPTION:Film :  » La Route d’Istanbul  » sous-titré en français\nSujet: Les parents confrontés à la radicalisation de leurs enfants\nIntervenant: Peter Regli\, ancien Chef du Service de renseignement suisse.\nLieu : Freies Gymnasium Beaulieusstrasse 55\, 3012 Berne\nDébats avec traduction simultanée en allemand. \nPrésentation du Film 🎥 :\nLorsque la police lui apprend qu’Elodie\, sa fille unique de 19 ans\, est en route pour rejoindre la Syrie\, la vie d’Elisabeth bascule. Elle est sous le choc et ne comprend pas ce geste car cette guerre n’est pas la leur. Elisabeth parvient à reprendre contact avec Elodie mais elle est vite démunie face à cette jeune femme qu’elle ne reconnaît plus. Seule dans son combat\, elle décide alors de partir en Syrie chercher sa fille et la convaincre de revenir avec elle en Belgique. Mère et fille arriveront-elles à se retrouver et à se comprendre ? \nHoraires :\n18h15 : Accueil et buffet dînatoire salé\n19h15 : Début du Film + débat suivi d’un buffet sucré \nUne participation financière est demandée pour le buffet dînatoire.\nPlus d’information : https://www.cinerencontredebats.com/tarifs
URL:https://www.arb-cdb.ch/event/route-istanbul/
LOCATION:Freies Gymnasium\, Beaulieustrasse 55\, 3012 Berne\, Suisse
CATEGORIES:Animation,Film projeté en français,Ouvert à tous,Payant
END:VEVENT
BEGIN:VEVENT
DTSTART;VALUE=DATE:20191019
DTEND;VALUE=DATE:20191020
DTSTAMP:20260423T200603
CREATED:20190209T074920Z
LAST-MODIFIED:20190211T082702Z
UID:3698-1571443200-1571529599@www.arb-cdb.ch
SUMMARY:Repas d'automne de la société des Neuchâtelois
DESCRIPTION:
URL:https://www.arb-cdb.ch/event/repas-dautomne-de-la-societe-des-neuchatelois/
CATEGORIES:Autre manifestation,Réservé aux membres,Sur invitation
ORGANIZER;CN="Soci%C3%A9t%C3%A9 des Neuch%C3%A2telois %C3%A0 Berne":MAILTO:muehlemann.alfred@bluewin.ch
END:VEVENT
BEGIN:VEVENT
DTSTART;VALUE=DATE:20191019
DTEND;VALUE=DATE:20191021
DTSTAMP:20260423T200603
CREATED:20190827T160101Z
LAST-MODIFIED:20190827T160101Z
UID:4761-1571443200-1571615999@www.arb-cdb.ch
SUMMARY:Marcher avec le CRF
DESCRIPTION:Le Club de randonnée et de ski de fond de Berne (CRF) vous invite à cette promenade de\nMariastein à Kleinlützel\, environ 3 ½ h\, ↑ 520 ↓ 600 m (détails\, voir le programme ci-dessous)\nLa date définitive\, samedi ou dimanche\, de l’excursion dépend de la météo.\nAdressez-vous directement à l’organisatrice ou l’organisateur de préférence avant le jeudi soir.\nCela vous permet de recevoir les renseignements utiles et d’optimaliser les transports.
URL:https://www.arb-cdb.ch/event/marcher-avec-le-crf-2019-7-3-8/
CATEGORIES:Excursion,Gratuit,Ouvert à tous
END:VEVENT
BEGIN:VEVENT
DTSTART;TZID=Europe/Paris:20191019T100000
DTEND;TZID=Europe/Paris:20191019T120000
DTSTAMP:20260423T200603
CREATED:20190927T142154Z
LAST-MODIFIED:20190927T142224Z
UID:4867-1571479200-1571486400@www.arb-cdb.ch
SUMMARY:Brunch littéraire avec l’écrivain Marc Voltenauer
DESCRIPTION:L’Alliance Française de Berne vous invite à un brunch littéraire au restaurant Egghölzli\, avec \nMarc Voltenauer\, romancier \nLe programme détaillé et les informations pratiques sont ici (clic) inclus pour vous inscrire (le nombre de places est limité à 75) \nLe programme de l’Alliance Française de Berne n’est pas définitif. Son agenda est ici \nLes manifestations sont en principe réservées aux membres de l’Alliance Française de Berne. Les visiteurs non-membres sont les bienvenus et devront s’acquitter d’un prix d’entrée de CHF15.-
URL:https://www.arb-cdb.ch/event/brunch-litteraire-avec-marc-volenauer/
LOCATION:Restaurant Egghölzli\, Weltpoststrasse 16\, 3015 Bern\, Suisse
CATEGORIES:Conférence,Payant pour les non-membres
END:VEVENT
BEGIN:VEVENT
DTSTART;TZID=Europe/Paris:20191021T141500
DTEND;TZID=Europe/Paris:20191021T161500
DTSTAMP:20260423T200603
CREATED:20190630T142157Z
LAST-MODIFIED:20190630T165710Z
UID:4520-1571667300-1571674500@www.arb-cdb.ch
SUMMARY:Séminaire UNAB de M. Patrick CRISPINI (1/3)
DESCRIPTION:Séminaire en trois volets de M. Patrick CRISPINI\n\nChef d’orchestre\, musicologue\, enseignant \nLa musique de film : des notes et des images (1re partie)\nDès les débuts du cinématographe\, la musique a accompagné les images animées : improvisations au piano\, machines à bruits diverses\, orgues de cinéma\, orchestres et bruitages en tous genres\, œuvres originales (en novembre 1908\, Saint-Saëns livre la première partition connue pour L’Assassinat du Duc de Guise). Les compagnies de cinéma\, puis les grands réalisateurs\, vont très vite comprendre l’importance du soutien musical pour la dramaturgie d’un film. À Hollywood\, les pionniers Max Steiner\, Albert Newman\, Erich Korngold\, Miklós Rózsa\, Dimitri Tiomkin écrivent les grandes pages de l’âge d’or du cinéma. La comédie musicale devient un genre propre à l’industrie du 7e art : on fait appel aux meilleurs compositeurs : George Gershwin\, Cole Porter\, Leonard Bernstein… \nComment écrit-on une musique de film\, quelles sont les techniques du genre ? Patrick Crispini\, lui-même auteur de musiques pour le cinéma\, remontant l’histoire du cinéma\, propose ce séminaire très documenté et passionnant pour mieux apprécier les liens subtils et souvent méconnus entre l’image et les sons. \nInscription: ici \nPapillon: \n		\n			\n			\n		\n\n		 \nCette page est tirée du site de l’UNAB.
URL:https://www.arb-cdb.ch/event/conference-unab-2019-s11/
LOCATION:Université de Berne\, Hochschulstrasse 4\, Berne\, 3012\, Suisse
CATEGORIES:Payant,Payant pour les non-membres,Séminaire
ORGANIZER;CN="Universit%C3%A9 des A%C3%AEn%C3%A9s de langue fran%C3%A7aise de Berne   ( UNAB )":MAILTO:unab@bluewin.ch
END:VEVENT
BEGIN:VEVENT
DTSTART;TZID=Europe/Paris:20191022T141500
DTEND;TZID=Europe/Paris:20191022T161500
DTSTAMP:20260423T200603
CREATED:20190630T142600Z
LAST-MODIFIED:20190630T165639Z
UID:4523-1571753700-1571760900@www.arb-cdb.ch
SUMMARY:Séminaire UNAB de M. Patrick CRISPINI (2/3)
DESCRIPTION:Séminaire en trois volets de M. Patrick CRISPINI\n\nChef d’orchestre\, musicologue\, enseignant \nLa musique de film : des notes et des images (2e partie)\nDès les débuts du cinématographe\, la musique a accompagné les images animées : improvisations au piano\, machines à bruits diverses\, orgues de cinéma\, orchestres et bruitages en tous genres\, œuvres originales (en novembre 1908\, Saint-Saëns livre la première partition connue pour L’Assassinat du Duc de Guise). Les compagnies de cinéma\, puis les grands réalisateurs\, vont très vite comprendre l’importance du soutien musical pour la dramaturgie d’un film. À Hollywood\, les pionniers Max Steiner\, Albert Newman\, Erich Korngold\, Miklós Rózsa\, Dimitri Tiomkin écrivent les grandes pages de l’âge d’or du cinéma. La comédie musicale devient un genre propre à l’industrie du 7e art : on fait appel aux meilleurs compositeurs : George Gershwin\, Cole Porter\, Leonard Bernstein… \nComment écrit-on une musique de film\, quelles sont les techniques du genre ? Patrick Crispini\, lui-même auteur de musiques pour le cinéma\, remontant l’histoire du cinéma\, propose ce séminaire très documenté et passionnant pour mieux apprécier les liens subtils et souvent méconnus entre l’image et les sons. \nInscription: ici \nPapillon: \n		\n			\n			\n		\n\n		 \nCette page est tirée du site de l’UNAB.
URL:https://www.arb-cdb.ch/event/conference-unab-2019-s12/
LOCATION:Université de Berne\, Hochschulstrasse 4\, Berne\, 3012\, Suisse
CATEGORIES:Payant,Payant pour les non-membres,Séminaire
ORGANIZER;CN="Universit%C3%A9 des A%C3%AEn%C3%A9s de langue fran%C3%A7aise de Berne   ( UNAB )":MAILTO:unab@bluewin.ch
END:VEVENT
BEGIN:VEVENT
DTSTART;TZID=Europe/Paris:20191023T141500
DTEND;TZID=Europe/Paris:20191023T161500
DTSTAMP:20260423T200603
CREATED:20190630T142723Z
LAST-MODIFIED:20190630T165605Z
UID:4526-1571840100-1571847300@www.arb-cdb.ch
SUMMARY:Séminaire UNAB de M. Patrick CRISPINI (3/3)
DESCRIPTION:Séminaire en trois volets de M. Patrick CRISPINI\n\nChef d’orchestre\, musicologue\, enseignant \nLa musique de film : des notes et des images (3e partie)\nDès les débuts du cinématographe\, la musique a accompagné les images animées : improvisations au piano\, machines à bruits diverses\, orgues de cinéma\, orchestres et bruitages en tous genres\, œuvres originales (en novembre 1908\, Saint-Saëns livre la première partition connue pour L’Assassinat du Duc de Guise). Les compagnies de cinéma\, puis les grands réalisateurs\, vont très vite comprendre l’importance du soutien musical pour la dramaturgie d’un film. À Hollywood\, les pionniers Max Steiner\, Albert Newman\, Erich Korngold\, Miklós Rózsa\, Dimitri Tiomkin écrivent les grandes pages de l’âge d’or du cinéma. La comédie musicale devient un genre propre à l’industrie du 7e art : on fait appel aux meilleurs compositeurs : George Gershwin\, Cole Porter\, Leonard Bernstein… \nComment écrit-on une musique de film\, quelles sont les techniques du genre ? Patrick Crispini\, lui-même auteur de musiques pour le cinéma\, remontant l’histoire du cinéma\, propose ce séminaire très documenté et passionnant pour mieux apprécier les liens subtils et souvent méconnus entre l’image et les sons. \n\n\nInscription: ici \nPapillon: \n		\n			\n			\n		\n\n		 \n  \n\n\nCette page est tirée du site de l’UNAB.
URL:https://www.arb-cdb.ch/event/conference-unab-2019-s13/
LOCATION:Université de Berne\, Hochschulstrasse 4\, Berne\, 3012\, Suisse
CATEGORIES:Payant,Payant pour les non-membres,Séminaire
ORGANIZER;CN="Universit%C3%A9 des A%C3%AEn%C3%A9s de langue fran%C3%A7aise de Berne   ( UNAB )":MAILTO:unab@bluewin.ch
END:VEVENT
BEGIN:VEVENT
DTSTART;TZID=Europe/Paris:20191024T141500
DTEND;TZID=Europe/Paris:20191024T161500
DTSTAMP:20260423T200603
CREATED:20190630T130407Z
LAST-MODIFIED:20190630T130407Z
UID:4456-1571926500-1571933700@www.arb-cdb.ch
SUMMARY:Conférence UNAB
DESCRIPTION:Mme Liselotte GOLLO\n\nHistorienne de l’art \nKandinsky et Klee\, de l’expressionnisme au Bauhaus\nArtistes incontournables du 20e siècle\, considérés comme des pères fondateurs de la modernité classique en Allemagne. Artistes qui contribuèrent au développement d’une nouvelle approche de l’art dans le contexte de la république de Weimar. \nEnseignant tous les deux dans la célèbre école du Bauhaus\, cette expérience contribuera à l’affirmation de leur langage plastique\, tout en leur ouvrant de nouvelles voies stylistiques et esthétiques. \nKlee et Kandinsky prônent très tôt la liberté de la création artistique et l’affirmation de l’art comme besoin de l’être au-delà des frontières esthétiques et régionales. \nLibération de la couleur\, abstraction\, géométrie\, approche poétique-musicale concrétisée par la forme et la couleur. \nAmitié inébranlable rythmée par des échanges\, du soutien mutuel\, et par ce feu sacré qui les anime et qui fait de Kandinsky et Klee\, des artistes essentiels de l’art moderne. \n\n\n\nCette page est tirée du site de l’UNAB.
URL:https://www.arb-cdb.ch/event/conference-unab-2019-c07/
LOCATION:Musée d’histoire naturelle\, Bernastrasse 15\, 3005 Berne\, Suisse
CATEGORIES:Conférence,Payant pour les non-membres
ORGANIZER;CN="Universit%C3%A9 des A%C3%AEn%C3%A9s de langue fran%C3%A7aise de Berne   ( UNAB )":MAILTO:unab@bluewin.ch
END:VEVENT
BEGIN:VEVENT
DTSTART;TZID=Europe/Paris:20191026T083000
DTEND;TZID=Europe/Paris:20191026T171500
DTSTAMP:20260423T200603
CREATED:20190806T194708Z
LAST-MODIFIED:20190927T133537Z
UID:4681-1572078600-1572110100@www.arb-cdb.ch
SUMMARY:Excursion de l'ARB\,  visite des mines d'asphalte du val de travers
DESCRIPTION:Pour sa sortie annuelle\, l’Association romande et francophone de Berne et environs (ARB) visitera les mines d’asphalte du val de Travers.\nOuverte à toute et tous\, merci de vous inscrire avant le 20 octobre 2019 (voir papillon ci-dessous)
URL:https://www.arb-cdb.ch/event/excursion-de-larb2019-minesdasphalte/
LOCATION:Mines d’asphalte\, Site de la Presta\, 2105 Travers\, Suisse
CATEGORIES:Excursion,Ouvert à tous,Payant,Visite guidée
END:VEVENT
BEGIN:VEVENT
DTSTART;TZID=Europe/Paris:20191031T141500
DTEND;TZID=Europe/Paris:20191031T161500
DTSTAMP:20260423T200603
CREATED:20190630T130657Z
LAST-MODIFIED:20190630T130657Z
UID:4460-1572531300-1572538500@www.arb-cdb.ch
SUMMARY:Conférence UNAB
DESCRIPTION:M. Robert KOPP\n\nÉcrivain\, éditeur\, professeur de littérature française à l’Université de Bâle \nLe monde opaque de l’édition\,\nagissements des agents et scandales des prix littéraires \nDepuis que la littérature est entrée dans l’âge industriel – c’est-à-dire depuis le milieu du 19e siècle – le livre est souvent devenu un simple produit dont l’éditeur essaie d’assurer le succès par tous les moyens : publicité\, campagnes de marketing\, prix littéraires. L’écrivain – à moins que ce soient des ateliers d’écriture – fournit son texte à des agents chargés de la commercialisation. Un business qui se déroule dans l’ombre\, qui est entouré de secrets et donne lieu à des spéculations et à des légendes. Il est urgent de distinguer le vrai du faux ! \nCette page est tirée du site de l’UNAB.
URL:https://www.arb-cdb.ch/event/conference-unab-2019-c08/
LOCATION:Musée d’histoire naturelle\, Bernastrasse 15\, 3005 Berne\, Suisse
CATEGORIES:Conférence,Payant pour les non-membres
ORGANIZER;CN="Universit%C3%A9 des A%C3%AEn%C3%A9s de langue fran%C3%A7aise de Berne   ( UNAB )":MAILTO:unab@bluewin.ch
END:VEVENT
END:VCALENDAR