BEGIN:VCALENDAR
VERSION:2.0
PRODID:-//Association Romande et francophone de Berne et environs - ECPv6.15.20//NONSGML v1.0//EN
CALSCALE:GREGORIAN
METHOD:PUBLISH
X-ORIGINAL-URL:https://www.arb-cdb.ch
X-WR-CALDESC:Évènements pour Association Romande et francophone de Berne et environs
REFRESH-INTERVAL;VALUE=DURATION:PT1H
X-Robots-Tag:noindex
X-PUBLISHED-TTL:PT1H
BEGIN:VTIMEZONE
TZID:Europe/Paris
BEGIN:DAYLIGHT
TZOFFSETFROM:+0100
TZOFFSETTO:+0200
TZNAME:CEST
DTSTART:20230326T010000
END:DAYLIGHT
BEGIN:STANDARD
TZOFFSETFROM:+0200
TZOFFSETTO:+0100
TZNAME:CET
DTSTART:20231029T010000
END:STANDARD
BEGIN:DAYLIGHT
TZOFFSETFROM:+0100
TZOFFSETTO:+0200
TZNAME:CEST
DTSTART:20240331T010000
END:DAYLIGHT
BEGIN:STANDARD
TZOFFSETFROM:+0200
TZOFFSETTO:+0100
TZNAME:CET
DTSTART:20241027T010000
END:STANDARD
BEGIN:DAYLIGHT
TZOFFSETFROM:+0100
TZOFFSETTO:+0200
TZNAME:CEST
DTSTART:20250330T010000
END:DAYLIGHT
BEGIN:STANDARD
TZOFFSETFROM:+0200
TZOFFSETTO:+0100
TZNAME:CET
DTSTART:20251026T010000
END:STANDARD
END:VTIMEZONE
BEGIN:VEVENT
DTSTART;TZID=Europe/Paris:20241103T143000
DTEND;TZID=Europe/Paris:20241103T143000
DTSTAMP:20260419T235612
CREATED:20241009T221110Z
LAST-MODIFIED:20241009T221110Z
UID:10517-1730644200-1730644200@www.arb-cdb.ch
SUMMARY:Concert d'automne de l'Harmonikaverein Bern-Stadt
DESCRIPTION:L’Harmonikaverein Bern-Stadt (HVBS) a le plaisir de vous inviter à son concert d’automne
URL:https://www.arb-cdb.ch/event/concert-dautomne-de-lharmonikaverein-bern-stadt/
LOCATION:Hôtel Jardin\, Militärstrasse 38\, 3014 Bern\, Switzerland
CATEGORIES:Animation,Musique,Ouvert à tous,Payant
END:VEVENT
END:VCALENDAR