BEGIN:VCALENDAR
VERSION:2.0
PRODID:-//Association Romande et francophone de Berne et environs - ECPv6.15.20//NONSGML v1.0//EN
CALSCALE:GREGORIAN
METHOD:PUBLISH
X-WR-CALNAME:Association Romande et francophone de Berne et environs
X-ORIGINAL-URL:https://www.arb-cdb.ch
X-WR-CALDESC:Évènements pour Association Romande et francophone de Berne et environs
REFRESH-INTERVAL;VALUE=DURATION:PT1H
X-Robots-Tag:noindex
X-PUBLISHED-TTL:PT1H
BEGIN:VTIMEZONE
TZID:Europe/Paris
BEGIN:DAYLIGHT
TZOFFSETFROM:+0100
TZOFFSETTO:+0200
TZNAME:CEST
DTSTART:20230326T010000
END:DAYLIGHT
BEGIN:STANDARD
TZOFFSETFROM:+0200
TZOFFSETTO:+0100
TZNAME:CET
DTSTART:20231029T010000
END:STANDARD
BEGIN:DAYLIGHT
TZOFFSETFROM:+0100
TZOFFSETTO:+0200
TZNAME:CEST
DTSTART:20240331T010000
END:DAYLIGHT
BEGIN:STANDARD
TZOFFSETFROM:+0200
TZOFFSETTO:+0100
TZNAME:CET
DTSTART:20241027T010000
END:STANDARD
BEGIN:DAYLIGHT
TZOFFSETFROM:+0100
TZOFFSETTO:+0200
TZNAME:CEST
DTSTART:20250330T010000
END:DAYLIGHT
BEGIN:STANDARD
TZOFFSETFROM:+0200
TZOFFSETTO:+0100
TZNAME:CET
DTSTART:20251026T010000
END:STANDARD
END:VTIMEZONE
BEGIN:VEVENT
DTSTART;TZID=Europe/Paris:20240315T180000
DTEND;TZID=Europe/Paris:20240316T020000
DTSTAMP:20260419T215420
CREATED:20240308T110508Z
LAST-MODIFIED:20240308T110508Z
UID:9876-1710525600-1710554400@www.arb-cdb.ch
SUMMARY:La Nuit des Musées 2024
DESCRIPTION:La Nuit des musées à Berne plonge la ville fédérale dans une lumière magique et colorée :\nmusées et centres culturels ouvrent leurs portes et offrent des perspectives inoubliables derrière la scène.\nLes billets sont disponibles aux prix de 25 francs (aucun rabais) auprès des institutions participantes et auprès de l’Office de Tourisme à la gare centrale.\nTous les moins de 16 ans reçoivent un mini-ticket gratuit.\nIntroduction en français ici\nLe site (uniquement en allemand) « Museumsnacht Bern » ici
URL:https://www.arb-cdb.ch/event/la-nuit-des-musees-2024/
CATEGORIES:Animation,Exposition,Ouvert à tous,Payant
ATTACH;FMTTYPE=image/jpeg:https://www.arb-cdb.ch/wp-content/uploads/2024/03/NuitDesMusee2024.jpg
END:VEVENT
END:VCALENDAR