BEGIN:VCALENDAR
VERSION:2.0
PRODID:-//Association Romande et francophone de Berne et environs - ECPv6.15.20//NONSGML v1.0//EN
CALSCALE:GREGORIAN
METHOD:PUBLISH
X-WR-CALNAME:Association Romande et francophone de Berne et environs
X-ORIGINAL-URL:https://www.arb-cdb.ch
X-WR-CALDESC:Évènements pour Association Romande et francophone de Berne et environs
REFRESH-INTERVAL;VALUE=DURATION:PT1H
X-Robots-Tag:noindex
X-PUBLISHED-TTL:PT1H
BEGIN:VTIMEZONE
TZID:Europe/Paris
BEGIN:DAYLIGHT
TZOFFSETFROM:+0100
TZOFFSETTO:+0200
TZNAME:CEST
DTSTART:20250330T010000
END:DAYLIGHT
BEGIN:STANDARD
TZOFFSETFROM:+0200
TZOFFSETTO:+0100
TZNAME:CET
DTSTART:20251026T010000
END:STANDARD
BEGIN:DAYLIGHT
TZOFFSETFROM:+0100
TZOFFSETTO:+0200
TZNAME:CEST
DTSTART:20260329T010000
END:DAYLIGHT
BEGIN:STANDARD
TZOFFSETFROM:+0200
TZOFFSETTO:+0100
TZNAME:CET
DTSTART:20261025T010000
END:STANDARD
BEGIN:DAYLIGHT
TZOFFSETFROM:+0100
TZOFFSETTO:+0200
TZNAME:CEST
DTSTART:20270328T010000
END:DAYLIGHT
BEGIN:STANDARD
TZOFFSETFROM:+0200
TZOFFSETTO:+0100
TZNAME:CET
DTSTART:20271031T010000
END:STANDARD
END:VTIMEZONE
BEGIN:VEVENT
DTSTART;TZID=Europe/Paris:20261106T113000
DTEND;TZID=Europe/Paris:20261106T113000
DTSTAMP:20260422T085118
CREATED:20260225T152014Z
LAST-MODIFIED:20260225T152014Z
UID:12094-1793964600-1793964600@www.arb-cdb.ch
SUMMARY:Repas de midi (fondue) avec la SFB
DESCRIPTION:La Société fribourgeoise de Berne (SFB) organise\nson traditionnel repas de midi (fondue)\, probablement au restaurant Lötschberg\,\nvendredi 6 novembre.\nPlus d’informations et détails en temps et lieu
URL:https://www.arb-cdb.ch/event/repas-de-midi-fondue-avec-la-sfb-2026/
LOCATION:Restaurant Lötschberg\, Zeughausgasse 16\, 3011 Bern\, Switzerland
CATEGORIES:Autre manifestation,Ouvert à tous,Payant,sur inscription
END:VEVENT
END:VCALENDAR