BEGIN:VCALENDAR
VERSION:2.0
PRODID:-//Association Romande et francophone de Berne et environs - ECPv6.15.20//NONSGML v1.0//EN
CALSCALE:GREGORIAN
METHOD:PUBLISH
X-ORIGINAL-URL:https://www.arb-cdb.ch
X-WR-CALDESC:Évènements pour Association Romande et francophone de Berne et environs
REFRESH-INTERVAL;VALUE=DURATION:PT1H
X-Robots-Tag:noindex
X-PUBLISHED-TTL:PT1H
BEGIN:VTIMEZONE
TZID:Europe/Paris
BEGIN:DAYLIGHT
TZOFFSETFROM:+0100
TZOFFSETTO:+0200
TZNAME:CEST
DTSTART:20240331T010000
END:DAYLIGHT
BEGIN:STANDARD
TZOFFSETFROM:+0200
TZOFFSETTO:+0100
TZNAME:CET
DTSTART:20241027T010000
END:STANDARD
BEGIN:DAYLIGHT
TZOFFSETFROM:+0100
TZOFFSETTO:+0200
TZNAME:CEST
DTSTART:20250330T010000
END:DAYLIGHT
BEGIN:STANDARD
TZOFFSETFROM:+0200
TZOFFSETTO:+0100
TZNAME:CET
DTSTART:20251026T010000
END:STANDARD
BEGIN:DAYLIGHT
TZOFFSETFROM:+0100
TZOFFSETTO:+0200
TZNAME:CEST
DTSTART:20260329T010000
END:DAYLIGHT
BEGIN:STANDARD
TZOFFSETFROM:+0200
TZOFFSETTO:+0100
TZNAME:CET
DTSTART:20261025T010000
END:STANDARD
END:VTIMEZONE
BEGIN:VEVENT
DTSTART;TZID=Europe/Paris:20250506T141500
DTEND;TZID=Europe/Paris:20250506T160000
DTSTAMP:20260420T175136
CREATED:20240611T133908Z
LAST-MODIFIED:20240611T133923Z
UID:10144-1746540900-1746547200@www.arb-cdb.ch
SUMMARY:Séminaire UNAB de M. René SPALINGER (2/3)
DESCRIPTION:Séminaire en trois volets de M. René SPALINGER\n\nMusicien\, chef d’orchestre et conférencier \nLa Flûte enchantée de Mozart\, une ultime preuve d’Amour!\n(2e partie)\n\n\n\n\n\n\n  \n\n\n\n\n\n\n\n\n\n\nInscription: ici \nDocumentation: ici \nCette page est tirée du site de l’UNAB.
URL:https://www.arb-cdb.ch/event/seminaire-unab-250506/
LOCATION:Fondation ascaro\, Belpstrasse 37\, 3007 Berne\, Suisse
CATEGORIES:Payant,Payant pour les non-membres,Séminaire
ORGANIZER;CN="Universit%C3%A9 des A%C3%AEn%C3%A9s de langue fran%C3%A7aise de Berne   ( UNAB )":MAILTO:unab@bluewin.ch
END:VEVENT
BEGIN:VEVENT
DTSTART;TZID=Europe/Paris:20250513T141500
DTEND;TZID=Europe/Paris:20250513T160000
DTSTAMP:20260420T175136
CREATED:20240611T134101Z
LAST-MODIFIED:20240611T134101Z
UID:10147-1747145700-1747152000@www.arb-cdb.ch
SUMMARY:Séminaire UNAB de M. René SPALINGER (3/3)
DESCRIPTION:Séminaire en trois volets de M. René SPALINGER\n\nMusicien\, chef d’orchestre et conférencier \nLa Flûte enchantée de Mozart\, une ultime preuve d’Amour!\n(3e partie)\n\n\n\n\n\n\n  \n\n\n\n\n\n\n\n\n\n\nInscription: ici \nDocumentation: ici \nCette page est tirée du site de l’UNAB.
URL:https://www.arb-cdb.ch/event/seminaire-unab-250513/
LOCATION:Fondation ascaro\, Belpstrasse 37\, 3007 Berne\, Suisse
CATEGORIES:Payant,Payant pour les non-membres,Séminaire
ORGANIZER;CN="Universit%C3%A9 des A%C3%AEn%C3%A9s de langue fran%C3%A7aise de Berne   ( UNAB )":MAILTO:unab@bluewin.ch
END:VEVENT
BEGIN:VEVENT
DTSTART;TZID=Europe/Paris:20250522T193000
DTEND;TZID=Europe/Paris:20250522T193000
DTSTAMP:20260420T175136
CREATED:20250505T111448Z
LAST-MODIFIED:20250505T111448Z
UID:11191-1747942200-1747942200@www.arb-cdb.ch
SUMMARY:Le documentaire « Derib\, une vie dessinée »
DESCRIPTION:Sorti début avril en Suisse romande\, le documentaire Derib\, une vie dessinée sera exceptionnellement projeté à Berne ce printemps. \nUne séance est organisée le 22 mai\, à 19h30\, au cinéma Cinématte. \nConsacré à Derib\, le créateur de « Yakari »\, le film a été tourné durant la création de sa nouvelle BD\, « La Promesse »\, voir article sur la RTS.\nLa projection se déroulera en présence du réalisateur\, le Veveysan Sébastien Devrient\, auteur notamment de « Jean Troillet » et de « Une goutte d’eau sur un volcan ».\nDerib.
URL:https://www.arb-cdb.ch/event/le-documentaire-derib-une-vie-dessinee/
LOCATION:Cinématte\, restaurant\, bar\, cinéma\, Wasserwerkgasse 7\, 3011 Berne\, Switzerland
CATEGORIES:dédicace,Film projeté en français,Ouvert à tous,Payant
END:VEVENT
BEGIN:VEVENT
DTSTART;TZID=Europe/Paris:20250524T100000
DTEND;TZID=Europe/Paris:20250524T130000
DTSTAMP:20260420T175136
CREATED:20250220T073958Z
LAST-MODIFIED:20250420T100032Z
UID:11019-1748080800-1748091600@www.arb-cdb.ch
SUMMARY:Excursion de l'ARB: Tour de ville « Suivez votre nez à Berne » en français
DESCRIPTION:Quels effluves se propagent dans les rues de Berne ou encore y a-t-il une odeur particulière que l’on peut associer à la Cité des Ours ? Cette promenade nous mène littéralement par le bout du nez à travers ruelles et places de la vieille ville pour plonger dans le monde des odeurs et découvrir notre ville d’un tout autre point de vue. Et pour vous préparer à cette découverte odorifère\, quoi d’autre que de se replonger dans la lecture de la rubrique « Dix bonnes raisons d’habiter à Berne » du n° 6 / 24 consacrée à Brigitte Witschi. \nRendez-vous devant le Duftatelier « hey Klara » au n° 49 de la Rathausgasse à 10h00 h. Durée de la visite 90 minutes. \nAprès la visite\, nous vous proposons de partager un apéritif dans un établissement de la vieille ville afin de partager quelques moments de convivialité. \nLe nombre de places de ce tour de ville particulier est limité à vingt et son prix est de CHF 30.- pour les membres de l’ARB et de CHF 40.- pour les non-membres (apéritif à charge des participant.e.s). \nMerci de vous inscrire jusqu’au 19 mai 2025 \n\nVisite uniquement\nVisite + apéritif\n\nauprès de Jean-Philippe Amstein\, président de l’ARB\, par téléphone au 079 247 72 56 ou par courriel à president@arb-cdb.ch.
URL:https://www.arb-cdb.ch/event/excursion-de-larb-tour-de-ville-bern-der-nase-nach-en-francais/
LOCATION:Duftatelier « hey Klara »\, Rathausgasse 49\, Berne\, Bern\, 3011\, Switzerland
CATEGORIES:Excursion,Ouvert à tous,Payant,Visite guidée
END:VEVENT
END:VCALENDAR