BEGIN:VCALENDAR
VERSION:2.0
PRODID:-//Association Romande et francophone de Berne et environs - ECPv6.15.20//NONSGML v1.0//EN
CALSCALE:GREGORIAN
METHOD:PUBLISH
X-WR-CALNAME:Association Romande et francophone de Berne et environs
X-ORIGINAL-URL:https://www.arb-cdb.ch
X-WR-CALDESC:Évènements pour Association Romande et francophone de Berne et environs
REFRESH-INTERVAL;VALUE=DURATION:PT1H
X-Robots-Tag:noindex
X-PUBLISHED-TTL:PT1H
BEGIN:VTIMEZONE
TZID:Europe/Paris
BEGIN:DAYLIGHT
TZOFFSETFROM:+0100
TZOFFSETTO:+0200
TZNAME:CEST
DTSTART:20220327T010000
END:DAYLIGHT
BEGIN:STANDARD
TZOFFSETFROM:+0200
TZOFFSETTO:+0100
TZNAME:CET
DTSTART:20221030T010000
END:STANDARD
BEGIN:DAYLIGHT
TZOFFSETFROM:+0100
TZOFFSETTO:+0200
TZNAME:CEST
DTSTART:20230326T010000
END:DAYLIGHT
BEGIN:STANDARD
TZOFFSETFROM:+0200
TZOFFSETTO:+0100
TZNAME:CET
DTSTART:20231029T010000
END:STANDARD
BEGIN:DAYLIGHT
TZOFFSETFROM:+0100
TZOFFSETTO:+0200
TZNAME:CEST
DTSTART:20240331T010000
END:DAYLIGHT
BEGIN:STANDARD
TZOFFSETFROM:+0200
TZOFFSETTO:+0100
TZNAME:CET
DTSTART:20241027T010000
END:STANDARD
END:VTIMEZONE
BEGIN:VEVENT
DTSTART;TZID=Europe/Paris:20230307T140000
DTEND;TZID=Europe/Paris:20230307T163000
DTSTAMP:20260421T220538
CREATED:20221116T145318Z
LAST-MODIFIED:20221116T145904Z
UID:8304-1678197600-1678206600@www.arb-cdb.ch
SUMMARY:Séminaire UNAB de Mme Liselotte GOLLO (1/2)
DESCRIPTION:Séminaire en deux volets de Mme Liselotte GOLLO\n\nHistorienne de l’art \nFemmes artistes au XIXe siècle (1re partie)\n\n\n\n\n\n\n\n\n\n  \n\n\n\n\n\n\n\n\n\n\n\n\n\nInscription: ici \nDocumentation: ici \nCette page est tirée du site de l’UNAB.
URL:https://www.arb-cdb.ch/event/seminaire-unab-230307/
LOCATION:Université de Berne\, Hochschulstrasse 4\, Berne\, 3012\, Suisse
CATEGORIES:Payant,Payant pour les non-membres,Séminaire
ORGANIZER;CN="Universit%C3%A9 des A%C3%AEn%C3%A9s de langue fran%C3%A7aise de Berne   ( UNAB )":MAILTO:unab@bluewin.ch
END:VEVENT
BEGIN:VEVENT
DTSTART;TZID=Europe/Paris:20230314T140000
DTEND;TZID=Europe/Paris:20230314T163000
DTSTAMP:20260421T220538
CREATED:20221116T145440Z
LAST-MODIFIED:20230311T153026Z
UID:8306-1678802400-1678811400@www.arb-cdb.ch
SUMMARY:Séminaire UNAB de Mme Liselotte GOLLO (2/2)
DESCRIPTION:Séminaire en deux volets de Mme Liselotte GOLLO\n\nHistorienne de l’art \nFemmes artistes au XIXe siècle (2e partie)\n\n\n\n\n\n\n\n\n\n  \n\n\n\n\n\n\n\n\n\n\n\n\n\nInscription: ici \nDocumentation: ici \nCette page est tirée du site de l’UNAB.
URL:https://www.arb-cdb.ch/event/seminaire-unab-230314/
LOCATION:Fondation ascaro\, Belpstrasse 37\, 3007 Berne\, Suisse
CATEGORIES:Payant,Payant pour les non-membres,Séminaire
ORGANIZER;CN="Universit%C3%A9 des A%C3%AEn%C3%A9s de langue fran%C3%A7aise de Berne   ( UNAB )":MAILTO:unab@bluewin.ch
END:VEVENT
BEGIN:VEVENT
DTSTART;TZID=Europe/Paris:20230317T180000
DTEND;TZID=Europe/Paris:20230318T020000
DTSTAMP:20260421T220538
CREATED:20230305T130659Z
LAST-MODIFIED:20230305T130659Z
UID:8687-1679076000-1679104800@www.arb-cdb.ch
SUMMARY:La Nuit des Musées 2023
DESCRIPTION:La Nuit des musées à Berne plonge la ville fédérale dans une lumière magique et colorée :\nmusées et centres culturels ouvrent leurs portes et offrent des perspectives inoubliables derrière la scène.\nLes billets sont disponibles aux prix de 25 francs (aucun rabais) auprès des institutions participantes et auprès de l’Office de Tourisme à la gare centrale.\nTous les moins de 16 ans reçoivent un mini-ticket gratuit.\nIntroduction en français ici\nLe site (uniquement en allemand) « Museumsnacht Bern » ici
URL:https://www.arb-cdb.ch/event/la-nuit-des-musees-2023/
CATEGORIES:Animation,Exposition,Ouvert à tous,Payant
END:VEVENT
BEGIN:VEVENT
DTSTART;TZID=Europe/Paris:20230323T190000
DTEND;TZID=Europe/Paris:20230323T190000
DTSTAMP:20260421T220538
CREATED:20230307T095615Z
LAST-MODIFIED:20230307T103805Z
UID:8706-1679598000-1679598000@www.arb-cdb.ch
SUMMARY:Les jeudis francophones : DIMONÉ (F)\, piano-voix avec J.C. Sirven
DESCRIPTION:L’association 1\,2\,3… chansons vous propose sa soirée au 5ème étage\, à Bene\,  dès 20 h;\nprécédé d’un dîner convivial si vous le souhaitez dès 19 h (ouverture des portes).\nVenez découvrir des artistes émergents ou confirmés qui saurons vous enthousiasmer et vous étonner. \nCe soir Dimoné (F)\, piano-voix avec Jean Chris Sirven \n25.-CHF / membre (toute association francophone en Suisse): 20.- CHF / étudiants: 10.- CHF\nDîner convivial à 12.- CHF (pâtes et salade)\nRéservations : info@123chanson.ch ou 079 608 91 48
URL:https://www.arb-cdb.ch/event/les-jeudis-francophones-dimone/
LOCATION:5Ième Etage\, Mühlenplatz 11\, Berne\, 3011\, Switzerland
CATEGORIES:Animation,Musique,Payant
END:VEVENT
END:VCALENDAR