BEGIN:VCALENDAR
VERSION:2.0
PRODID:-//Association Romande et francophone de Berne et environs - ECPv6.15.20//NONSGML v1.0//EN
CALSCALE:GREGORIAN
METHOD:PUBLISH
X-WR-CALNAME:Association Romande et francophone de Berne et environs
X-ORIGINAL-URL:https://www.arb-cdb.ch
X-WR-CALDESC:Évènements pour Association Romande et francophone de Berne et environs
REFRESH-INTERVAL;VALUE=DURATION:PT1H
X-Robots-Tag:noindex
X-PUBLISHED-TTL:PT1H
BEGIN:VTIMEZONE
TZID:Europe/Paris
BEGIN:DAYLIGHT
TZOFFSETFROM:+0100
TZOFFSETTO:+0200
TZNAME:CEST
DTSTART:20240331T010000
END:DAYLIGHT
BEGIN:STANDARD
TZOFFSETFROM:+0200
TZOFFSETTO:+0100
TZNAME:CET
DTSTART:20241027T010000
END:STANDARD
BEGIN:DAYLIGHT
TZOFFSETFROM:+0100
TZOFFSETTO:+0200
TZNAME:CEST
DTSTART:20250330T010000
END:DAYLIGHT
BEGIN:STANDARD
TZOFFSETFROM:+0200
TZOFFSETTO:+0100
TZNAME:CET
DTSTART:20251026T010000
END:STANDARD
BEGIN:DAYLIGHT
TZOFFSETFROM:+0100
TZOFFSETTO:+0200
TZNAME:CEST
DTSTART:20260329T010000
END:DAYLIGHT
BEGIN:STANDARD
TZOFFSETFROM:+0200
TZOFFSETTO:+0100
TZNAME:CET
DTSTART:20261025T010000
END:STANDARD
END:VTIMEZONE
BEGIN:VEVENT
DTSTART;TZID=Europe/Paris:20251002T141500
DTEND;TZID=Europe/Paris:20251002T160000
DTSTAMP:20260420T222635
CREATED:20250630T115243Z
LAST-MODIFIED:20250630T115243Z
UID:11330-1759414500-1759420800@www.arb-cdb.ch
SUMMARY:Conférence UNAB
DESCRIPTION:Nicole Schaerli \nInfirmière\, aromathérapeute ASCA \nComment les huiles essentielles protègent des maux de l’hiver \nL’hiver est bientôt là\, et avec lui\, les virus et microbes qui affaiblissent votre organisme. Renforcez vos défenses avec les huiles essentielles ! Ravintsara\, épinette\, eucalyptus globulus\, des alliées puissantes pour protéger votre système immunitaire et soulager les maux de l’hiver. \nJe vous ferai part de quelques recettes en diffusion\, en fumigation\, en massage\, pour traverser l’hiver en toute sécurité ! \nNaturelles\, efficaces et faciles à utiliser\, adoptez-les dès maintenant ! \nCette page est tirée du site de l’UNAB.
URL:https://www.arb-cdb.ch/event/conference-unab-251002/
LOCATION:Fondation ascaro\, Belpstrasse 37\, 3007 Berne\, Suisse
CATEGORIES:Conférence,Payant pour les non-membres
ORGANIZER;CN="Universit%C3%A9 des A%C3%AEn%C3%A9s de langue fran%C3%A7aise de Berne   ( UNAB )":MAILTO:unab@bluewin.ch
END:VEVENT
BEGIN:VEVENT
DTSTART;TZID=Europe/Paris:20251016T141500
DTEND;TZID=Europe/Paris:20251016T160000
DTSTAMP:20260420T222635
CREATED:20250630T115606Z
LAST-MODIFIED:20250630T115606Z
UID:11332-1760624100-1760630400@www.arb-cdb.ch
SUMMARY:Conférence UNAB
DESCRIPTION:Jean-Marc dos Santos \nJournaliste\, auteur\, scénariste\, chanteur \nVous\, Nous… Garo ! \nDu Brésil à New York en passant par Saint-Louis du Sénégal\, il fut aussi un amoureux prosélyte des musiques du Monde. Mais avant toute chose\, Claude Nougaro était un authentique poète\, jongleur de mots\, équilibriste d’un verbe toujours porté haut et fort\, entre la folie d’un Artaud et la sensualité d’un Audiberti. \nJean-Marc dos Santos a côtoyé le Petit Taureau de Toulouse à une époque charnière. Au milieu des années 80\, il est assistant du multi-instrumentiste gascon Bernard Lubat\, alors batteur du Trio Nougaro de Bleu\, Blanc\, Blues. A l’issue d’un mois d’Olympia\, il assiste à la rupture entre Claude et le directeur artistique de sa maison de disque\, Barclay. Du festival d’Uzeste à la Fête de l’Humanité\, Jean-Marc dos Santos est de toutes les turpitudes nougaresques jusqu’au départ à New York. \nCette page est tirée du site de l’UNAB.
URL:https://www.arb-cdb.ch/event/conference-unab-251016/
LOCATION:Fondation ascaro\, Belpstrasse 37\, 3007 Berne\, Suisse
CATEGORIES:Conférence,Payant pour les non-membres
ORGANIZER;CN="Universit%C3%A9 des A%C3%AEn%C3%A9s de langue fran%C3%A7aise de Berne   ( UNAB )":MAILTO:unab@bluewin.ch
END:VEVENT
BEGIN:VEVENT
DTSTART;TZID=Europe/Paris:20251020T141500
DTEND;TZID=Europe/Paris:20251020T160000
DTSTAMP:20260420T222635
CREATED:20250702T073511Z
LAST-MODIFIED:20250702T074908Z
UID:11378-1760969700-1760976000@www.arb-cdb.ch
SUMMARY:Séminaire UNAB de Patrick CRISPINI (1/3)
DESCRIPTION:Séminaire en trois volets de Patrick CRISPINI\n\nChef d’orchestre\, musicien\, pédagogue \nDialogues au cinéma\n(1re partie)\n\n\n\n\n\n\n  \n\n\n\n\n\n\n\n\n\n\nInscription: ici \nDocumentation: ici \nCette page est tirée du site de l’UNAB.
URL:https://www.arb-cdb.ch/event/unab-seminaire-crispini1/
LOCATION:Fondation ascaro\, Belpstrasse 37\, 3007 Berne\, Suisse
CATEGORIES:Payant,Payant pour les non-membres,Séminaire
ORGANIZER;CN="Universit%C3%A9 des A%C3%AEn%C3%A9s de langue fran%C3%A7aise de Berne   ( UNAB )":MAILTO:unab@bluewin.ch
END:VEVENT
BEGIN:VEVENT
DTSTART;TZID=Europe/Paris:20251021T141500
DTEND;TZID=Europe/Paris:20251021T160000
DTSTAMP:20260420T222635
CREATED:20250702T073636Z
LAST-MODIFIED:20250702T074005Z
UID:11385-1761056100-1761062400@www.arb-cdb.ch
SUMMARY:Séminaire UNAB de Patrick CRISPINI (2/3)
DESCRIPTION:Séminaire en trois volets de Patrick CRISPINI\n\nChef d’orchestre\, musicien\, pédagogue \nDialogues au cinéma\n(2e partie)\n\n\n\n\n\n\n  \n\n\n\n\n\n\n\n\n\n\nInscription: ici \nDocumentation: ici \nCette page est tirée du site de l’UNAB.
URL:https://www.arb-cdb.ch/event/scrispini-2/
LOCATION:Fondation ascaro\, Belpstrasse 37\, 3007 Berne\, Suisse
CATEGORIES:Payant,Payant pour les non-membres,Séminaire
ORGANIZER;CN="Universit%C3%A9 des A%C3%AEn%C3%A9s de langue fran%C3%A7aise de Berne   ( UNAB )":MAILTO:unab@bluewin.ch
END:VEVENT
BEGIN:VEVENT
DTSTART;TZID=Europe/Paris:20251022T141500
DTEND;TZID=Europe/Paris:20251022T160000
DTSTAMP:20260420T222635
CREATED:20250702T073732Z
LAST-MODIFIED:20250702T073913Z
UID:11387-1761142500-1761148800@www.arb-cdb.ch
SUMMARY:Séminaire UNAB de Patrick CRISPINI (3/3)
DESCRIPTION:Séminaire en trois volets de Patrick CRISPINI\n\nChef d’orchestre\, musicien\, pédagogue \nDialogues au cinéma\n(3e partie)\n\n\n\n\n\n\n  \n\n\n\n\n\n\n\n\n\n\nInscription: ici \nDocumentation: ici \nCette page est tirée du site de l’UNAB.
URL:https://www.arb-cdb.ch/event/scrispini-3/
LOCATION:Fondation ascaro\, Belpstrasse 37\, 3007 Berne\, Suisse
CATEGORIES:Payant,Payant pour les non-membres,Séminaire
ORGANIZER;CN="Universit%C3%A9 des A%C3%AEn%C3%A9s de langue fran%C3%A7aise de Berne   ( UNAB )":MAILTO:unab@bluewin.ch
END:VEVENT
BEGIN:VEVENT
DTSTART;TZID=Europe/Paris:20251023T141500
DTEND;TZID=Europe/Paris:20251023T160000
DTSTAMP:20260420T222635
CREATED:20250630T115839Z
LAST-MODIFIED:20250630T130721Z
UID:11334-1761228900-1761235200@www.arb-cdb.ch
SUMMARY:Conférence UNAB
DESCRIPTION:Fanette Jounieaux \nComédienne \nL’espace théâtral : la fabrique du rêve \nThéatron veut dire « le lieu où l’on regarde ». Le théâtre\, c’est donc avant tout un espace physique à part\, dédié à la contemplation des spectacles\, un endroit où le rêve peut naître. Amphithéâtre grec\, scène élisabéthaine en éperon\, mystères médiévaux s’implantant sur les parvis de cathédrales\, théâtres à l’italienne… \nIl existe tant de formes de théâtre ! Quel sens ont-elles ? Et que racontent-elles des sociétés dans lesquelles elles s’inscrivent ? \nQuel impact l’espace théâtral a-t-il sur l’écriture des drames\, le jeu des comédiens\, la réception du spectacle ? La forme de la boîte à rêves modifie le rêve lui-même… Rêvons\, sous toutes les formes ! \nCette page est tirée du site de l’UNAB.
URL:https://www.arb-cdb.ch/event/conference-unab-251023/
LOCATION:Fondation ascaro\, Belpstrasse 37\, 3007 Berne\, Suisse
CATEGORIES:Conférence,Payant pour les non-membres
ORGANIZER;CN="Universit%C3%A9 des A%C3%AEn%C3%A9s de langue fran%C3%A7aise de Berne   ( UNAB )":MAILTO:unab@bluewin.ch
END:VEVENT
BEGIN:VEVENT
DTSTART;TZID=Europe/Paris:20251030T141500
DTEND;TZID=Europe/Paris:20251030T160000
DTSTAMP:20260420T222635
CREATED:20250630T120155Z
LAST-MODIFIED:20250630T120155Z
UID:11336-1761833700-1761840000@www.arb-cdb.ch
SUMMARY:Conférence UNAB
DESCRIPTION:Stéphane Kronenberger \nHistorien de l’époque contemporaine\, docteur en histoire de l’Université de Nice Sophia-Antipolis \nLa Jordanie ou la stabilité au Moyen-Orient ? \nLe royaume hachémite de Jordanie est un État à peine centenaire\, dont la composition de la population résulte\, en large partie\, de l’arrivée de vagues successives de réfugiés\, en particulier de Palestiniens. Ce pays bénéficie d’une apparente stabilité politique\, qui contraste singulièrement avec le tumulte que connaissent ses voisins. Sa politique étrangère repose sur trois piliers principaux : l’alliance américaine\, la paix avec l’État hébreu et une coopération renforcée avec les monarchies arabes du Golfe. Enfin le territoire jordanien constitue un berceau de civilisation au très riche patrimoine archéologique. Des millions de touristes se rendent en Jordanie chaque année pour admirer la Pétra nabatéenne\, la mer Morte\, le désert du Wadi Rum et l’antique Jerash. Après les massacres du 7 octobre 2023 et le conflit qui s’en est suivi\, la Jordanie risque-t-elle d’être déstabilisée ? \nCette page est tirée du site de l’UNAB.
URL:https://www.arb-cdb.ch/event/conference-unab-251030/
LOCATION:Fondation ascaro\, Belpstrasse 37\, 3007 Berne\, Suisse
CATEGORIES:Conférence,Payant pour les non-membres
ORGANIZER;CN="Universit%C3%A9 des A%C3%AEn%C3%A9s de langue fran%C3%A7aise de Berne   ( UNAB )":MAILTO:unab@bluewin.ch
END:VEVENT
END:VCALENDAR