BEGIN:VCALENDAR
VERSION:2.0
PRODID:-//Association Romande et francophone de Berne et environs - ECPv6.15.20//NONSGML v1.0//EN
CALSCALE:GREGORIAN
METHOD:PUBLISH
X-WR-CALNAME:Association Romande et francophone de Berne et environs
X-ORIGINAL-URL:https://www.arb-cdb.ch
X-WR-CALDESC:Évènements pour Association Romande et francophone de Berne et environs
REFRESH-INTERVAL;VALUE=DURATION:PT1H
X-Robots-Tag:noindex
X-PUBLISHED-TTL:PT1H
BEGIN:VTIMEZONE
TZID:Europe/Paris
BEGIN:DAYLIGHT
TZOFFSETFROM:+0100
TZOFFSETTO:+0200
TZNAME:CEST
DTSTART:20230326T010000
END:DAYLIGHT
BEGIN:STANDARD
TZOFFSETFROM:+0200
TZOFFSETTO:+0100
TZNAME:CET
DTSTART:20231029T010000
END:STANDARD
BEGIN:DAYLIGHT
TZOFFSETFROM:+0100
TZOFFSETTO:+0200
TZNAME:CEST
DTSTART:20240331T010000
END:DAYLIGHT
BEGIN:STANDARD
TZOFFSETFROM:+0200
TZOFFSETTO:+0100
TZNAME:CET
DTSTART:20241027T010000
END:STANDARD
BEGIN:DAYLIGHT
TZOFFSETFROM:+0100
TZOFFSETTO:+0200
TZNAME:CEST
DTSTART:20250330T010000
END:DAYLIGHT
BEGIN:STANDARD
TZOFFSETFROM:+0200
TZOFFSETTO:+0100
TZNAME:CET
DTSTART:20251026T010000
END:STANDARD
END:VTIMEZONE
BEGIN:VEVENT
DTSTART;TZID=Europe/Paris:20241205T141500
DTEND;TZID=Europe/Paris:20241205T160000
DTSTAMP:20260422T030847
CREATED:20240611T085955Z
LAST-MODIFIED:20240611T085955Z
UID:10099-1733408100-1733414400@www.arb-cdb.ch
SUMMARY:Conférence UNAB
DESCRIPTION:Liselotte Gollo \nHistorienne de l’art \nLa représentation du nu dans la mythologie et l’art chrétien. \nLa nudité en tant que moyen de représentation de l’humain\, est répertoriée dans l’art occidental dès les premières sculptures façonnées par l’homme. L’antiquité grecque et romaine accordera une place d’honneur au nu. La peau\, en tant que deuxième vêtement\, est alors associée au corps athlétique masculin\, ce qui en fait l’idéal de beauté par excellence. La statuaire le met à l’honneur puis\, la peinture du XVe et du XVIe siècle multipliera les images diverses des nus profanes. Dans cette perspective\, la mythologie servira de moyen de prédilection d’exaltation du corps\, grâce à la façon dont elle s’approprie sa représentation. Le sujet mythologique devient alors le scénario de prédilection de la représentation du nu. Cependant\, l’iconographie chrétienne s’est emparée très tôt elle aussi de nudité\, imprégnant la tradition iconographique chrétienne de sa présence. Le lien au corps est lié étroitement à l’histoire même du christianisme. Adam et Ève\, Saint Sébastien\, le Christ côtoient ainsi dans les mêmes périodes historiques des Vénus\, des Apollons ou des Bacchus; la vertu chrétienne face à la notion de plaisir du nu mythologique. \nCette page est tirée du site de l’UNAB.
URL:https://www.arb-cdb.ch/event/conference-unab-241205/
LOCATION:Fondation ascaro\, Belpstrasse 37\, 3007 Berne\, Suisse
CATEGORIES:Conférence,Payant pour les non-membres
ORGANIZER;CN="Universit%C3%A9 des A%C3%AEn%C3%A9s de langue fran%C3%A7aise de Berne   ( UNAB )":MAILTO:unab@bluewin.ch
END:VEVENT
BEGIN:VEVENT
DTSTART;TZID=Europe/Paris:20241212T141500
DTEND;TZID=Europe/Paris:20241212T160000
DTSTAMP:20260422T030847
CREATED:20240611T090210Z
LAST-MODIFIED:20240611T090304Z
UID:10101-1734012900-1734019200@www.arb-cdb.ch
SUMMARY:Conférence UNAB
DESCRIPTION:Thierry Malvesy \nConservateur\, collections des sciences de la Terre\, Muséum d’histoire naturelle de Neuchâtel \nMythes & légendes en paléontologie \nToutes les civilisations\, à chaque époque\, ont généré des mythes et des légendes. Un grand nombre de ces récits ont une origine paléontologique. En effet\, au cours des siècles et des millénaires\, les découvertes de restes fossiles ont suscité de nombreuses questions. Il faut attendre la reconnaissance de la réalité du phénomène de l’extinction des espèces pour que la notion de fossiles et de paléontologie scientifiques débute. Nous devons cette étape primordiale de la science à Georges Cuvier\, le savant montbéliardais\, au début du XIXe siècle. \nLa première partie évoque la Préhistoire\, et les grands noms de la science de l’Antiquité\, du Moyen Âge et de la Renaissance qui ont véhiculé et alimenté ces légendes. \nLa seconde partie traite des légendes issues de fossiles: Les fossiles d’invertébrés (cornes d’Amon\, doigts du Diable\, œufs de serpents\, pierres stellaires\, pierres de Soleil\, griffes du Diable\, escargots de St Esprit et monnaies de St Ladislas)\, les fossiles de vertébrés de petite taille (Glossopètres et Buffonites)\, ainsi que les fossiles de vertébrés de grande taille qui ont servi d’argument à l’existence d’animaux fabuleux et gigantesques (Cyclopes\, Géants\, Licornes\, Basilic\, et bien sûr Dragons\, avec notamment la vouivre francomtoise). \nCette page est tirée du site de l’UNAB.
URL:https://www.arb-cdb.ch/event/conference-unab-241212/
LOCATION:Fondation ascaro\, Belpstrasse 37\, 3007 Berne\, Suisse
CATEGORIES:Conférence,Payant pour les non-membres
ORGANIZER;CN="Universit%C3%A9 des A%C3%AEn%C3%A9s de langue fran%C3%A7aise de Berne   ( UNAB )":MAILTO:unab@bluewin.ch
END:VEVENT
END:VCALENDAR