BEGIN:VCALENDAR
VERSION:2.0
PRODID:-//Association Romande et francophone de Berne et environs - ECPv6.15.20//NONSGML v1.0//EN
CALSCALE:GREGORIAN
METHOD:PUBLISH
X-ORIGINAL-URL:https://www.arb-cdb.ch
X-WR-CALDESC:Évènements pour Association Romande et francophone de Berne et environs
REFRESH-INTERVAL;VALUE=DURATION:PT1H
X-Robots-Tag:noindex
X-PUBLISHED-TTL:PT1H
BEGIN:VTIMEZONE
TZID:Europe/Paris
BEGIN:DAYLIGHT
TZOFFSETFROM:+0100
TZOFFSETTO:+0200
TZNAME:CEST
DTSTART:20230326T010000
END:DAYLIGHT
BEGIN:STANDARD
TZOFFSETFROM:+0200
TZOFFSETTO:+0100
TZNAME:CET
DTSTART:20231029T010000
END:STANDARD
BEGIN:DAYLIGHT
TZOFFSETFROM:+0100
TZOFFSETTO:+0200
TZNAME:CEST
DTSTART:20240331T010000
END:DAYLIGHT
BEGIN:STANDARD
TZOFFSETFROM:+0200
TZOFFSETTO:+0100
TZNAME:CET
DTSTART:20241027T010000
END:STANDARD
BEGIN:DAYLIGHT
TZOFFSETFROM:+0100
TZOFFSETTO:+0200
TZNAME:CEST
DTSTART:20250330T010000
END:DAYLIGHT
BEGIN:STANDARD
TZOFFSETFROM:+0200
TZOFFSETTO:+0100
TZNAME:CET
DTSTART:20251026T010000
END:STANDARD
END:VTIMEZONE
BEGIN:VEVENT
DTSTART;TZID=Europe/Paris:20241003T141500
DTEND;TZID=Europe/Paris:20241003T160000
DTSTAMP:20260422T151951
CREATED:20240611T083319Z
LAST-MODIFIED:20240611T083319Z
UID:10083-1727964900-1727971200@www.arb-cdb.ch
SUMMARY:Conférence UNAB
DESCRIPTION:Vincent Grandjean-Perrenoud-Contesse \nChercheur postdoctorant à l’Université de Zurich \nIdentité personnelle indéterminée\n \nLe problème de l’identité personnelle transtemporelle trouve sa conception moderne dans L’Essai sur l’entendement humain de John Locke (1632-1704). Il peut être formulé ainsi: «comment une même personne peut-elle exister à différents moments du temps?». Parmi les réponses les plus influentes à ce problème figure «l’approche psychologique (PSY)»: l’identité personnelle transtemporelle est fondée sur la continuité psychologique\, notamment à travers le maintien de souvenirs d’expériences passées. Par exemple\, l’adulte Vincent et l’enfant Vincent sont considérés comme étant la même personne parce que l’adulte Vincent se souvient des expériences vécues par l’enfant Vincent. En dépit de sa nature intuitive\, PSY est confrontée à trois objections majeures: (i) l’objection de la transitivité\, qui interroge la consistance de son concept d’identité; (ii) l’objection de la circularité\, qui défie son efficacité explicative; et (iii) l’objection de la fission\, qui soulève la possibilité pour deux personnes de partager simultanément une continuité psychologique. Dans cet exposé\, je traiterai brièvement les deux premières objections\, avant de montrer comment le concept «d’indétermination» permet d’offrir une solution à la troisième. \n\n\n\n\n\n\n\n\n\n\n\n\n\n\n\n\n\n\n\n\n\n\n\n\n\n\n\n\n\n\n\n\n\n\n\n\n\n\n\n\n\n\n\n\n\n\n\n\n\n\n\n\n\n\nCette page est tirée du site de l’UNAB.
URL:https://www.arb-cdb.ch/event/conference-unab-241003/
LOCATION:Fondation ascaro\, Belpstrasse 37\, 3007 Berne\, Suisse
CATEGORIES:Conférence,Payant pour les non-membres
ORGANIZER;CN="Universit%C3%A9 des A%C3%AEn%C3%A9s de langue fran%C3%A7aise de Berne   ( UNAB )":MAILTO:unab@bluewin.ch
END:VEVENT
BEGIN:VEVENT
DTSTART;TZID=Europe/Paris:20241015T141500
DTEND;TZID=Europe/Paris:20241015T160000
DTSTAMP:20260422T151951
CREATED:20240611T131950Z
LAST-MODIFIED:20240611T132318Z
UID:10133-1729001700-1729008000@www.arb-cdb.ch
SUMMARY:Séminaire UNAB de M. Patrick LABARTHE (1/3)
DESCRIPTION:Séminaire en trois volets de M. Patrick LABARTHE\n\nProfesseur émérite de littérature française \nLes paradoxes du misanthrope: Molière\, Rousseau\, Stendhal\n(1re partie)\n\n\n\n\n\n\n  \n\n\n\n\n\n\n\n\n\n\nInscription: ici \nDocumentation: ici \nCette page est tirée du site de l’UNAB.
URL:https://www.arb-cdb.ch/event/241015/
LOCATION:Université de Berne\, bâtiment principal\, Hochschulstrasse 4\, Berne\, 3012
CATEGORIES:Payant,Payant pour les non-membres,Séminaire
ORGANIZER;CN="Universit%C3%A9 des A%C3%AEn%C3%A9s de langue fran%C3%A7aise de Berne   ( UNAB )":MAILTO:unab@bluewin.ch
END:VEVENT
BEGIN:VEVENT
DTSTART;TZID=Europe/Paris:20241017T141500
DTEND;TZID=Europe/Paris:20241017T160000
DTSTAMP:20260422T151951
CREATED:20240611T083728Z
LAST-MODIFIED:20240611T083728Z
UID:10085-1729174500-1729180800@www.arb-cdb.ch
SUMMARY:Conférence UNAB
DESCRIPTION:Athina Tzovara \nProfesseure à l’institut d’informatique de la faculté des sciences et à l’institut de neurologie de la faculté de médecine de l’Université de Berne \nLe coma et l’intelligence artificielle\n \nQuand une personne est dans le coma\, elle est inconsciente et incapable de communiquer avec son environnement. Elle ne peut pas parler. Ses yeux sont fermés. Cependant\, le cerveau des patients dans le coma peut continuer à fonctionner. Il peut entendre et traiter des sons de l’environnement. Pour mesurer l’activité cérébrale d’une personne dans le coma\, nous utilisons l’électroencéphalographie (EEG) qui mesure l’activité électrique du cerveau. Aujourd’hui\, dans la pratique clinique\, des experts évaluent des signaux EEG\, mais cette évaluation peut être subjective. Cependant\, l’intelligence artificielle\, un outil puissant de l’informatique\, a le potentiel d’aider à la prise des décisions cliniques\, en identifiant des motifs dans des ensembles de données. \nDans cette conférence\, je présenterai comment l’intelligence artificielle peut être utilisée pour étudier les fonctions neuronales du cerveau. Ensuite\, je présenterai nos travaux à l’Université de Berne\, où nous utilisons l’intelligence artificielle pour étudier comment le cerveau des patients dans le coma réagit aux sons\, et comment cette information peut être utilisée pour aider les médecins à savoir si un patient va sortir du coma. \n\n\n\n\n\n\n\n\n\n\n\n\n\n\n\n\n\n\n\n\n\n\n\n\n\n\n\n\n\n\n\n\n\n\n\n\n\n\n\n\n\n\n\n\n\n\n\n\n\n\n\n\n\n\nCette page est tirée du site de l’UNAB.
URL:https://www.arb-cdb.ch/event/conference-unab-241017/
LOCATION:Fondation ascaro\, Belpstrasse 37\, 3007 Berne\, Suisse
CATEGORIES:Conférence,Payant pour les non-membres
ORGANIZER;CN="Universit%C3%A9 des A%C3%AEn%C3%A9s de langue fran%C3%A7aise de Berne   ( UNAB )":MAILTO:unab@bluewin.ch
END:VEVENT
BEGIN:VEVENT
DTSTART;TZID=Europe/Paris:20241022T141500
DTEND;TZID=Europe/Paris:20241022T160000
DTSTAMP:20260422T151951
CREATED:20240611T132526Z
LAST-MODIFIED:20240611T133107Z
UID:10137-1729606500-1729612800@www.arb-cdb.ch
SUMMARY:Séminaire UNAB de M. Patrick LABARTHE (2/3)
DESCRIPTION:Séminaire en trois volets de M. Patrick LABARTHE\n\nProfesseur émérite de littérature française \nLes paradoxes du misanthrope: Molière\, Rousseau\, Stendhal\n(2e partie)\n\n\n\n\n\n\n  \n\n\n\n\n\n\n\n\n\n\nInscription: ici \nDocumentation: ici \nCette page est tirée du site de l’UNAB.
URL:https://www.arb-cdb.ch/event/seminaire-unab-241022/
LOCATION:Université de Berne\, bâtiment principal\, Hochschulstrasse 4\, Berne\, 3012
CATEGORIES:Payant,Payant pour les non-membres,Séminaire
ORGANIZER;CN="Universit%C3%A9 des A%C3%AEn%C3%A9s de langue fran%C3%A7aise de Berne   ( UNAB )":MAILTO:unab@bluewin.ch
END:VEVENT
BEGIN:VEVENT
DTSTART;TZID=Europe/Paris:20241024T141500
DTEND;TZID=Europe/Paris:20241024T160000
DTSTAMP:20260422T151951
CREATED:20240611T083946Z
LAST-MODIFIED:20240611T083946Z
UID:10087-1729779300-1729785600@www.arb-cdb.ch
SUMMARY:Conférence UNAB
DESCRIPTION:Patrick Crispini \nChef d’orchestre\, musicien\, pédagogue \nClaude Sautet\, les choses de la vie\n \nClaude Sautet (1924-2000) fut un homme tellement discret que le Cinéma français finit par oublier de célébrer ce grand réalisateur\, auteur d’une œuvre des plus cohérentes et raffinées. Sans tambour ni trompette ni déclarations tonitruantes\, Claude Sautet a tissé un portrait subtil et profond des mutations de la société contemporaine\, à travers des personnages qui sonnent toujours juste. Porté par le succès public de Classe tous risques en 1960\, il décide pourtant de changer de style en réalisant en 1969 Les Choses de la vie avec Michel Piccoli et Romy Schneider\, son actrice fétiche que sa caméra ne cessera de filmer avec amour. Le succès de ce film l’encourage à persévérer dans la voie de films psychologiques\, dont les intrigues font apparaître la ville et les protagonistes dans des éclairages caractéristiques de sa manière: salles de bistrots bondées\, scènes de repas\, où les langues se délient\, ambiances de pluie\, conversations en voiture\, travellings subtils\, où son art du cadrage et du montage invisible font merveille. César et Rosalie\, Vincent\, François\, Paul et les autres\, Une histoire simple\, Un mauvais fils\, Un cœur en hiver et son dernier film\, Nelly et Monsieur Arnaud\, cherchent à leur manière un paradis perdu où l’amitié tient une place centrale. Les films de ce passionné de musique sont autant de partitions musicales où l’image est orchestrée en osmose avec le son et sa longue complicité avec le compositeur Philippe Sarde marque une des plus belles pages de l’histoire de la musique de film. Un grand maître du 7e art à redécouvrir… \nCette page est tirée du site de l’UNAB.
URL:https://www.arb-cdb.ch/event/conference-unab-241024/
LOCATION:Fondation ascaro\, Belpstrasse 37\, 3007 Berne\, Suisse
CATEGORIES:Conférence,Payant pour les non-membres
ORGANIZER;CN="Universit%C3%A9 des A%C3%AEn%C3%A9s de langue fran%C3%A7aise de Berne   ( UNAB )":MAILTO:unab@bluewin.ch
END:VEVENT
BEGIN:VEVENT
DTSTART;TZID=Europe/Paris:20241029T141500
DTEND;TZID=Europe/Paris:20241029T160000
DTSTAMP:20260422T151951
CREATED:20240611T133329Z
LAST-MODIFIED:20240611T133329Z
UID:10140-1730211300-1730217600@www.arb-cdb.ch
SUMMARY:Séminaire UNAB de M. Patrick LABARTHE (3/3)
DESCRIPTION:Séminaire en trois volets de M. Patrick LABARTHE\n\nProfesseur émérite de littérature française \nLes paradoxes du misanthrope: Molière\, Rousseau\, Stendhal\n(3e partie)\n\n\n\n\n\n\n  \n\n\n\n\n\n\n\n\n\n\nInscription: ici \nDocumentation: ici \nCette page est tirée du site de l’UNAB.
URL:https://www.arb-cdb.ch/event/seminaire-unab-241029/
LOCATION:Université de Berne\, bâtiment principal\, Hochschulstrasse 4\, Berne\, 3012
CATEGORIES:Payant,Payant pour les non-membres,Séminaire
ORGANIZER;CN="Universit%C3%A9 des A%C3%AEn%C3%A9s de langue fran%C3%A7aise de Berne   ( UNAB )":MAILTO:unab@bluewin.ch
END:VEVENT
BEGIN:VEVENT
DTSTART;TZID=Europe/Paris:20241031T141500
DTEND;TZID=Europe/Paris:20241031T160000
DTSTAMP:20260422T151951
CREATED:20240611T084237Z
LAST-MODIFIED:20240611T084318Z
UID:10089-1730384100-1730390400@www.arb-cdb.ch
SUMMARY:Conférence UNAB
DESCRIPTION:Denis Morrier \nMusicien et musicologue \nDon Carlo Gesualdo (1566-1613) \nLes musiques crépusculaires d’un Prince assassin\n \nIl a assassiné sa première épouse et l’amant de celle-ci\, martyrisé sa seconde épouse\, suspecté d’avoir causé le décès de son fils. Tourmenté jusqu’à sa mort par ses démons intérieurs\, il est un personnage de roman qui n’a cessé de fasciner écrivains\, poètes et compositeurs modernes. Le statut singulier de ce musicien amateur\, riche et érudit\, libéré de toute contrainte\, permit l’éclosion d’un style unique\, quoique reflétant de nombreuses influences. \nCette page est tirée du site de l’UNAB.
URL:https://www.arb-cdb.ch/event/conference-unab-241031/
LOCATION:Fondation ascaro\, Belpstrasse 37\, 3007 Berne\, Suisse
CATEGORIES:Conférence,Payant pour les non-membres
ORGANIZER;CN="Universit%C3%A9 des A%C3%AEn%C3%A9s de langue fran%C3%A7aise de Berne   ( UNAB )":MAILTO:unab@bluewin.ch
END:VEVENT
END:VCALENDAR