BEGIN:VCALENDAR
VERSION:2.0
PRODID:-//Association Romande et francophone de Berne et environs - ECPv6.15.20//NONSGML v1.0//EN
CALSCALE:GREGORIAN
METHOD:PUBLISH
X-WR-CALNAME:Association Romande et francophone de Berne et environs
X-ORIGINAL-URL:https://www.arb-cdb.ch
X-WR-CALDESC:Évènements pour Association Romande et francophone de Berne et environs
REFRESH-INTERVAL;VALUE=DURATION:PT1H
X-Robots-Tag:noindex
X-PUBLISHED-TTL:PT1H
BEGIN:VTIMEZONE
TZID:Europe/Paris
BEGIN:DAYLIGHT
TZOFFSETFROM:+0100
TZOFFSETTO:+0200
TZNAME:CEST
DTSTART:20190331T010000
END:DAYLIGHT
BEGIN:STANDARD
TZOFFSETFROM:+0200
TZOFFSETTO:+0100
TZNAME:CET
DTSTART:20191027T010000
END:STANDARD
BEGIN:DAYLIGHT
TZOFFSETFROM:+0100
TZOFFSETTO:+0200
TZNAME:CEST
DTSTART:20200329T010000
END:DAYLIGHT
BEGIN:STANDARD
TZOFFSETFROM:+0200
TZOFFSETTO:+0100
TZNAME:CET
DTSTART:20201025T010000
END:STANDARD
BEGIN:DAYLIGHT
TZOFFSETFROM:+0100
TZOFFSETTO:+0200
TZNAME:CEST
DTSTART:20210328T010000
END:DAYLIGHT
BEGIN:STANDARD
TZOFFSETFROM:+0200
TZOFFSETTO:+0100
TZNAME:CET
DTSTART:20211031T010000
END:STANDARD
END:VTIMEZONE
BEGIN:VEVENT
DTSTART;TZID=Europe/Paris:20200708T124500
DTEND;TZID=Europe/Paris:20200708T124500
DTSTAMP:20260422T203849
CREATED:20200225T174242Z
LAST-MODIFIED:20200628T123543Z
UID:5320-1594212300-1594212300@www.arb-cdb.ch
SUMMARY:Promenade pédestre
DESCRIPTION:Dates à retenir pour les promenades pédestres organisées par l’Église réformée française de Berne :\nchaque deuxième mercredi du mois\, soit pour les prochaines courses (2020) :\n12 août\, 9 septembre (journée)\, 14 octobre\, 11 novembre
URL:https://www.arb-cdb.ch/event/promenade-pedestre-aout-2020/
CATEGORIES:Excursion,Ouvert à tous
ORGANIZER;CN="Paroisse r%C3%A9form%C3%A9e fran%C3%A7aise de Berne":MAILTO:secretariat@egliserefberne.ch
END:VEVENT
END:VCALENDAR