BEGIN:VCALENDAR
VERSION:2.0
PRODID:-//Association Romande et francophone de Berne et environs - ECPv6.15.20//NONSGML v1.0//EN
CALSCALE:GREGORIAN
METHOD:PUBLISH
X-WR-CALNAME:Association Romande et francophone de Berne et environs
X-ORIGINAL-URL:https://www.arb-cdb.ch
X-WR-CALDESC:Évènements pour Association Romande et francophone de Berne et environs
REFRESH-INTERVAL;VALUE=DURATION:PT1H
X-Robots-Tag:noindex
X-PUBLISHED-TTL:PT1H
BEGIN:VTIMEZONE
TZID:Europe/Paris
BEGIN:DAYLIGHT
TZOFFSETFROM:+0100
TZOFFSETTO:+0200
TZNAME:CEST
DTSTART:20190331T010000
END:DAYLIGHT
BEGIN:STANDARD
TZOFFSETFROM:+0200
TZOFFSETTO:+0100
TZNAME:CET
DTSTART:20191027T010000
END:STANDARD
BEGIN:DAYLIGHT
TZOFFSETFROM:+0100
TZOFFSETTO:+0200
TZNAME:CEST
DTSTART:20200329T010000
END:DAYLIGHT
BEGIN:STANDARD
TZOFFSETFROM:+0200
TZOFFSETTO:+0100
TZNAME:CET
DTSTART:20201025T010000
END:STANDARD
BEGIN:DAYLIGHT
TZOFFSETFROM:+0100
TZOFFSETTO:+0200
TZNAME:CEST
DTSTART:20210328T010000
END:DAYLIGHT
BEGIN:STANDARD
TZOFFSETFROM:+0200
TZOFFSETTO:+0100
TZNAME:CET
DTSTART:20211031T010000
END:STANDARD
END:VTIMEZONE
BEGIN:VEVENT
DTSTART;VALUE=DATE:20200208
DTEND;VALUE=DATE:20200210
DTSTAMP:20260421T005904
CREATED:20200113T135635Z
LAST-MODIFIED:20200815T202940Z
UID:5101-1581120000-1581292799@www.arb-cdb.ch
SUMMARY:Marcher avec le CRF
DESCRIPTION:Le Club de randonnée et de ski de fond de Berne (CRF) vous invite à venir marcher avec lui de\nBrugg à Schinznach-Bad\, 6 km le long de l’Aar (6 km) puis bains\nthermaux de Schinznach possibles (détails\, voir le programme ci-dessous)\nLa date définitive\, samedi ou dimanche\, de l’excursion dépend de la météo.\nAdressez-vous directement à l’organisatrice ou l’organisateur (voir le programme ci-dessous).\nMerci de vous annoncer jusqu’au jeudi soir. Cela vous permet de recevoir les renseignements utiles et d’optimaliser les transports.
URL:https://www.arb-cdb.ch/event/marcher-avec-le-crf-2020-01/
CATEGORIES:Excursion,Gratuit,Ouvert à tous
END:VEVENT
END:VCALENDAR