BEGIN:VCALENDAR
VERSION:2.0
PRODID:-//Association Romande et francophone de Berne et environs - ECPv6.15.20//NONSGML v1.0//EN
CALSCALE:GREGORIAN
METHOD:PUBLISH
X-ORIGINAL-URL:https://www.arb-cdb.ch
X-WR-CALDESC:Évènements pour Association Romande et francophone de Berne et environs
REFRESH-INTERVAL;VALUE=DURATION:PT1H
X-Robots-Tag:noindex
X-PUBLISHED-TTL:PT1H
BEGIN:VTIMEZONE
TZID:Europe/Paris
BEGIN:DAYLIGHT
TZOFFSETFROM:+0100
TZOFFSETTO:+0200
TZNAME:CEST
DTSTART:20180325T010000
END:DAYLIGHT
BEGIN:STANDARD
TZOFFSETFROM:+0200
TZOFFSETTO:+0100
TZNAME:CET
DTSTART:20181028T010000
END:STANDARD
BEGIN:DAYLIGHT
TZOFFSETFROM:+0100
TZOFFSETTO:+0200
TZNAME:CEST
DTSTART:20190331T010000
END:DAYLIGHT
BEGIN:STANDARD
TZOFFSETFROM:+0200
TZOFFSETTO:+0100
TZNAME:CET
DTSTART:20191027T010000
END:STANDARD
BEGIN:DAYLIGHT
TZOFFSETFROM:+0100
TZOFFSETTO:+0200
TZNAME:CEST
DTSTART:20200329T010000
END:DAYLIGHT
BEGIN:STANDARD
TZOFFSETFROM:+0200
TZOFFSETTO:+0100
TZNAME:CET
DTSTART:20201025T010000
END:STANDARD
END:VTIMEZONE
BEGIN:VEVENT
DTSTART;TZID=Europe/Paris:20191026T083000
DTEND;TZID=Europe/Paris:20191026T171500
DTSTAMP:20260421T184843
CREATED:20190806T194708Z
LAST-MODIFIED:20190927T133537Z
UID:4681-1572078600-1572110100@www.arb-cdb.ch
SUMMARY:Excursion de l'ARB\,  visite des mines d'asphalte du val de travers
DESCRIPTION:Pour sa sortie annuelle\, l’Association romande et francophone de Berne et environs (ARB) visitera les mines d’asphalte du val de Travers.\nOuverte à toute et tous\, merci de vous inscrire avant le 20 octobre 2019 (voir papillon ci-dessous)
URL:https://www.arb-cdb.ch/event/excursion-de-larb2019-minesdasphalte/
LOCATION:Mines d’asphalte\, Site de la Presta\, 2105 Travers\, Suisse
CATEGORIES:Excursion,Ouvert à tous,Payant,Visite guidée
END:VEVENT
END:VCALENDAR