BEGIN:VCALENDAR
VERSION:2.0
PRODID:-//Association Romande et francophone de Berne et environs - ECPv6.15.20//NONSGML v1.0//EN
CALSCALE:GREGORIAN
METHOD:PUBLISH
X-ORIGINAL-URL:https://www.arb-cdb.ch
X-WR-CALDESC:Évènements pour Association Romande et francophone de Berne et environs
REFRESH-INTERVAL;VALUE=DURATION:PT1H
X-Robots-Tag:noindex
X-PUBLISHED-TTL:PT1H
BEGIN:VTIMEZONE
TZID:Europe/Paris
BEGIN:DAYLIGHT
TZOFFSETFROM:+0100
TZOFFSETTO:+0200
TZNAME:CEST
DTSTART:20180325T010000
END:DAYLIGHT
BEGIN:STANDARD
TZOFFSETFROM:+0200
TZOFFSETTO:+0100
TZNAME:CET
DTSTART:20181028T010000
END:STANDARD
BEGIN:DAYLIGHT
TZOFFSETFROM:+0100
TZOFFSETTO:+0200
TZNAME:CEST
DTSTART:20190331T010000
END:DAYLIGHT
BEGIN:STANDARD
TZOFFSETFROM:+0200
TZOFFSETTO:+0100
TZNAME:CET
DTSTART:20191027T010000
END:STANDARD
BEGIN:DAYLIGHT
TZOFFSETFROM:+0100
TZOFFSETTO:+0200
TZNAME:CEST
DTSTART:20200329T010000
END:DAYLIGHT
BEGIN:STANDARD
TZOFFSETFROM:+0200
TZOFFSETTO:+0100
TZNAME:CET
DTSTART:20201025T010000
END:STANDARD
END:VTIMEZONE
BEGIN:VEVENT
DTSTART;TZID=Europe/Paris:20190904T193000
DTEND;TZID=Europe/Paris:20190904T223000
DTSTAMP:20260422T025127
CREATED:20190517T114047Z
LAST-MODIFIED:20190522T132706Z
UID:4280-1567625400-1567636200@www.arb-cdb.ch
SUMMARY:Ciné-Débat-Rencontres de Berne : Camille Claudel
DESCRIPTION:Film :  » Camille Claudel  » sous-titré en allemand\nLieu : Cinéma Lichtspiel\, Sandrainstrasse 3\, 3007 Berne\nSur le thème «Claudel et Rodin» nous vous proposerons\nune visite guidée du Kunstmuseum de Zurich.\nLa date sera communiquée ultérieurement. \nPrésentation du Film 🎥 :\nCamille Claudel voue ses jours et ses nuits à sa passion\, la sculpture. Soutenue par son père et son frère Paul\, elle rêve d’entrer dans l’atelier du grand maître Auguste Rodin. Après lui avoir démontré son talent et sa détermination à travailler avec lui\, Rodin l’engage comme apprentie avec son amie Jessie. Camille tombe rapidement éperdument amoureuse du maître. Elle devient son égérie et ravive son imagination quelque peu éteinte. Très vite\, elle travaille de plus en plus pour Rodin… \nCésar : meilleur film français de l’année\nmeilleure actrice\, Isabelle Adjani\nmeilleure photographie\, Pierre Lhomme\nmeilleurs costumes\, Dominique Borg\nmeilleurs décors\, Bernard Vézat\nBerlinale Ours d’Argent : meilleure actrice Isabelle Adjani \nHoraires :\n19h30 : Début du Film\nUn cocktail sera servi à l’entracte\nPlus d’information : https://www.cinerencontredebats.com
URL:https://www.arb-cdb.ch/event/camille-claudel/
LOCATION:Cinéma Lichtspiel\, Sandrainstrasse 3\, 3007 Berne\, Suisse
CATEGORIES:Animation,Film projeté en français,Ouvert à tous,Payant
END:VEVENT
END:VCALENDAR