BEGIN:VCALENDAR
VERSION:2.0
PRODID:-//Association Romande et francophone de Berne et environs - ECPv6.15.20//NONSGML v1.0//EN
CALSCALE:GREGORIAN
METHOD:PUBLISH
X-WR-CALNAME:Association Romande et francophone de Berne et environs
X-ORIGINAL-URL:https://www.arb-cdb.ch
X-WR-CALDESC:Évènements pour Association Romande et francophone de Berne et environs
REFRESH-INTERVAL;VALUE=DURATION:PT1H
X-Robots-Tag:noindex
X-PUBLISHED-TTL:PT1H
BEGIN:VTIMEZONE
TZID:Europe/Paris
BEGIN:DAYLIGHT
TZOFFSETFROM:+0100
TZOFFSETTO:+0200
TZNAME:CEST
DTSTART:20180325T010000
END:DAYLIGHT
BEGIN:STANDARD
TZOFFSETFROM:+0200
TZOFFSETTO:+0100
TZNAME:CET
DTSTART:20181028T010000
END:STANDARD
BEGIN:DAYLIGHT
TZOFFSETFROM:+0100
TZOFFSETTO:+0200
TZNAME:CEST
DTSTART:20190331T010000
END:DAYLIGHT
BEGIN:STANDARD
TZOFFSETFROM:+0200
TZOFFSETTO:+0100
TZNAME:CET
DTSTART:20191027T010000
END:STANDARD
BEGIN:DAYLIGHT
TZOFFSETFROM:+0100
TZOFFSETTO:+0200
TZNAME:CEST
DTSTART:20200329T010000
END:DAYLIGHT
BEGIN:STANDARD
TZOFFSETFROM:+0200
TZOFFSETTO:+0100
TZNAME:CET
DTSTART:20201025T010000
END:STANDARD
END:VTIMEZONE
BEGIN:VEVENT
DTSTART;VALUE=DATE:20190831
DTEND;VALUE=DATE:20190902
DTSTAMP:20260421T181754
CREATED:20190827T150523Z
LAST-MODIFIED:20190827T153035Z
UID:4734-1567209600-1567382399@www.arb-cdb.ch
SUMMARY:Marcher avec le CRF
DESCRIPTION:Albeuve – Ciernes d’Albeuve – Montbovon (détails\, voir le programme ci-dessous)\nLe Club de randonnée et de ski de fond de Berne (CRF) vous invite à une balade panoramique et variée en Gruyère. Env. 2 h 40\, ↑ 423 ↓ 429 m.\nLa date définitive\, samedi ou dimanche\, de l’excursion dépend de la météo.\nAdressez-vous directement à l’organisatrice ou l’organisateur de préférence avant le jeudi soir.\nCela vous permet de recevoir les renseignements utiles et d’optimaliser les transports.
URL:https://www.arb-cdb.ch/event/marcher-avec-le-crf-2019-7-3-2/
CATEGORIES:Excursion,Gratuit,Ouvert à tous
END:VEVENT
BEGIN:VEVENT
DTSTART;TZID=Europe/Paris:20190831T120000
DTEND;TZID=Europe/Paris:20190831T120000
DTSTAMP:20260421T181754
CREATED:20190108T202519Z
LAST-MODIFIED:20190712T184408Z
UID:3484-1567252800-1567252800@www.arb-cdb.ch
SUMMARY:Estivales 2019\, Canto Vivo
DESCRIPTION:Musique à l’église française de Berne vous invite à\nCanto Vivo\, ensemble vocal bernois\nBrigitte Scholl\, Direction\nprogramme détaillé en page 12 du fascicule \n		\n			\n			\n		\n\n		 \nVous pouvez télécharger\nLe programme de la saison 2019 de Musique à l’église française de Berne
URL:https://www.arb-cdb.ch/event/estivales-2019-10/
LOCATION:Église française de Berne\, Zeughausgasse 8\, 3011 Berne\, Switzerland
CATEGORIES:Collecte,Musique,Ouvert à tous
END:VEVENT
END:VCALENDAR