BEGIN:VCALENDAR
VERSION:2.0
PRODID:-//Association Romande et francophone de Berne et environs - ECPv6.15.20//NONSGML v1.0//EN
CALSCALE:GREGORIAN
METHOD:PUBLISH
X-ORIGINAL-URL:https://www.arb-cdb.ch
X-WR-CALDESC:Évènements pour Association Romande et francophone de Berne et environs
REFRESH-INTERVAL;VALUE=DURATION:PT1H
X-Robots-Tag:noindex
X-PUBLISHED-TTL:PT1H
BEGIN:VTIMEZONE
TZID:Europe/Paris
BEGIN:DAYLIGHT
TZOFFSETFROM:+0100
TZOFFSETTO:+0200
TZNAME:CEST
DTSTART:20180325T010000
END:DAYLIGHT
BEGIN:STANDARD
TZOFFSETFROM:+0200
TZOFFSETTO:+0100
TZNAME:CET
DTSTART:20181028T010000
END:STANDARD
BEGIN:DAYLIGHT
TZOFFSETFROM:+0100
TZOFFSETTO:+0200
TZNAME:CEST
DTSTART:20190331T010000
END:DAYLIGHT
BEGIN:STANDARD
TZOFFSETFROM:+0200
TZOFFSETTO:+0100
TZNAME:CET
DTSTART:20191027T010000
END:STANDARD
BEGIN:DAYLIGHT
TZOFFSETFROM:+0100
TZOFFSETTO:+0200
TZNAME:CEST
DTSTART:20200329T010000
END:DAYLIGHT
BEGIN:STANDARD
TZOFFSETFROM:+0200
TZOFFSETTO:+0100
TZNAME:CET
DTSTART:20201025T010000
END:STANDARD
END:VTIMEZONE
BEGIN:VEVENT
DTSTART;TZID=Europe/Paris:20190824T120000
DTEND;TZID=Europe/Paris:20190824T120000
DTSTAMP:20260421T190540
CREATED:20190108T201816Z
LAST-MODIFIED:20190712T184257Z
UID:3480-1566648000-1566648000@www.arb-cdb.ch
SUMMARY:Estivales 2019\, orgues en fête
DESCRIPTION:Musique à l’église française de Berne vous invite à\nOrgues en fête avec:\n– Sylvia Stampfli & Erich Nünlist (Goldenbells)\n– I. Zurkinden\, A. Meier & S. Bucher (Bach: Orgel vs Klavier)\n– E. Le Divellec\, C. Ricci & J. Brunner (Orgue solo)\n– I. Völlmy\, B. Zahler & L- Graber (Schlagzeug\, Sax & Orgel) \nVous pouvez télécharger\n\n		\n			\n			\n		\n\n		\nou en page 10 du fascicule
URL:https://www.arb-cdb.ch/event/estivales-2019-8-2/
LOCATION:Église française de Berne\, Zeughausgasse 8\, 3011 Berne\, Switzerland
CATEGORIES:Collecte,Musique,Ouvert à tous
END:VEVENT
END:VCALENDAR