BEGIN:VCALENDAR
VERSION:2.0
PRODID:-//Association Romande et francophone de Berne et environs - ECPv6.15.20//NONSGML v1.0//EN
CALSCALE:GREGORIAN
METHOD:PUBLISH
X-ORIGINAL-URL:https://www.arb-cdb.ch
X-WR-CALDESC:Évènements pour Association Romande et francophone de Berne et environs
REFRESH-INTERVAL;VALUE=DURATION:PT1H
X-Robots-Tag:noindex
X-PUBLISHED-TTL:PT1H
BEGIN:VTIMEZONE
TZID:Europe/Paris
BEGIN:DAYLIGHT
TZOFFSETFROM:+0100
TZOFFSETTO:+0200
TZNAME:CEST
DTSTART:20180325T010000
END:DAYLIGHT
BEGIN:STANDARD
TZOFFSETFROM:+0200
TZOFFSETTO:+0100
TZNAME:CET
DTSTART:20181028T010000
END:STANDARD
BEGIN:DAYLIGHT
TZOFFSETFROM:+0100
TZOFFSETTO:+0200
TZNAME:CEST
DTSTART:20190331T010000
END:DAYLIGHT
BEGIN:STANDARD
TZOFFSETFROM:+0200
TZOFFSETTO:+0100
TZNAME:CET
DTSTART:20191027T010000
END:STANDARD
BEGIN:DAYLIGHT
TZOFFSETFROM:+0100
TZOFFSETTO:+0200
TZNAME:CEST
DTSTART:20200329T010000
END:DAYLIGHT
BEGIN:STANDARD
TZOFFSETFROM:+0200
TZOFFSETTO:+0100
TZNAME:CET
DTSTART:20201025T010000
END:STANDARD
END:VTIMEZONE
BEGIN:VEVENT
DTSTART;TZID=Europe/Paris:20190810T120000
DTEND;TZID=Europe/Paris:20190810T120000
DTSTAMP:20260422T011848
CREATED:20190108T200350Z
LAST-MODIFIED:20190712T184014Z
UID:3475-1565438400-1565438400@www.arb-cdb.ch
SUMMARY:Estivales 2019\, chant et orgue
DESCRIPTION:Musique à l’église française de Berne vous invite à\nChant et orgue\nCaroline Monnin\, Soprano\nGabriel Wolfer\, Orgue (St-Ursanne)\nprogramme détaillé en page 8 \n		\n			\n			\n		\n\n		 \nVous pouvez télécharger\nLe programme de la saison 2019 de Musique à l’église française de Berne
URL:https://www.arb-cdb.ch/event/estivales-2019-6/
LOCATION:Église française de Berne\, Zeughausgasse 8\, 3011 Berne\, Switzerland
CATEGORIES:Collecte,Musique,Ouvert à tous
END:VEVENT
END:VCALENDAR