BEGIN:VCALENDAR
VERSION:2.0
PRODID:-//Association Romande et francophone de Berne et environs - ECPv6.15.20//NONSGML v1.0//EN
CALSCALE:GREGORIAN
METHOD:PUBLISH
X-ORIGINAL-URL:https://www.arb-cdb.ch
X-WR-CALDESC:Évènements pour Association Romande et francophone de Berne et environs
REFRESH-INTERVAL;VALUE=DURATION:PT1H
X-Robots-Tag:noindex
X-PUBLISHED-TTL:PT1H
BEGIN:VTIMEZONE
TZID:Europe/Paris
BEGIN:DAYLIGHT
TZOFFSETFROM:+0100
TZOFFSETTO:+0200
TZNAME:CEST
DTSTART:20180325T010000
END:DAYLIGHT
BEGIN:STANDARD
TZOFFSETFROM:+0200
TZOFFSETTO:+0100
TZNAME:CET
DTSTART:20181028T010000
END:STANDARD
BEGIN:DAYLIGHT
TZOFFSETFROM:+0100
TZOFFSETTO:+0200
TZNAME:CEST
DTSTART:20190331T010000
END:DAYLIGHT
BEGIN:STANDARD
TZOFFSETFROM:+0200
TZOFFSETTO:+0100
TZNAME:CET
DTSTART:20191027T010000
END:STANDARD
BEGIN:DAYLIGHT
TZOFFSETFROM:+0100
TZOFFSETTO:+0200
TZNAME:CEST
DTSTART:20200329T010000
END:DAYLIGHT
BEGIN:STANDARD
TZOFFSETFROM:+0200
TZOFFSETTO:+0100
TZNAME:CET
DTSTART:20201025T010000
END:STANDARD
END:VTIMEZONE
BEGIN:VEVENT
DTSTART;VALUE=DATE:20190720
DTEND;VALUE=DATE:20190722
DTSTAMP:20260422T025048
CREATED:20190613T204930Z
LAST-MODIFIED:20190627T100024Z
UID:4348-1563580800-1563753599@www.arb-cdb.ch
SUMMARY:Sortie à vélo avec le CRF
DESCRIPTION:Sortie à vélo avec baignade\, Aare ou les 3 lacs\nLa date définitive\, samedi ou dimanche\, de l’excursion dépend de la météo.\nAdressez-vous directement à l’organisatrice ou l’organisateur de préférence avant le jeudi soir.\nCela vous permet de recevoir les renseignements utiles et d’optimaliser les transports.
URL:https://www.arb-cdb.ch/event/sortie-velo-avec-le-crf-2019-4/
CATEGORIES:Excursion,Gratuit,Ouvert à tous
ORGANIZER;CN="CRF Christian W%C3%BCthrich":MAILTO:christian@c3c4.ch
END:VEVENT
BEGIN:VEVENT
DTSTART;TZID=Europe/Paris:20190720T120000
DTEND;TZID=Europe/Paris:20190720T120000
DTSTAMP:20260422T025048
CREATED:20190108T193801Z
LAST-MODIFIED:20190712T183740Z
UID:3463-1563624000-1563624000@www.arb-cdb.ch
SUMMARY:Estivales 2019\, récital d'orgue
DESCRIPTION:Musique à l’église française de Berne vous invite à\nRécital d’orgue\nMegumi Hamaya (Berlin)\nprogramme détaillé en page 5 \n		\n			\n			\n		\n\n		 \nVous pouvez télécharger\nLe programme de la saison 2019 de Musique à l’église française de Berne
URL:https://www.arb-cdb.ch/event/estivales-2019-3/
LOCATION:Église française de Berne\, Zeughausgasse 8\, 3011 Berne\, Switzerland
CATEGORIES:Collecte,Musique,Ouvert à tous
END:VEVENT
END:VCALENDAR