BEGIN:VCALENDAR
VERSION:2.0
PRODID:-//Association Romande et francophone de Berne et environs - ECPv6.15.20//NONSGML v1.0//EN
CALSCALE:GREGORIAN
METHOD:PUBLISH
X-WR-CALNAME:Association Romande et francophone de Berne et environs
X-ORIGINAL-URL:https://www.arb-cdb.ch
X-WR-CALDESC:Évènements pour Association Romande et francophone de Berne et environs
REFRESH-INTERVAL;VALUE=DURATION:PT1H
X-Robots-Tag:noindex
X-PUBLISHED-TTL:PT1H
BEGIN:VTIMEZONE
TZID:Europe/Paris
BEGIN:DAYLIGHT
TZOFFSETFROM:+0100
TZOFFSETTO:+0200
TZNAME:CEST
DTSTART:20180325T010000
END:DAYLIGHT
BEGIN:STANDARD
TZOFFSETFROM:+0200
TZOFFSETTO:+0100
TZNAME:CET
DTSTART:20181028T010000
END:STANDARD
BEGIN:DAYLIGHT
TZOFFSETFROM:+0100
TZOFFSETTO:+0200
TZNAME:CEST
DTSTART:20190331T010000
END:DAYLIGHT
BEGIN:STANDARD
TZOFFSETFROM:+0200
TZOFFSETTO:+0100
TZNAME:CET
DTSTART:20191027T010000
END:STANDARD
BEGIN:DAYLIGHT
TZOFFSETFROM:+0100
TZOFFSETTO:+0200
TZNAME:CEST
DTSTART:20200329T010000
END:DAYLIGHT
BEGIN:STANDARD
TZOFFSETFROM:+0200
TZOFFSETTO:+0100
TZNAME:CET
DTSTART:20201025T010000
END:STANDARD
END:VTIMEZONE
BEGIN:VEVENT
DTSTART;VALUE=DATE:20190511
DTEND;VALUE=DATE:20190512
DTSTAMP:20260422T112754
CREATED:20181212T194824Z
LAST-MODIFIED:20200113T201646Z
UID:3298-1557532800-1557619199@www.arb-cdb.ch
SUMMARY:Le Grand Prix de Berne
DESCRIPTION:le 38ème Grand Prix de Berne est à la fois un événement majeur de la course à pied en Suisse et une manifestation exceptionnelle pour toute la famille. Les «dix miles les plus beaux du monde».
URL:https://www.arb-cdb.ch/event/le-grand-prix-de-berne-2019/
CATEGORIES:Animation,Ouvert à tous
END:VEVENT
BEGIN:VEVENT
DTSTART;VALUE=DATE:20190511
DTEND;VALUE=DATE:20190513
DTSTAMP:20260422T112754
CREATED:20190408T143503Z
LAST-MODIFIED:20190408T150202Z
UID:4139-1557532800-1557705599@www.arb-cdb.ch
SUMMARY:Marcher avec le CRF
DESCRIPTION:Balade panoramique en Gruyère\nLa date définitive\, samedi ou dimanche\, de l’excursion dépend de la météo.\nAdressez-vous directement à l’organisatrice ou l’organisateur de préférence avant le jeudi soir.\nCela vous permet de recevoir les renseignements utiles et d’optimaliser les transports.
URL:https://www.arb-cdb.ch/event/marcher-avec-le-crf-2019-7/
CATEGORIES:Excursion,Gratuit,Ouvert à tous
END:VEVENT
BEGIN:VEVENT
DTSTART;TZID=Europe/Paris:20190511T193000
DTEND;TZID=Europe/Paris:20190511T193000
DTSTAMP:20260422T112754
CREATED:20190429T082123Z
LAST-MODIFIED:20190429T082123Z
UID:4190-1557603000-1557603000@www.arb-cdb.ch
SUMMARY:Festival des claviers
DESCRIPTION:L’Association des amis des orgues de l’église de la Ste Trinité de Berne vous invite à ce festival des claviers\, voir le papillon téléchargeable ci-dessous
URL:https://www.arb-cdb.ch/event/festival-des-claviers-2019/
LOCATION:Eglise de la Ste-Trinité\, Taubenstrasse 6\, 3011 Berne\, Suisse
CATEGORIES:Collecte,Musique,Ouvert à tous
END:VEVENT
END:VCALENDAR