BEGIN:VCALENDAR
VERSION:2.0
PRODID:-//Association Romande et francophone de Berne et environs - ECPv6.15.20//NONSGML v1.0//EN
CALSCALE:GREGORIAN
METHOD:PUBLISH
X-ORIGINAL-URL:https://www.arb-cdb.ch
X-WR-CALDESC:Évènements pour Association Romande et francophone de Berne et environs
REFRESH-INTERVAL;VALUE=DURATION:PT1H
X-Robots-Tag:noindex
X-PUBLISHED-TTL:PT1H
BEGIN:VTIMEZONE
TZID:Europe/Paris
BEGIN:DAYLIGHT
TZOFFSETFROM:+0100
TZOFFSETTO:+0200
TZNAME:CEST
DTSTART:20180325T010000
END:DAYLIGHT
BEGIN:STANDARD
TZOFFSETFROM:+0200
TZOFFSETTO:+0100
TZNAME:CET
DTSTART:20181028T010000
END:STANDARD
BEGIN:DAYLIGHT
TZOFFSETFROM:+0100
TZOFFSETTO:+0200
TZNAME:CEST
DTSTART:20190331T010000
END:DAYLIGHT
BEGIN:STANDARD
TZOFFSETFROM:+0200
TZOFFSETTO:+0100
TZNAME:CET
DTSTART:20191027T010000
END:STANDARD
BEGIN:DAYLIGHT
TZOFFSETFROM:+0100
TZOFFSETTO:+0200
TZNAME:CEST
DTSTART:20200329T010000
END:DAYLIGHT
BEGIN:STANDARD
TZOFFSETFROM:+0200
TZOFFSETTO:+0100
TZNAME:CET
DTSTART:20201025T010000
END:STANDARD
END:VTIMEZONE
BEGIN:VEVENT
DTSTART;TZID=Europe/Paris:20190510T160000
DTEND;TZID=Europe/Paris:20190510T220000
DTSTAMP:20260422T161749
CREATED:20190423T134659Z
LAST-MODIFIED:20190423T134659Z
UID:4167-1557504000-1557525600@www.arb-cdb.ch
SUMMARY:Loubechehr\, la vieille ville de Berne s’endimanche
DESCRIPTION:Avec leurs programmes divertissants\, leurs délices culinaires et le charme des arcades\, les boutiques et restaurants de la vieille ville vous invitent à vous détendre et à profiter.\nPrésentation de Berne Tourisme ici\nLe site de l’évènement (en allemand) ici
URL:https://www.arb-cdb.ch/event/loubechehr2019/
CATEGORIES:Animation,Ouvert à tous
END:VEVENT
END:VCALENDAR