BEGIN:VCALENDAR
VERSION:2.0
PRODID:-//Association Romande et francophone de Berne et environs - ECPv6.15.20//NONSGML v1.0//EN
CALSCALE:GREGORIAN
METHOD:PUBLISH
X-WR-CALNAME:Association Romande et francophone de Berne et environs
X-ORIGINAL-URL:https://www.arb-cdb.ch
X-WR-CALDESC:Évènements pour Association Romande et francophone de Berne et environs
REFRESH-INTERVAL;VALUE=DURATION:PT1H
X-Robots-Tag:noindex
X-PUBLISHED-TTL:PT1H
BEGIN:VTIMEZONE
TZID:Europe/Paris
BEGIN:DAYLIGHT
TZOFFSETFROM:+0100
TZOFFSETTO:+0200
TZNAME:CEST
DTSTART:20220327T010000
END:DAYLIGHT
BEGIN:STANDARD
TZOFFSETFROM:+0200
TZOFFSETTO:+0100
TZNAME:CET
DTSTART:20221030T010000
END:STANDARD
BEGIN:DAYLIGHT
TZOFFSETFROM:+0100
TZOFFSETTO:+0200
TZNAME:CEST
DTSTART:20230326T010000
END:DAYLIGHT
BEGIN:STANDARD
TZOFFSETFROM:+0200
TZOFFSETTO:+0100
TZNAME:CET
DTSTART:20231029T010000
END:STANDARD
BEGIN:DAYLIGHT
TZOFFSETFROM:+0100
TZOFFSETTO:+0200
TZNAME:CEST
DTSTART:20240331T010000
END:DAYLIGHT
BEGIN:STANDARD
TZOFFSETFROM:+0200
TZOFFSETTO:+0100
TZNAME:CET
DTSTART:20241027T010000
END:STANDARD
END:VTIMEZONE
BEGIN:VEVENT
DTSTART;TZID=Europe/Paris:20230712T131500
DTEND;TZID=Europe/Paris:20230712T180000
DTSTAMP:20260422T182921
CREATED:20230630T095019Z
LAST-MODIFIED:20230630T102119Z
UID:9034-1689167700-1689184800@www.arb-cdb.ch
SUMMARY:Rando de juillet
DESCRIPTION:L’équipe des Randos pédestres vous propose sa ballade de juillet :\nUne promenade de Foug à Morat par le bord du lac :\n« Sous le soleil vaillant…soyons fous ! »\nChaque deuxième mercredi du mois\,\nProchaines sorties : le 9 août\, le 13 septembre (journée)\, puis le 11 octobre et et le 8 novembre.\nVotre sortie du mercredi 12 juillet :
URL:https://www.arb-cdb.ch/event/rando-de-juillet-2023/
CATEGORIES:Excursion,Ouvert à tous
END:VEVENT
BEGIN:VEVENT
DTSTART;VALUE=DATE:20230714
DTEND;VALUE=DATE:20230715
DTSTAMP:20260422T182921
CREATED:20230711T090812Z
LAST-MODIFIED:20230711T090812Z
UID:9042-1689292800-1689379199@www.arb-cdb.ch
SUMMARY:L'art au fil du Talent Marche\, promenade avec 40 œuvres d'artistes
DESCRIPTION:Le Club de randonnée et de ski de fond de Berne (CRF) vous invite à une promenade culturelle\nL’art au fil du Talent de l’Espace culturel d’Assens (VD). 6 km en forêt  avec des œuvres de 40 artistes au long du chemin ombragé et quasiment plat. pique-nique.\nAdressez-vous directement à l’organisatrice ou l’organisateur (voir plus bas) de préférence avant mercredi soir.\nCela vous permet de recevoir les renseignements utiles et d’optimaliser les transports.\nVous pouvez charger le programme actuel du CRF est ici\net voir des photos des précédentes sorties ici dès 2019 et ici de 2016 à 2018
URL:https://www.arb-cdb.ch/event/art-du-talent-promenade-avec-le-crf/
CATEGORIES:Excursion,Gratuit,Ouvert à tous
ATTACH;FMTTYPE=image/png:https://www.arb-cdb.ch/wp-content/uploads/CRF_TexteEtTout400px.png
ORGANIZER;CN="CRF Danielle et Jean-Fr. Perrochet":MAILTO:jean-fr.perrochet@bluewin.ch
END:VEVENT
END:VCALENDAR