BEGIN:VCALENDAR
VERSION:2.0
PRODID:-//Association Romande et francophone de Berne et environs - ECPv6.15.20//NONSGML v1.0//EN
CALSCALE:GREGORIAN
METHOD:PUBLISH
X-WR-CALNAME:Association Romande et francophone de Berne et environs
X-ORIGINAL-URL:https://www.arb-cdb.ch
X-WR-CALDESC:Évènements pour Association Romande et francophone de Berne et environs
REFRESH-INTERVAL;VALUE=DURATION:PT1H
X-Robots-Tag:noindex
X-PUBLISHED-TTL:PT1H
BEGIN:VTIMEZONE
TZID:Europe/Paris
BEGIN:DAYLIGHT
TZOFFSETFROM:+0100
TZOFFSETTO:+0200
TZNAME:CEST
DTSTART:20180325T010000
END:DAYLIGHT
BEGIN:STANDARD
TZOFFSETFROM:+0200
TZOFFSETTO:+0100
TZNAME:CET
DTSTART:20181028T010000
END:STANDARD
BEGIN:DAYLIGHT
TZOFFSETFROM:+0100
TZOFFSETTO:+0200
TZNAME:CEST
DTSTART:20190331T010000
END:DAYLIGHT
BEGIN:STANDARD
TZOFFSETFROM:+0200
TZOFFSETTO:+0100
TZNAME:CET
DTSTART:20191027T010000
END:STANDARD
BEGIN:DAYLIGHT
TZOFFSETFROM:+0100
TZOFFSETTO:+0200
TZNAME:CEST
DTSTART:20200329T010000
END:DAYLIGHT
BEGIN:STANDARD
TZOFFSETFROM:+0200
TZOFFSETTO:+0100
TZNAME:CET
DTSTART:20201025T010000
END:STANDARD
END:VTIMEZONE
BEGIN:VEVENT
DTSTART;VALUE=DATE:20191102
DTEND;VALUE=DATE:20191104
DTSTAMP:20260421T044046
CREATED:20190827T160514Z
LAST-MODIFIED:20190827T160514Z
UID:4763-1572652800-1572825599@www.arb-cdb.ch
SUMMARY:Marcher avec le CRF
DESCRIPTION:Le Club de randonnée et de ski de fond de Berne (CRF) vous invite à cette marche facile de\nKonolfingen à Rubigen\, moins de 3  h\, descente en pente douce (détails\, voir le programme ci-dessous)\nLa date définitive\, samedi ou dimanche\, de l’excursion dépend de la météo.\nAdressez-vous directement à l’organisatrice ou l’organisateur de préférence avant le jeudi soir.\nCela vous permet de recevoir les renseignements utiles et d’optimaliser les transports.
URL:https://www.arb-cdb.ch/event/marcher-avec-le-crf-2019-7-3-9/
CATEGORIES:Excursion,Gratuit,Ouvert à tous
END:VEVENT
BEGIN:VEVENT
DTSTART;TZID=Europe/Paris:20191102T094500
DTEND;TZID=Europe/Paris:20191102T124500
DTSTAMP:20260421T044046
CREATED:20190917T134209Z
LAST-MODIFIED:20190917T134423Z
UID:4842-1572687900-1572698700@www.arb-cdb.ch
SUMMARY:sous la loupe fête ses 60 ans d'existence
DESCRIPTION:et  inaugure son nouveau site internet. Sous la loupe marquera cet anniversaire au Communications Center à Bienne et sera reçue par par Madame Virginie Borel\, directrice du Forum du bilinguisme. \nLe programme\, téléchargeable\, ci-dessous et le bulletin d’inscription jusqu’au 20 septembre ici (clic)
URL:https://www.arb-cdb.ch/event/sous-la-loupe-fete-ses-60-ans/
LOCATION:Communications Center à Bienne\, place Robert-Walser 7\, 2503 Bienne\, Suisse
CATEGORIES:Autre manifestation,Conférence,Ouvert à tous,sur inscription
END:VEVENT
BEGIN:VEVENT
DTSTART;TZID=Europe/Paris:20191105T120000
DTEND;TZID=Europe/Paris:20191105T120000
DTSTAMP:20260421T044046
CREATED:20190922T213225Z
LAST-MODIFIED:20190922T213225Z
UID:4849-1572955200-1572955200@www.arb-cdb.ch
SUMMARY:Repas saucisses de la Patrie Vaudoise
DESCRIPTION:La Patrie Vaudoise le plaisir de vous convier au traditionnel. Inscription jusqu’au 30 octobre 2019
URL:https://www.arb-cdb.ch/event/repas-saucisses-de-la-patrie-vaudoise-2019/
CATEGORIES:Animation,Ouvert à tous,Payant
END:VEVENT
BEGIN:VEVENT
DTSTART;TZID=Europe/Paris:20191106T090000
DTEND;TZID=Europe/Paris:20191106T170000
DTSTAMP:20260421T044046
CREATED:20190627T084425Z
LAST-MODIFIED:20190630T165434Z
UID:4421-1573030800-1573059600@www.arb-cdb.ch
SUMMARY:Excursion de l'UNAB au Salon de musique de Cormoret
DESCRIPTION:Excursion de l’UNAB au Salon de musique de Cormoret\nMercredi 6 novembre 2019\, de 9 à 17 heures \nDéplacements en car au départ de Berne. \nVisite de l’ancien moulin restauré et de son orgue de 1580 tuyaux. Démonstrations musicales et moments de dégustation de plats cuisinés maison avec des produits régionaux. \nInscription: ici \n\n\nPapillon: \n		\n			\n			\n		\n\n		 \n\n\n\n\nCette page est tirée du site de l’UNAB.
URL:https://www.arb-cdb.ch/event/lsm/
LOCATION:Salon de musique\, Vieille-Route 22\, Cormoret\, 2612\, Suisse
CATEGORIES:Excursion,Ouvert à tous,Payant,Payant pour les non-membres,sur inscription
ORGANIZER;CN="UNAB Michel Schwob":MAILTO:michel.schwob@bluewin.ch
END:VEVENT
BEGIN:VEVENT
DTSTART;TZID=Europe/Paris:20191106T193000
DTEND;TZID=Europe/Paris:20191106T193000
DTSTAMP:20260421T044046
CREATED:20190108T203009Z
LAST-MODIFIED:20191016T144823Z
UID:3486-1573068600-1573068600@www.arb-cdb.ch
SUMMARY:Het Orgel Trio
DESCRIPTION:Musique à l’église française de Berne vous invite à ce concert avec\nBerry van Berkum\, orgue (Utrecht)\nSteven Kamperman\, clarinette & saxophone\nDion Nijland\, contrebasse \nFlyer: \n		\n			\n			\n		\n\n		 \nVous pouvez télécharger ici le programme de la saison 2019 de Musique à l’église française de Berne
URL:https://www.arb-cdb.ch/event/het-ogel-trio/
LOCATION:Église française de Berne\, Zeughausgasse 8\, 3011 Berne\, Switzerland
CATEGORIES:Collecte,Musique,Ouvert à tous
END:VEVENT
BEGIN:VEVENT
DTSTART;TZID=Europe/Paris:20191113T133000
DTEND;TZID=Europe/Paris:20191113T133000
DTSTAMP:20260421T044046
CREATED:20191027T194336Z
LAST-MODIFIED:20191027T194535Z
UID:4980-1573651800-1573651800@www.arb-cdb.ch
SUMMARY:Promenade pédestre entre Bremgarten et Herrenschwanden
DESCRIPTION:L’Église réformée française vous invite à cette promenade pédestre sur un balcon avec vue sur les Alpes et le Jura
URL:https://www.arb-cdb.ch/event/promenade-pedestre-bremgarten-herrenscwanden/
CATEGORIES:Excursion,Ouvert à tous
END:VEVENT
BEGIN:VEVENT
DTSTART;TZID=Europe/Paris:20191113T180000
DTEND;TZID=Europe/Paris:20191113T223000
DTSTAMP:20260421T044046
CREATED:20190517T130852Z
LAST-MODIFIED:20190517T130955Z
UID:4301-1573668000-1573684200@www.arb-cdb.ch
SUMMARY:Ciné-Débat-Rencontres de Berne : Les chevaliers du ciel
DESCRIPTION:Film :  » Les chevaliers du ciel  » sous-titré en allemand\nSujet : Les caractéristiques des différents avions de chasse\net l’entrainement des pilotes.\nIntervenant : Jean-Michel Meyer Colonel (R) de l’armée\nfrançaise\, pilote de chasse et représentant de\nRafale International en Suisse.\nDébats avec traduction simultanée en allemand. \nPrésentation du Film 🎥 :\nSalon aéronautique de Farnborough\, Angleterre. Alors qu’il était en pleine démonstration\, un Mirage 2000 a disparu au-dessus de la Mer du Nord. Les capitaines Antoine Marchelli et Sébastien Vallois sont immédiatement envoyés en patrouille pour retrouver l’avion. Ils ne tardent pas à apercevoir le 2000 : il vole dissimulé sous un Airbus de Qatar Airways. Le pilote du Mirage les a repérés\, il s’est placé en position de combat. Marchelli et Vallois reçoivent l’ordre d’abandonner la poursuite sans délai. Trop tard ! Le 2000 est sur le point d’abattre Vallois. Marchelli va devoir l’éliminer pour protéger son équipier.\nCet incident est le prélude d’une gigantesque manipulation. A la clé\, le détournement d’un avion de chasse français à des fins terroristes. Une manipulation dont le dernier acte se jouera un 14 juillet dans le ciel de Paris\, au dessus des Champs-Elysées. \nHoraires :\n18h00 : Accueil et cocktail dînatoire à l’hôtel Ador\n19h30 : Début du Film + Débat au CinéClub\nUne participation financière est demandée pour le buffet dînatoire.\nPlus d’information : https://www.cinerencontredebats.com/tarifs
URL:https://www.arb-cdb.ch/event/les-chevaliers/
LOCATION:cineClub\, Laupenstrasse 17\, Berne\, 3011\, Suisse
CATEGORIES:Animation,Film projeté en français,Ouvert à tous,Payant
END:VEVENT
BEGIN:VEVENT
DTSTART;TZID=Europe/Paris:20191116T163000
DTEND;TZID=Europe/Paris:20191116T180000
DTSTAMP:20260421T044046
CREATED:20191009T120932Z
LAST-MODIFIED:20200215T190256Z
UID:4896-1573921800-1573927200@www.arb-cdb.ch
SUMMARY:Vernissage de l'exposition photographique "Berne"
DESCRIPTION:L’exposition BERNE a lieu du 16 novembre au 7 décembre 2019 au centre d’accueil paroissial\, Predigergasse 3 à Berne.\nCette exposition marque les 5 ans de vie du Photo-club Francophone de Berne. Dans ce cadre ses membres vont présenter leur vision photographique de la ville de Berne.
URL:https://www.arb-cdb.ch/event/vernissage-de-lexposition-de-photographies-berne/
LOCATION:CAP\, Maison de paroisse de la Paroisse réformée française\, Predigergasse 3\, 3011 Berne\, Suisse
CATEGORIES:Exposition,Gratuit,Ouvert à tous
ORGANIZER;CN="Photo-Club Francophone de Berne":MAILTO:info@photoclubberne.ch
END:VEVENT
BEGIN:VEVENT
DTSTART;TZID=Europe/Paris:20191119T183000
DTEND;TZID=Europe/Paris:20191119T183000
DTSTAMP:20260421T044046
CREATED:20191013T194758Z
LAST-MODIFIED:20191013T194758Z
UID:4935-1574188200-1574188200@www.arb-cdb.ch
SUMMARY:La planète rouge en image
DESCRIPTION:50 ans d’exploration de Mars.
URL:https://www.arb-cdb.ch/event/la-planete-rouge-en-image/
LOCATION:Université de Berne\, Institut des sciences exactes\, Sidlerstrasse 5\, Berne\, 3012\, Suisse
CATEGORIES:Conférence,Gratuit,Ouvert à tous
END:VEVENT
BEGIN:VEVENT
DTSTART;TZID=Europe/Paris:20191122T113000
DTEND;TZID=Europe/Paris:20191122T113000
DTSTAMP:20260421T044046
CREATED:20190212T142442Z
LAST-MODIFIED:20191017T183049Z
UID:3769-1574422200-1574422200@www.arb-cdb.ch
SUMMARY:Sortie fondue avec la SFB
DESCRIPTION:Les membres de la Société fribourgeoise de Berne (SFB) vous invite à venir partager leur traditionnelle fondue au restaurant National à Berne.\nInscription jusqu’au 31 octobre\, voir ci-dessous
URL:https://www.arb-cdb.ch/event/sortie-fondue-avec-la-sfb-2019-2/
LOCATION:Restaurant National\, Hirschengraben 24\, 3011 Bern\, Suisse
CATEGORIES:Animation,Ouvert à tous
END:VEVENT
BEGIN:VEVENT
DTSTART;TZID=Europe/Paris:20191124T180000
DTEND;TZID=Europe/Paris:20191124T180000
DTSTAMP:20260421T044046
CREATED:20190108T203710Z
LAST-MODIFIED:20190810T092810Z
UID:3490-1574618400-1574618400@www.arb-cdb.ch
SUMMARY:Musique et Parole
DESCRIPTION:La musique à l’église française de Berne vous invite à ce concert \navec le Chœur de l’église française de Berne (CEFB)\nBrigitte Scholl\, Direction /  Antonio Garcia\, Orgue \nVous pouvez télécharger\nLe programme de la saison 2019 de la musique à l’église française de Berne
URL:https://www.arb-cdb.ch/event/musique-et-parole-3/
LOCATION:Église française de Berne\, Zeughausgasse 8\, 3011 Berne\, Switzerland
CATEGORIES:Collecte,Musique,Ouvert à tous
END:VEVENT
BEGIN:VEVENT
DTSTART;TZID=Europe/Paris:20191125T060000
DTEND;TZID=Europe/Paris:20191125T180000
DTSTAMP:20260421T044046
CREATED:20190211T110945Z
LAST-MODIFIED:20190211T110945Z
UID:3766-1574661600-1574704800@www.arb-cdb.ch
SUMMARY:Marché aux oignons (Zibelemärit)
DESCRIPTION:Lorsque des effluves d’oignons cuisinés et de vin chaud s’emparent des ruelles de Berne\, vous savez que la capitale fédérale suisse s’est mise à l’heure de son célèbre marché aux oignons\, le Zibelemärit. Dès l’aube\, ses milliers de visiteurs parcourent les ruelles de la haute vieille ville pour profiter de ce marché fermier aux airs de fête populaire.\nLe Zibelemärit s’étend sur les ruelles principales et secondaires de la haute vieille ville ainsi que sur la Place Orphelinat (Waisenhausplatz) et la Place fédérale (Bundesplatz)\nBerne Tourisme fait une jolie présentation de l’évènement avec des informations\, photos et vidéos. Ici la version française \n 
URL:https://www.arb-cdb.ch/event/marche-aux-oignons-zibelemarit-2019/
LOCATION:Theater Matte\, Mattenenge 1\, 3011 Berne\, Suisse
CATEGORIES:Animation,Ouvert à tous
END:VEVENT
BEGIN:VEVENT
DTSTART;TZID=Europe/Paris:20191130T103000
DTEND;TZID=Europe/Paris:20191130T133000
DTSTAMP:20260421T044046
CREATED:20190517T131815Z
LAST-MODIFIED:20190517T132106Z
UID:4307-1575109800-1575120600@www.arb-cdb.ch
SUMMARY:Ciné-Débat-Rencontres de Berne : Séance famille
DESCRIPTION:Lieu : Cinemovie\, Seilerstrasse 4\, 3011 Berne\nSéance famille \nHoraires :\n10 h 30 : Début du Film\nFilm à voir avec les enfants \nLe titre du film sera annoncé courant 2019\nTarification : 12 CHF sans adhésion / 0 CHF avec adhésion\nPlus d’information : https://www.cinerencontredebats.com/tarifs
URL:https://www.arb-cdb.ch/event/seance-famille/
LOCATION:Cinemovie\, Seilerstrasse 4\, 3011 Berne\, Suisse
CATEGORIES:Animation,Film projeté en français,Ouvert à tous,Payant
END:VEVENT
END:VCALENDAR