BEGIN:VCALENDAR
VERSION:2.0
PRODID:-//Association Romande et francophone de Berne et environs - ECPv6.15.20//NONSGML v1.0//EN
CALSCALE:GREGORIAN
METHOD:PUBLISH
X-WR-CALNAME:Association Romande et francophone de Berne et environs
X-ORIGINAL-URL:https://www.arb-cdb.ch
X-WR-CALDESC:Évènements pour Association Romande et francophone de Berne et environs
REFRESH-INTERVAL;VALUE=DURATION:PT1H
X-Robots-Tag:noindex
X-PUBLISHED-TTL:PT1H
BEGIN:VTIMEZONE
TZID:Europe/Paris
BEGIN:DAYLIGHT
TZOFFSETFROM:+0100
TZOFFSETTO:+0200
TZNAME:CEST
DTSTART:20180325T010000
END:DAYLIGHT
BEGIN:STANDARD
TZOFFSETFROM:+0200
TZOFFSETTO:+0100
TZNAME:CET
DTSTART:20181028T010000
END:STANDARD
BEGIN:DAYLIGHT
TZOFFSETFROM:+0100
TZOFFSETTO:+0200
TZNAME:CEST
DTSTART:20190331T010000
END:DAYLIGHT
BEGIN:STANDARD
TZOFFSETFROM:+0200
TZOFFSETTO:+0100
TZNAME:CET
DTSTART:20191027T010000
END:STANDARD
BEGIN:DAYLIGHT
TZOFFSETFROM:+0100
TZOFFSETTO:+0200
TZNAME:CEST
DTSTART:20200329T010000
END:DAYLIGHT
BEGIN:STANDARD
TZOFFSETFROM:+0200
TZOFFSETTO:+0100
TZNAME:CET
DTSTART:20201025T010000
END:STANDARD
END:VTIMEZONE
BEGIN:VEVENT
DTSTART;TZID=Europe/Paris:20191002T090000
DTEND;TZID=Europe/Paris:20191002T170000
DTSTAMP:20260421T060857
CREATED:20190627T083646Z
LAST-MODIFIED:20190630T165855Z
UID:4418-1570006800-1570035600@www.arb-cdb.ch
SUMMARY:Excursion au Musée Chaplin
DESCRIPTION:Excursion de l’UNAB au Musée Chaplin de Corsier-sur-Vevey\nMercredi 2 octobre 2019\, de 9 à 17 heures \nDéplacements en car au départ de Berne. \nVisite guidée du musée suivie d’un repas au restaurant The Tramp. \nInscription: ici \nPapillon: \n		\n			\n			\n		\n\n		 \n 
URL:https://www.arb-cdb.ch/event/excursion-au-musee-chaplin/
LOCATION:Musée Chaplin\, Route de Fenil 2\, Corsier-sur-Vevey\, 1804\, Suisse
CATEGORIES:Excursion,Ouvert à tous,Payant,Payant pour les non-membres,sur inscription
ORGANIZER;CN="UNAB Michel Schwob":MAILTO:michel.schwob@bluewin.ch
END:VEVENT
BEGIN:VEVENT
DTSTART;VALUE=DATE:20191005
DTEND;VALUE=DATE:20191007
DTSTAMP:20260421T060857
CREATED:20190827T153659Z
LAST-MODIFIED:20190827T153659Z
UID:4749-1570233600-1570406399@www.arb-cdb.ch
SUMMARY:Marcher avec le CRF
DESCRIPTION:Le Club de randonnée et de ski de fond de Berne (CRF) vous invite à venir marcher avec lui de\nSörenberg à Chemmeri-boden\, env. 3 h\, ↑150 ↓ 500 m (détails\, voir le programme ci-dessous)\nLa date définitive\, samedi ou dimanche\, de l’excursion dépend de la météo.\nAdressez-vous directement à l’organisatrice ou l’organisateur. Inscription au plus tard jeudi soir pour la réservation des transports publics\nCela vous permet de recevoir les renseignements utiles et d’optimaliser les transports.
URL:https://www.arb-cdb.ch/event/marcher-avec-le-crf-2019-7-3-6/
CATEGORIES:Excursion,Gratuit,Ouvert à tous
END:VEVENT
BEGIN:VEVENT
DTSTART;TZID=Europe/Paris:20191009T133000
DTEND;TZID=Europe/Paris:20191009T133000
DTSTAMP:20260421T060857
CREATED:20190901T105824Z
LAST-MODIFIED:20190901T105824Z
UID:4774-1570627800-1570627800@www.arb-cdb.ch
SUMMARY:Promenade pédestre : Sur les traces des Celtes et des Romains
DESCRIPTION:L’Église réformée française vous invite à cette promenade pédestre
URL:https://www.arb-cdb.ch/event/promenade-pedestre-2019-10-celtes-et-romains/
CATEGORIES:Excursion,Ouvert à tous
END:VEVENT
BEGIN:VEVENT
DTSTART;VALUE=DATE:20191012
DTEND;VALUE=DATE:20191014
DTSTAMP:20260421T060857
CREATED:20190827T154626Z
LAST-MODIFIED:20190827T155636Z
UID:4753-1570838400-1571011199@www.arb-cdb.ch
SUMMARY:Marcher avec le CRF
DESCRIPTION:Le Club de randonnée et de ski de fond de Berne (CRF) vous invite à venir marcher avec lui autour du\nHinterburgseeli avec vue sur le lac de Brienz et le Rothorn de Brienz. 2 ½ h\, ↑↓ 360 m (détails\, voir le programme ci-dessous)\nLa date définitive\, samedi ou dimanche\, de l’excursion dépend de la météo.\nAdressez-vous directement à l’organisatrice ou l’organisateur de préférence avant le jeudi soir.\nCela vous permet de recevoir les renseignements utiles et d’optimaliser les transports.
URL:https://www.arb-cdb.ch/event/marcher-avec-le-crf-2019-7-3-7/
CATEGORIES:Excursion,Gratuit,Ouvert à tous
END:VEVENT
BEGIN:VEVENT
DTSTART;VALUE=DATE:20191013
DTEND;VALUE=DATE:20191014
DTSTAMP:20260421T060857
CREATED:20190827T140439Z
LAST-MODIFIED:20190827T140439Z
UID:4728-1570924800-1571011199@www.arb-cdb.ch
SUMMARY:Sortie Bénichon de la SFB
DESCRIPTION:La Société fribourgeoise de Berne (SFB) vous invite à sa sortie Bénichon au restaurant de La Croix-Blanche à La Roche\, en Gruyère.
URL:https://www.arb-cdb.ch/event/sortie-benichon-de-la-sfb-2019/
LOCATION:La Croix Blanche à La Roche\, route de Fribourg 1\, La Roche FR\, 1634\, Suisse
CATEGORIES:Autre manifestation,Excursion,Ouvert à tous,Payant
END:VEVENT
BEGIN:VEVENT
DTSTART;TZID=Europe/Paris:20191016T181500
DTEND;TZID=Europe/Paris:20191016T223000
DTSTAMP:20260421T060857
CREATED:20190517T130135Z
LAST-MODIFIED:20190517T130135Z
UID:4295-1571249700-1571265000@www.arb-cdb.ch
SUMMARY:Ciné-Débat-Rencontres de Berne : La Route d’Istanbul
DESCRIPTION:Film :  » La Route d’Istanbul  » sous-titré en français\nSujet: Les parents confrontés à la radicalisation de leurs enfants\nIntervenant: Peter Regli\, ancien Chef du Service de renseignement suisse.\nLieu : Freies Gymnasium Beaulieusstrasse 55\, 3012 Berne\nDébats avec traduction simultanée en allemand. \nPrésentation du Film 🎥 :\nLorsque la police lui apprend qu’Elodie\, sa fille unique de 19 ans\, est en route pour rejoindre la Syrie\, la vie d’Elisabeth bascule. Elle est sous le choc et ne comprend pas ce geste car cette guerre n’est pas la leur. Elisabeth parvient à reprendre contact avec Elodie mais elle est vite démunie face à cette jeune femme qu’elle ne reconnaît plus. Seule dans son combat\, elle décide alors de partir en Syrie chercher sa fille et la convaincre de revenir avec elle en Belgique. Mère et fille arriveront-elles à se retrouver et à se comprendre ? \nHoraires :\n18h15 : Accueil et buffet dînatoire salé\n19h15 : Début du Film + débat suivi d’un buffet sucré \nUne participation financière est demandée pour le buffet dînatoire.\nPlus d’information : https://www.cinerencontredebats.com/tarifs
URL:https://www.arb-cdb.ch/event/route-istanbul/
LOCATION:Freies Gymnasium\, Beaulieustrasse 55\, 3012 Berne\, Suisse
CATEGORIES:Animation,Film projeté en français,Ouvert à tous,Payant
END:VEVENT
BEGIN:VEVENT
DTSTART;VALUE=DATE:20191019
DTEND;VALUE=DATE:20191021
DTSTAMP:20260421T060857
CREATED:20190827T160101Z
LAST-MODIFIED:20190827T160101Z
UID:4761-1571443200-1571615999@www.arb-cdb.ch
SUMMARY:Marcher avec le CRF
DESCRIPTION:Le Club de randonnée et de ski de fond de Berne (CRF) vous invite à cette promenade de\nMariastein à Kleinlützel\, environ 3 ½ h\, ↑ 520 ↓ 600 m (détails\, voir le programme ci-dessous)\nLa date définitive\, samedi ou dimanche\, de l’excursion dépend de la météo.\nAdressez-vous directement à l’organisatrice ou l’organisateur de préférence avant le jeudi soir.\nCela vous permet de recevoir les renseignements utiles et d’optimaliser les transports.
URL:https://www.arb-cdb.ch/event/marcher-avec-le-crf-2019-7-3-8/
CATEGORIES:Excursion,Gratuit,Ouvert à tous
END:VEVENT
BEGIN:VEVENT
DTSTART;TZID=Europe/Paris:20191026T083000
DTEND;TZID=Europe/Paris:20191026T171500
DTSTAMP:20260421T060857
CREATED:20190806T194708Z
LAST-MODIFIED:20190927T133537Z
UID:4681-1572078600-1572110100@www.arb-cdb.ch
SUMMARY:Excursion de l'ARB\,  visite des mines d'asphalte du val de travers
DESCRIPTION:Pour sa sortie annuelle\, l’Association romande et francophone de Berne et environs (ARB) visitera les mines d’asphalte du val de Travers.\nOuverte à toute et tous\, merci de vous inscrire avant le 20 octobre 2019 (voir papillon ci-dessous)
URL:https://www.arb-cdb.ch/event/excursion-de-larb2019-minesdasphalte/
LOCATION:Mines d’asphalte\, Site de la Presta\, 2105 Travers\, Suisse
CATEGORIES:Excursion,Ouvert à tous,Payant,Visite guidée
END:VEVENT
END:VCALENDAR