BEGIN:VCALENDAR
VERSION:2.0
PRODID:-//Association Romande et francophone de Berne et environs - ECPv6.15.20//NONSGML v1.0//EN
CALSCALE:GREGORIAN
METHOD:PUBLISH
X-WR-CALNAME:Association Romande et francophone de Berne et environs
X-ORIGINAL-URL:https://www.arb-cdb.ch
X-WR-CALDESC:Évènements pour Association Romande et francophone de Berne et environs
REFRESH-INTERVAL;VALUE=DURATION:PT1H
X-Robots-Tag:noindex
X-PUBLISHED-TTL:PT1H
BEGIN:VTIMEZONE
TZID:Europe/Paris
BEGIN:DAYLIGHT
TZOFFSETFROM:+0100
TZOFFSETTO:+0200
TZNAME:CEST
DTSTART:20180325T010000
END:DAYLIGHT
BEGIN:STANDARD
TZOFFSETFROM:+0200
TZOFFSETTO:+0100
TZNAME:CET
DTSTART:20181028T010000
END:STANDARD
BEGIN:DAYLIGHT
TZOFFSETFROM:+0100
TZOFFSETTO:+0200
TZNAME:CEST
DTSTART:20190331T010000
END:DAYLIGHT
BEGIN:STANDARD
TZOFFSETFROM:+0200
TZOFFSETTO:+0100
TZNAME:CET
DTSTART:20191027T010000
END:STANDARD
BEGIN:DAYLIGHT
TZOFFSETFROM:+0100
TZOFFSETTO:+0200
TZNAME:CEST
DTSTART:20200329T010000
END:DAYLIGHT
BEGIN:STANDARD
TZOFFSETFROM:+0200
TZOFFSETTO:+0100
TZNAME:CET
DTSTART:20201025T010000
END:STANDARD
END:VTIMEZONE
BEGIN:VEVENT
DTSTART;VALUE=DATE:20190801
DTEND;VALUE=DATE:20190802
DTSTAMP:20260421T174546
CREATED:20190117T162055Z
LAST-MODIFIED:20190716T174503Z
UID:3512-1564617600-1564703999@www.arb-cdb.ch
SUMMARY:Fête nationale du 1er août à Berne
DESCRIPTION:À Berne\, les festivités vont bon train à l’occasion de la Fête nationale\, inclus un superbe un feu d’artifice sur le Gurten (22 h 15 à 22 h 45)\nProgramme détaillé des manifestations ici
URL:https://www.arb-cdb.ch/event/la-fete-nationale-a-berne/
CATEGORIES:Animation,Ouvert à tous
END:VEVENT
BEGIN:VEVENT
DTSTART;TZID=Europe/Paris:20190803T120000
DTEND;TZID=Europe/Paris:20190803T120000
DTSTAMP:20260421T174546
CREATED:20190108T200145Z
LAST-MODIFIED:20190712T183931Z
UID:3473-1564833600-1564833600@www.arb-cdb.ch
SUMMARY:Estivales 2019\, Intercity flute players Bern
DESCRIPTION:Musique à l’église française de Berne vous invite à\nIntercity flute players Bern\nDas Berner Querflötenorchester\nPierre-André Bovey\, Direction\nprogramme détaillé en page 7 \n		\n			\n			\n		\n\n		 \nVous pouvez télécharger\nLe programme de la saison 2019 de Musique à l’église française de Berne
URL:https://www.arb-cdb.ch/event/estivales-2019-5/
LOCATION:Église française de Berne\, Zeughausgasse 8\, 3011 Berne\, Switzerland
CATEGORIES:Collecte,Musique,Ouvert à tous
END:VEVENT
BEGIN:VEVENT
DTSTART;TZID=Europe/Paris:20190810T120000
DTEND;TZID=Europe/Paris:20190810T120000
DTSTAMP:20260421T174546
CREATED:20190108T200350Z
LAST-MODIFIED:20190712T184014Z
UID:3475-1565438400-1565438400@www.arb-cdb.ch
SUMMARY:Estivales 2019\, chant et orgue
DESCRIPTION:Musique à l’église française de Berne vous invite à\nChant et orgue\nCaroline Monnin\, Soprano\nGabriel Wolfer\, Orgue (St-Ursanne)\nprogramme détaillé en page 8 \n		\n			\n			\n		\n\n		 \nVous pouvez télécharger\nLe programme de la saison 2019 de Musique à l’église française de Berne
URL:https://www.arb-cdb.ch/event/estivales-2019-6/
LOCATION:Église française de Berne\, Zeughausgasse 8\, 3011 Berne\, Switzerland
CATEGORIES:Collecte,Musique,Ouvert à tous
END:VEVENT
BEGIN:VEVENT
DTSTART;TZID=Europe/Paris:20190814T134500
DTEND;TZID=Europe/Paris:20190814T134500
DTSTAMP:20260421T174546
CREATED:20190625T214806Z
LAST-MODIFIED:20190625T214806Z
UID:4407-1565790300-1565790300@www.arb-cdb.ch
SUMMARY:Promenade pédestre de Worb à Boll
DESCRIPTION:
URL:https://www.arb-cdb.ch/event/promenade-pedestre-2019-dwb/
CATEGORIES:Excursion,Ouvert à tous
END:VEVENT
BEGIN:VEVENT
DTSTART;TZID=Europe/Paris:20190817T120000
DTEND;TZID=Europe/Paris:20190817T120000
DTSTAMP:20260421T174546
CREATED:20190108T201227Z
LAST-MODIFIED:20190712T184120Z
UID:3478-1566043200-1566043200@www.arb-cdb.ch
SUMMARY:Estivales 2019\, Orgelspaziergang
DESCRIPTION:Musique à l’église française de Berne vous invite à\nOrgelspaziergang\nLa célèbre promenade d’orgue en orgue en ville de Berne\nLes horaires et lieux sont détaillés en page 9 du fascicule \n		\n			\n			\n		\n\n		 \nVous pouvez télécharger\nLe programme de la saison 2019 de Musique à l’église française de Berne
URL:https://www.arb-cdb.ch/event/estivales-2019-7/
LOCATION:Église française de Berne\, Zeughausgasse 8\, 3011 Berne\, Switzerland
CATEGORIES:Collecte,Musique,Ouvert à tous
END:VEVENT
BEGIN:VEVENT
DTSTART;TZID=Europe/Paris:20190824T120000
DTEND;TZID=Europe/Paris:20190824T120000
DTSTAMP:20260421T174546
CREATED:20190108T201816Z
LAST-MODIFIED:20190712T184257Z
UID:3480-1566648000-1566648000@www.arb-cdb.ch
SUMMARY:Estivales 2019\, orgues en fête
DESCRIPTION:Musique à l’église française de Berne vous invite à\nOrgues en fête avec:\n– Sylvia Stampfli & Erich Nünlist (Goldenbells)\n– I. Zurkinden\, A. Meier & S. Bucher (Bach: Orgel vs Klavier)\n– E. Le Divellec\, C. Ricci & J. Brunner (Orgue solo)\n– I. Völlmy\, B. Zahler & L- Graber (Schlagzeug\, Sax & Orgel) \nVous pouvez télécharger\n\n		\n			\n			\n		\n\n		\nou en page 10 du fascicule
URL:https://www.arb-cdb.ch/event/estivales-2019-8-2/
LOCATION:Église française de Berne\, Zeughausgasse 8\, 3011 Berne\, Switzerland
CATEGORIES:Collecte,Musique,Ouvert à tous
END:VEVENT
BEGIN:VEVENT
DTSTART;TZID=Europe/Paris:20190825T100000
DTEND;TZID=Europe/Paris:20190825T160000
DTSTAMP:20260421T174546
CREATED:20190625T074458Z
LAST-MODIFIED:20190625T074458Z
UID:4372-1566727200-1566748800@www.arb-cdb.ch
SUMMARY:Fête de l'église française de Berne
DESCRIPTION:de 10 à 16 heures\, la paroisse de l’église française est en fête !\nculte\, apéro en musique\, risotto géant\, spectacles… \n 
URL:https://www.arb-cdb.ch/event/fete-de-leglise-francaise-de-berne/
LOCATION:Église française de Berne\, Zeughausgasse 8\, 3011 Berne\, Switzerland
CATEGORIES:Ouvert à tous
ORGANIZER;CN="Paroisse r%C3%A9form%C3%A9e fran%C3%A7aise de Berne":MAILTO:secretariat@egliserefberne.ch
END:VEVENT
BEGIN:VEVENT
DTSTART;TZID=Europe/Paris:20190825T140000
DTEND;TZID=Europe/Paris:20190825T140000
DTSTAMP:20260421T174546
CREATED:20190108T202154Z
LAST-MODIFIED:20190712T182320Z
UID:3482-1566741600-1566741600@www.arb-cdb.ch
SUMMARY:Estivales 2019\, fête de l'église française
DESCRIPTION:Musique à l’église française de Berne vous invite à\nFête de l’église française\nSpectacle musical pour enfants par le Duo Accordiano \nVous pouvez télécharger\nLe programme de la saison 2019 de Musique à l’église française de Berne
URL:https://www.arb-cdb.ch/event/estivales-2019-9/
LOCATION:Église française de Berne\, Zeughausgasse 8\, 3011 Berne\, Switzerland
CATEGORIES:Collecte,Musique,Ouvert à tous
END:VEVENT
BEGIN:VEVENT
DTSTART;VALUE=DATE:20190831
DTEND;VALUE=DATE:20190902
DTSTAMP:20260421T174546
CREATED:20190827T150523Z
LAST-MODIFIED:20190827T153035Z
UID:4734-1567209600-1567382399@www.arb-cdb.ch
SUMMARY:Marcher avec le CRF
DESCRIPTION:Albeuve – Ciernes d’Albeuve – Montbovon (détails\, voir le programme ci-dessous)\nLe Club de randonnée et de ski de fond de Berne (CRF) vous invite à une balade panoramique et variée en Gruyère. Env. 2 h 40\, ↑ 423 ↓ 429 m.\nLa date définitive\, samedi ou dimanche\, de l’excursion dépend de la météo.\nAdressez-vous directement à l’organisatrice ou l’organisateur de préférence avant le jeudi soir.\nCela vous permet de recevoir les renseignements utiles et d’optimaliser les transports.
URL:https://www.arb-cdb.ch/event/marcher-avec-le-crf-2019-7-3-2/
CATEGORIES:Excursion,Gratuit,Ouvert à tous
END:VEVENT
BEGIN:VEVENT
DTSTART;TZID=Europe/Paris:20190831T120000
DTEND;TZID=Europe/Paris:20190831T120000
DTSTAMP:20260421T174546
CREATED:20190108T202519Z
LAST-MODIFIED:20190712T184408Z
UID:3484-1567252800-1567252800@www.arb-cdb.ch
SUMMARY:Estivales 2019\, Canto Vivo
DESCRIPTION:Musique à l’église française de Berne vous invite à\nCanto Vivo\, ensemble vocal bernois\nBrigitte Scholl\, Direction\nprogramme détaillé en page 12 du fascicule \n		\n			\n			\n		\n\n		 \nVous pouvez télécharger\nLe programme de la saison 2019 de Musique à l’église française de Berne
URL:https://www.arb-cdb.ch/event/estivales-2019-10/
LOCATION:Église française de Berne\, Zeughausgasse 8\, 3011 Berne\, Switzerland
CATEGORIES:Collecte,Musique,Ouvert à tous
END:VEVENT
END:VCALENDAR