BEGIN:VCALENDAR
VERSION:2.0
PRODID:-//Association Romande et francophone de Berne et environs - ECPv6.15.20//NONSGML v1.0//EN
CALSCALE:GREGORIAN
METHOD:PUBLISH
X-WR-CALNAME:Association Romande et francophone de Berne et environs
X-ORIGINAL-URL:https://www.arb-cdb.ch
X-WR-CALDESC:Évènements pour Association Romande et francophone de Berne et environs
REFRESH-INTERVAL;VALUE=DURATION:PT1H
X-Robots-Tag:noindex
X-PUBLISHED-TTL:PT1H
BEGIN:VTIMEZONE
TZID:Europe/Paris
BEGIN:DAYLIGHT
TZOFFSETFROM:+0100
TZOFFSETTO:+0200
TZNAME:CEST
DTSTART:20180325T010000
END:DAYLIGHT
BEGIN:STANDARD
TZOFFSETFROM:+0200
TZOFFSETTO:+0100
TZNAME:CET
DTSTART:20181028T010000
END:STANDARD
BEGIN:DAYLIGHT
TZOFFSETFROM:+0100
TZOFFSETTO:+0200
TZNAME:CEST
DTSTART:20190331T010000
END:DAYLIGHT
BEGIN:STANDARD
TZOFFSETFROM:+0200
TZOFFSETTO:+0100
TZNAME:CET
DTSTART:20191027T010000
END:STANDARD
BEGIN:DAYLIGHT
TZOFFSETFROM:+0100
TZOFFSETTO:+0200
TZNAME:CEST
DTSTART:20200329T010000
END:DAYLIGHT
BEGIN:STANDARD
TZOFFSETFROM:+0200
TZOFFSETTO:+0100
TZNAME:CET
DTSTART:20201025T010000
END:STANDARD
END:VTIMEZONE
BEGIN:VEVENT
DTSTART;VALUE=DATE:20190605
DTEND;VALUE=DATE:20190606
DTSTAMP:20260422T051122
CREATED:20190510T151354Z
LAST-MODIFIED:20190510T151354Z
UID:4243-1559692800-1559779199@www.arb-cdb.ch
SUMMARY:Une escapade parmi les Terrasses de Lavaux et sur le Léman
DESCRIPTION:
URL:https://www.arb-cdb.ch/event/une-escapade-terrases-de-lavaux-et-sur-le-leman/
CATEGORIES:Excursion,Ouvert à tous
END:VEVENT
BEGIN:VEVENT
DTSTART;VALUE=DATE:20190610
DTEND;VALUE=DATE:20190613
DTSTAMP:20260422T051122
CREATED:20190408T145328Z
LAST-MODIFIED:20190522T131932Z
UID:4143-1560124800-1560383999@www.arb-cdb.ch
SUMMARY:Pentecôte à vélo avec le CRF
DESCRIPTION:3 circuits 40 à 60 km\, région Stuttgart.\nNous préparons 3 jours à vélo\, du lundi de Pentecôte 10 au mercredi 12 juin. Séjour prévu du dimanche 9 (arrivée) au jeudi 13 (départ) à l’hôtel de Möglingen zur Traube (ch. double à 89 € par chambre et par jour\, petit-déjeuner buffet inclus) .\nSi possible 3 circuits  de 40 à 60 km environ par jour avec un dénivelé de 2 à 500 m. Les non cyclistes peuvent visiter la région.\nCette région à quelque 10 à 15 km au nord de Stuttgart (Baden-Württemberg) est très favorable au cyclisme de randonnée. Donc vélo de ville conseillé\, avec ou sans assistance électrique. Possibilité de location sur place.\nUne série de chambres sont déjà réservées et prises. En cas d’intérêt\, merci de nous répondre au plus vite car les réservations deviennent chaque jour plus aléatoires :\nCombien de personnes ?\nDates d’arrivée et de départ souhaitées.\nViendriez-vous avec votre voiture\, en train (possibilité de venir vous prendre à la gare) ?\nViendriez-vous avec votre (vos) vélos\, aimeriez-vous en louer sur place ou viendriez-vous en touriste(s) non cycliste ?\nQuel type de vélo\, avec ou sans assistance électrique ?
URL:https://www.arb-cdb.ch/event/pentecote-a-velo-crf2019/
CATEGORIES:Excursion,Ouvert à tous
ORGANIZER;CN="CRF Danielle et Jean-Fr. Perrochet":MAILTO:jean-fr.perrochet@bluewin.ch
END:VEVENT
BEGIN:VEVENT
DTSTART;TZID=Europe/Paris:20190612T184500
DTEND;TZID=Europe/Paris:20190612T223000
DTSTAMP:20260422T051122
CREATED:20190501T133831Z
LAST-MODIFIED:20190517T125042Z
UID:4205-1560365100-1560378600@www.arb-cdb.ch
SUMMARY:Ciné-Débat-Rencontres de Berne : César et Rosalie
DESCRIPTION:Film :  » César et Rosalie  » sous-titré en allemand\nLieu : CinéMovie\, Seilerstrasse 4\, 3011 Berne \nPrésentation du Film 🎥 :\nL’histoire d’un trio amoureux et d’une amitié naissante. César aime Rosalie. César est à l’aise en société\, plein d’entrain et dirige une société de ferrailleurs. Rosalie\, restée très proche de sa famille\, partage sa vie avec César. Et il y a aussi David\, un artiste qui fut autrefois l’amant si cher au cœur de Rosalie. Les deux hommes\, qui se disputent la même femme\, finissent par devenir amis…\nVersion restauré en décembre 2014 \nHoraires :\n18h45 : Accueil et cocktail dînatoire\n19h30 : Début du film \nPrix Femina du Cinéma Diplôme d’Honneur :\nmeilleure interprétation masculine à Yves Montand \nUne participation financière est demandée pour le cocktail.\nPlus d’information : https://www.cinerencontredebats.com/tarifs \n \n 
URL:https://www.arb-cdb.ch/event/cesar-et-rosalie-cine-debat-rencontres/
LOCATION:Cinemovie\, Seilerstrasse 4\, 3011 Berne\, Suisse
CATEGORIES:Animation,Film projeté en français,Ouvert à tous,Payant
END:VEVENT
BEGIN:VEVENT
DTSTART;VALUE=DATE:20190615
DTEND;VALUE=DATE:20190616
DTSTAMP:20260422T051122
CREATED:20190423T140932Z
LAST-MODIFIED:20190423T140932Z
UID:4169-1560556800-1560643199@www.arb-cdb.ch
SUMMARY:ZAPF! Craft Beer Festival Bern
DESCRIPTION:les amateurs de bière seront comblés : en plein air\, les producteurs de bière de la ville et de la région de Berne leur offrent un aperçu de la diversité de l’art brassicole local\nintroduction en français ici
URL:https://www.arb-cdb.ch/event/zafft-2019/
LOCATION:Warmbächliweg 2\, Warmbächliweg 2\, 3008 Berne\, Suisse
CATEGORIES:Animation,Ouvert à tous
END:VEVENT
BEGIN:VEVENT
DTSTART;TZID=Europe/Paris:20190615T190000
DTEND;TZID=Europe/Paris:20190615T190000
DTSTAMP:20260422T051122
CREATED:20190522T130910Z
LAST-MODIFIED:20190522T132317Z
UID:4321-1560625200-1560625200@www.arb-cdb.ch
SUMMARY:Petite Messe Solennelle de Gioachino Rossini
DESCRIPTION:Le Cantica Nova Worb et le Oratorienchor Oltenchor chantent cette messe deux fois au Kulturzentrum Bärensaal de Worb\, samedi  15 juin à 19 h et dimanche 16 juin à 17 h\, et une fois à la Friedenskirche à Olten\, samedi 23 juin 2019 à 18 h
URL:https://www.arb-cdb.ch/event/petite-messe-solennelle-de-gioachino-rossini/
LOCATION:Kulturzentrum Bärensaal Worb\, Bärenplatz 2\, 3076 Worb\, Suisse
CATEGORIES:Musique,Ouvert à tous,Payant
END:VEVENT
BEGIN:VEVENT
DTSTART;VALUE=DATE:20190616
DTEND;VALUE=DATE:20190617
DTSTAMP:20260422T051122
CREATED:20190117T155322Z
LAST-MODIFIED:20190117T155322Z
UID:3506-1560643200-1560729599@www.arb-cdb.ch
SUMMARY:Course Féminine Suisse Berne
DESCRIPTION:La Course Féminine Suisse Berne est un événement qui s’adresse à toute la famille. Avec plus de 16’000 participants la Course Féminine Suisse Berne est le plus grand événement sportif de femmes en Suisse.\nDepuis 2005\, la manifestation s’établit en plein cœur de Berne. Chaque année\, la Course Féminine Suisse Berne est un événement auquel des familles entières se pressent d’assister!\nBref description de l’évènement ici\nLe site de l’évènement fournit tous les détails pratiques et permet de voir des images et vidéos d’archives
URL:https://www.arb-cdb.ch/event/course-feminine-suisse-berne/
CATEGORIES:Animation,Ouvert à tous
END:VEVENT
BEGIN:VEVENT
DTSTART;TZID=Europe/Paris:20190616T170000
DTEND;TZID=Europe/Paris:20190616T170000
DTSTAMP:20260422T051122
CREATED:20190522T133642Z
LAST-MODIFIED:20190522T133642Z
UID:4332-1560704400-1560704400@www.arb-cdb.ch
SUMMARY:Petite Messe Solennelle de Gioachino Rossini
DESCRIPTION:Le Cantica Nova Worb et le Oratorienchor Oltenchor chantent cette messe deux fois au Kulturzentrum Bärensaal de Worb\, samedi  15 juin à 19 h et dimanche 16 juin à 17 h\, et une fois à la Friedenskirche à Olten\, samedi 23 juin 2019 à 18 h
URL:https://www.arb-cdb.ch/event/petite-messe-solennelle-de-gioachino-rossini-2/
LOCATION:Kulturzentrum Bärensaal Worb\, Bärenplatz 2\, 3076 Worb\, Suisse
CATEGORIES:Musique,Ouvert à tous,Payant
END:VEVENT
BEGIN:VEVENT
DTSTART;VALUE=DATE:20190622
DTEND;VALUE=DATE:20190624
DTSTAMP:20260422T051122
CREATED:20190613T202949Z
LAST-MODIFIED:20190613T203051Z
UID:4340-1561161600-1561334399@www.arb-cdb.ch
SUMMARY:Marcher avec le CRF
DESCRIPTION:Balade reposante dans la région Bütschelegg env. 3 h 30\nLa date définitive\, samedi ou dimanche\, de l’excursion dépend de la météo.\nAdressez-vous directement à l’organisatrice ou l’organisateur de préférence avant le jeudi soir.\nCela vous permet de recevoir les renseignements utiles et d’optimaliser les transports.
URL:https://www.arb-cdb.ch/event/marcher-avec-le-crf-2019-7-2/
CATEGORIES:Excursion,Gratuit,Ouvert à tous
END:VEVENT
BEGIN:VEVENT
DTSTART;TZID=Europe/Paris:20190623T180000
DTEND;TZID=Europe/Paris:20190623T180000
DTSTAMP:20260422T051122
CREATED:20190522T134235Z
LAST-MODIFIED:20190522T134235Z
UID:4334-1561312800-1561312800@www.arb-cdb.ch
SUMMARY:Petite Messe Solennelle de Gioachino Rossini
DESCRIPTION:Le Cantica Nova Worb et le Oratorienchor Oltenchor chantent cette messe deux fois au Kulturzentrum Bärensaal de Worb\, samedi  15 juin à 19 h et dimanche 16 juin à 17 h\, et une fois à la Friedenskirche à Olten\, samedi 23 juin 2019 à 18 h
URL:https://www.arb-cdb.ch/event/petite-messe-solennelle-de-gioachino-rossini-3/
LOCATION:Friedenskirche Olten\, Reiserstrasse 89\, 4600 Olten\, Suisse
CATEGORIES:Musique,Ouvert à tous,Payant
END:VEVENT
BEGIN:VEVENT
DTSTART;TZID=Europe/Paris:20190626T090000
DTEND;TZID=Europe/Paris:20190626T170000
DTSTAMP:20260422T051122
CREATED:20181206T124212Z
LAST-MODIFIED:20190503T155520Z
UID:3249-1561539600-1561568400@www.arb-cdb.ch
SUMMARY:Excursion d'été de la SFB
DESCRIPTION:la Société fribourgeoise de Berne (SFB) vous invite à participer à son excursion d’été :
URL:https://www.arb-cdb.ch/event/excursion-dete-de-la-sfb-2019/
CATEGORIES:Excursion,Ouvert à tous,Payant
END:VEVENT
BEGIN:VEVENT
DTSTART;VALUE=DATE:20190629
DTEND;VALUE=DATE:20190701
DTSTAMP:20260422T051122
CREATED:20190613T203559Z
LAST-MODIFIED:20190613T204729Z
UID:4344-1561766400-1561939199@www.arb-cdb.ch
SUMMARY:Sortie à vélo avec le CRF
DESCRIPTION:Le plateau de Diesse à vélo\, env. 35 km ↑240 m\, ↓620 m\nLa date définitive\, samedi ou dimanche\, de l’excursion dépend de la météo.\nAdressez-vous directement à l’organisatrice ou l’organisateur de préférence avant le jeudi soir.\nCela vous permet de recevoir les renseignements utiles et d’optimaliser les transports.
URL:https://www.arb-cdb.ch/event/sortie-velo-avec-le-crf-2019-3/
CATEGORIES:Excursion,Gratuit,Ouvert à tous
END:VEVENT
END:VCALENDAR