BEGIN:VCALENDAR
VERSION:2.0
PRODID:-//Association Romande et francophone de Berne et environs - ECPv6.15.20//NONSGML v1.0//EN
CALSCALE:GREGORIAN
METHOD:PUBLISH
X-WR-CALNAME:Association Romande et francophone de Berne et environs
X-ORIGINAL-URL:https://www.arb-cdb.ch
X-WR-CALDESC:Évènements pour Association Romande et francophone de Berne et environs
REFRESH-INTERVAL;VALUE=DURATION:PT1H
X-Robots-Tag:noindex
X-PUBLISHED-TTL:PT1H
BEGIN:VTIMEZONE
TZID:Europe/Paris
BEGIN:DAYLIGHT
TZOFFSETFROM:+0100
TZOFFSETTO:+0200
TZNAME:CEST
DTSTART:20180325T010000
END:DAYLIGHT
BEGIN:STANDARD
TZOFFSETFROM:+0200
TZOFFSETTO:+0100
TZNAME:CET
DTSTART:20181028T010000
END:STANDARD
BEGIN:DAYLIGHT
TZOFFSETFROM:+0100
TZOFFSETTO:+0200
TZNAME:CEST
DTSTART:20190331T010000
END:DAYLIGHT
BEGIN:STANDARD
TZOFFSETFROM:+0200
TZOFFSETTO:+0100
TZNAME:CET
DTSTART:20191027T010000
END:STANDARD
BEGIN:DAYLIGHT
TZOFFSETFROM:+0100
TZOFFSETTO:+0200
TZNAME:CEST
DTSTART:20200329T010000
END:DAYLIGHT
BEGIN:STANDARD
TZOFFSETFROM:+0200
TZOFFSETTO:+0100
TZNAME:CET
DTSTART:20201025T010000
END:STANDARD
END:VTIMEZONE
BEGIN:VEVENT
DTSTART;TZID=Europe/Paris:20190405T190000
DTEND;TZID=Europe/Paris:20190405T190000
DTSTAMP:20260422T201908
CREATED:20190329T175555Z
LAST-MODIFIED:20190329T181424Z
UID:4039-1554490800-1554490800@www.arb-cdb.ch
SUMMARY:AareThéâtre présente L’Importance d’être constant
DESCRIPTION:La troupe de théâtre francophone amateur en ville de Berne\, soutenue par l’ARB\, a le plaisir de vous présenter \nL’Importance d’être constant\, d’après Oscar Wilde. Troisième représentation \n\n\n\n\n\n\n\n\n  \n\n\n\n\n\n\n\n\n\n\nSoit deux amis célibataires :Algernon et Jack. Le premier est fauché mais appartient à la bonne société ; l’autre touche des rentes substantielles mais n’a « pour toute famille » qu’« un terminus de gare ». Jack est amoureux de Gwendoline\, cousine d’Algernon ; Algernon\, lui\, en pince pour Cecily\, la pupille de Jack\, au grand dam de ce dernier qui la cachait à la campagne. Lady Bracknell\, tante d’Algy et mère de Gwendoline\, s’oppose à l’union de sa fille « avec un vestiaire »\, Jack ayant été trouvé dans un sac de voyage à une consigne de gare. Voilà pour les amours contrariées. Ajoutez à cela une gouvernante bigote\, un révérend opportuniste très onctueux\, un majordome qui déteste les couples mariés et un autre que même les câlins collectifs ne sauraient perturber et vous obtenez une comédie déjantée au charme décalé. \n\n\n\n\n\n\nSamedi 30 mars 2019 à 19 h – Dimanche 31 mars à 17 h – Vendredi 5 avril à 19 h – Samedi 6 avril à 19 h – Dimanche 7 avril à 17 h.\nBar et cuisine ouverts 1 h avant et après chaque représentation. \n\n		\n			\n			\n		\n\n		\n\n\n\n\n\n\n\n\n\n\n\n\n\n  \nMerci de votre soutien \n\n \n  \n \n  \n\n\n\n\n\n\n\n\n\n\n\n\n\n  \nAvant la première répétition en costumes.\nSeul le metteur en scène n’est pas costumé !\n \n  \n  \n  \n 
URL:https://www.arb-cdb.ch/event/aaretheatre-presente-importance-detre-constant-3/
LOCATION:Ecole cantonale de langue française\, Berne Jupiterstrasse 2\, 3015 Bern
CATEGORIES:Collecte,Ouvert à tous,Théâtre
ORGANIZER;CN="Aareth%C3%A9%C3%A2tre":MAILTO:info@aaretheatre.ch
END:VEVENT
BEGIN:VEVENT
DTSTART;VALUE=DATE:20190406
DTEND;VALUE=DATE:20190408
DTSTAMP:20260422T201908
CREATED:20190108T164056Z
LAST-MODIFIED:20190108T172558Z
UID:3412-1554508800-1554681599@www.arb-cdb.ch
SUMMARY:Marcher avec le CRF
DESCRIPTION:Marche en préparation\, les détails suivrons\nLa date définitive\, samedi ou dimanche\, de l’excursion dépend de la météo.\nAdressez-vous directement à l’organisatrice ou l’organisateur de préférence avant le jeudi soir.\nCela vous permet de recevoir les renseignements utiles et d’optimaliser les transports.\nC’est une sortie organisée par le Club de randonnée et de ski de fond\, Berne (CRF).\nLe programme actuel du CRF est ici. Il y est disponible en téléchargement au bas de la page
URL:https://www.arb-cdb.ch/event/marcher-avec-le-crf-2019-4/
CATEGORIES:Excursion,Gratuit,Ouvert à tous
END:VEVENT
BEGIN:VEVENT
DTSTART;TZID=Europe/Paris:20190406T100000
DTEND;TZID=Europe/Paris:20190406T120000
DTSTAMP:20260422T201908
CREATED:20190227T225857Z
LAST-MODIFIED:20190227T231704Z
UID:3857-1554544800-1554552000@www.arb-cdb.ch
SUMMARY:Séance d’information sur la formation de professeur-e-s de Yoga traditionnel indien
DESCRIPTION:L’école YOGAKSHEMAM a le plaisir de vous annoncer qu’elle reprendra sa formation de professeur e s de Yoga en octobre 2019 à Berne.\nVous êtes  gracieusement et cordialement invité à la séance d’information.
URL:https://www.arb-cdb.ch/event/seance-dinformation-formation-professeur-de-yoga-traditionel-indien/
LOCATION:Atem Bewegung Musik\, Laupenstrasse 5\, 3008 Bern\, Switzerland
CATEGORIES:Autre manifestation,Gratuit,Ouvert à tous
END:VEVENT
BEGIN:VEVENT
DTSTART;TZID=Europe/Paris:20190406T190000
DTEND;TZID=Europe/Paris:20190406T190000
DTSTAMP:20260422T201908
CREATED:20190329T180031Z
LAST-MODIFIED:20190329T181615Z
UID:4051-1554577200-1554577200@www.arb-cdb.ch
SUMMARY:AareThéâtre présente L’Importance d’être constant
DESCRIPTION:La troupe de théâtre francophone amateur en ville de Berne\, soutenue par l’ARB\, a le plaisir de vous présenter \nL’Importance d’être constant\, d’après Oscar Wilde. Quatrième représentation \n\n\n\n\n\n\n\n\n  \n\n\n\n\n\n\n\n\n\n\nSoit deux amis célibataires :Algernon et Jack. Le premier est fauché mais appartient à la bonne société ; l’autre touche des rentes substantielles mais n’a « pour toute famille » qu’« un terminus de gare ». Jack est amoureux de Gwendoline\, cousine d’Algernon ; Algernon\, lui\, en pince pour Cecily\, la pupille de Jack\, au grand dam de ce dernier qui la cachait à la campagne. Lady Bracknell\, tante d’Algy et mère de Gwendoline\, s’oppose à l’union de sa fille « avec un vestiaire »\, Jack ayant été trouvé dans un sac de voyage à une consigne de gare. Voilà pour les amours contrariées. Ajoutez à cela une gouvernante bigote\, un révérend opportuniste très onctueux\, un majordome qui déteste les couples mariés et un autre que même les câlins collectifs ne sauraient perturber et vous obtenez une comédie déjantée au charme décalé. \n\n\n\n\n\n\nSamedi 30 mars 2019 à 19 h – Dimanche 31 mars à 17 h – Vendredi 5 avril à 19 h – Samedi 6 avril à 19 h – Dimanche 7 avril à 17 h.\nBar et cuisine ouverts 1 h avant et après chaque représentation. \n\n		\n			\n			\n		\n\n		\n\n\n\n\n\n\n\n\n\n\n\n\n\n  \nMerci de votre soutien \n\n \n  \n \n  \n\n\n\n\n\n\n\n\n\n\n\n\n\n  \nAvant la première répétition en costumes.\nSeul le metteur en scène n’est pas costumé !\n \n  \n  \n  \n 
URL:https://www.arb-cdb.ch/event/aaretheatre-presente-importance-detre-constant-4/
LOCATION:Ecole cantonale de langue française\, Berne Jupiterstrasse 2\, 3015 Bern
CATEGORIES:Collecte,Ouvert à tous,Théâtre
ORGANIZER;CN="Aareth%C3%A9%C3%A2tre":MAILTO:info@aaretheatre.ch
END:VEVENT
BEGIN:VEVENT
DTSTART;TZID=Europe/Paris:20190407T170000
DTEND;TZID=Europe/Paris:20190407T170000
DTSTAMP:20260422T201908
CREATED:20190329T181900Z
LAST-MODIFIED:20190329T181900Z
UID:4072-1554656400-1554656400@www.arb-cdb.ch
SUMMARY:AareThéâtre présente L’Importance d’être constant
DESCRIPTION:La troupe de théâtre francophone amateur en ville de Berne\, soutenue par l’ARB\, a le plaisir de vous présenter \nL’Importance d’être constant\, d’après Oscar Wilde. Dernière représentation \n\n\n\n\n\n\n\n\n  \n\n\n\n\n\n\n\n\n\n\nSoit deux amis célibataires :Algernon et Jack. Le premier est fauché mais appartient à la bonne société ; l’autre touche des rentes substantielles mais n’a « pour toute famille » qu’« un terminus de gare ». Jack est amoureux de Gwendoline\, cousine d’Algernon ; Algernon\, lui\, en pince pour Cecily\, la pupille de Jack\, au grand dam de ce dernier qui la cachait à la campagne. Lady Bracknell\, tante d’Algy et mère de Gwendoline\, s’oppose à l’union de sa fille « avec un vestiaire »\, Jack ayant été trouvé dans un sac de voyage à une consigne de gare. Voilà pour les amours contrariées. Ajoutez à cela une gouvernante bigote\, un révérend opportuniste très onctueux\, un majordome qui déteste les couples mariés et un autre que même les câlins collectifs ne sauraient perturber et vous obtenez une comédie déjantée au charme décalé. \n\n\n\n\n\n\nSamedi 30 mars 2019 à 19 h – Dimanche 31 mars à 17 h – Vendredi 5 avril à 19 h – Samedi 6 avril à 19 h – Dimanche 7 avril à 17 h.\nBar et cuisine ouverts 1 h avant et après chaque représentation. \n\n		\n			\n			\n		\n\n		\n\n\n\n\n\n\n\n\n\n\n\n\n\n  \nMerci de votre soutien \n\n \n  \n \n  \n\n\n\n\n\n\n\n\n\n\n\n\n\n  \nAvant la première répétition en costumes.\nSeul le metteur en scène n’est pas costumé !\n \n  \n  \n  \n 
URL:https://www.arb-cdb.ch/event/aaretheatre-presente-importance-detre-constant-5/
LOCATION:Ecole cantonale de langue française\, Berne Jupiterstrasse 2\, 3015 Bern
CATEGORIES:Collecte,Ouvert à tous,Théâtre
ORGANIZER;CN="Aareth%C3%A9%C3%A2tre":MAILTO:info@aaretheatre.ch
END:VEVENT
BEGIN:VEVENT
DTSTART;VALUE=DATE:20190413
DTEND;VALUE=DATE:20190415
DTSTAMP:20260422T201908
CREATED:20190108T164731Z
LAST-MODIFIED:20190108T164731Z
UID:3415-1555113600-1555286399@www.arb-cdb.ch
SUMMARY:Marcher avec le CRF
DESCRIPTION:Marche dans l’Emmental\, 3 h 30\, dénivellement 500 m. De Schangnau via Wachthubel à Marbach\nLa date définitive\, samedi ou dimanche\, de l’excursion dépend de la météo.\nAdressez-vous directement à l’organisatrice ou l’organisateur de préférence avant le jeudi soir.\nCela vous permet de recevoir les renseignements utiles et d’optimaliser les transports.\nC’est une sortie organisée par le Club de randonnée et de ski de fond\, Berne (CRF).\nLe programme actuel du CRF est ici. Il y est disponible en téléchargement au bas de la page
URL:https://www.arb-cdb.ch/event/marcher-avec-le-crf-2019-5/
CATEGORIES:Excursion,Gratuit,Ouvert à tous
END:VEVENT
BEGIN:VEVENT
DTSTART;TZID=Europe/Paris:20190413T193000
DTEND;TZID=Europe/Paris:20190413T193000
DTSTAMP:20260422T201908
CREATED:20190401T095254Z
LAST-MODIFIED:20190401T101839Z
UID:4081-1555183800-1555183800@www.arb-cdb.ch
SUMMARY:Rober Schumann Das Paradises und die Peri
DESCRIPTION:L’Oratoriorienchor Bern (orb) vous invite à ce concert\nles samedi 13 avril à 19:30 et dimanche 14 avril à 17:00\n\n		\n			\n			\n		\n\n		 \nPlaces à CHF 70 / 50 / 30 (réduction de 5 CHF pour les écoliers et étudiants\nCaisse du soir ouverte 1 h avant le début du concert\nPrévente :\nwww.ticketino.com\, 0900 441 441 (CHF 1/min)\nToutes les filiales de la Poste avec billetterie\nBLS Reisenzentrum\, Genfergasse 11\, Berne\nOLMO Tickets\, Zeughausgasse 14\, Berne \n 
URL:https://www.arb-cdb.ch/event/das-paradises-und-die-peri1/
LOCATION:Église française de Berne\, Zeughausgasse 8\, 3011 Berne\, Switzerland
CATEGORIES:Musique,Ouvert à tous,Payant
END:VEVENT
BEGIN:VEVENT
DTSTART;TZID=Europe/Paris:20190414T170000
DTEND;TZID=Europe/Paris:20190414T170000
DTSTAMP:20260422T201908
CREATED:20190401T100222Z
LAST-MODIFIED:20190401T101810Z
UID:4087-1555261200-1555261200@www.arb-cdb.ch
SUMMARY:Rober Schumann Das Paradises und die Peri
DESCRIPTION:L’Oratoriorienchor Bern (orb) vous invite à ce concert\nles samedi 13 avril à 19:30 et dimanche 14 avril à 17:00\n\n		\n			\n			\n		\n\n		 \nPlaces à CHF 70 / 50 / 30 (réduction de 5 CHF pour les écoliers et étudiants\nCaisse du soir ouverte 1 h avant le début du concert\nPrévente :\nwww.ticketino.com\, 0900 441 441 (CHF 1/min)\nToutes les filiales de la Poste avec billetterie\nBLS Reisenzentrum\, Genfergasse 11\, Berne\nOLMO Tickets\, Zeughausgasse 14\, Berne \n 
URL:https://www.arb-cdb.ch/event/das-paradises-und-die-peri2/
LOCATION:Église française de Berne\, Zeughausgasse 8\, 3011 Berne\, Switzerland
CATEGORIES:Musique,Ouvert à tous,Payant
END:VEVENT
BEGIN:VEVENT
DTSTART;TZID=Europe/Paris:20190419T180000
DTEND;TZID=Europe/Paris:20190419T180000
DTSTAMP:20260422T201908
CREATED:20190404T220809Z
LAST-MODIFIED:20190404T220809Z
UID:4131-1555696800-1555696800@www.arb-cdb.ch
SUMMARY:Stabat Mater Dolorosa
DESCRIPTION:L’Association des amis des orgues de l’église de la Ste-Trinité de Berne vous propose ce concert d’orgue :
URL:https://www.arb-cdb.ch/event/stabat-mater-dolorosa/
LOCATION:Eglise de la Ste-Trinité\, Taubenstrasse 6\, 3011 Berne\, Suisse
CATEGORIES:Collecte,Musique,Ouvert à tous
END:VEVENT
BEGIN:VEVENT
DTSTART;TZID=Europe/Paris:20190421T100000
DTEND;TZID=Europe/Paris:20190421T100000
DTSTAMP:20260422T201908
CREATED:20190329T183551Z
LAST-MODIFIED:20190329T191428Z
UID:4075-1555840800-1555840800@www.arb-cdb.ch
SUMMARY:Bataille d’œufs ou Eiertütschete sur la Kornhausplatz
DESCRIPTION:Tradition de Pâques à Berne : depuis plus de 100 ans la Eiertütschete sur la Kornhausplatz
URL:https://www.arb-cdb.ch/event/bataille_d_oeufs/
LOCATION:Theater Matte\, Mattenenge 1\, 3011 Berne\, Suisse
CATEGORIES:Animation,Ouvert à tous
END:VEVENT
BEGIN:VEVENT
DTSTART;TZID=Europe/Paris:20190425T140000
DTEND;TZID=Europe/Paris:20190425T140000
DTSTAMP:20260422T201908
CREATED:20190329T192154Z
LAST-MODIFIED:20190329T192154Z
UID:4078-1556200800-1556200800@www.arb-cdb.ch
SUMMARY:Loufmeter\, défilé de mode dans la vielle ville
DESCRIPTION:Un défilé de mode dans les ruelles de la vieille ville\, telle est la définition de Modeschau uf dr Gass. Les mannequins défilent de la Kornhausplatz à la Münstergasse\, parcourant la Junkern- et la Gerechtigkeitsgasse\, et après un bref arrêt à la Rathausplatz\, traversent la Kramgasse et reviennent au Kornhausforum. Si vous voulez être aux premières loges\, asseyez-vous dans l’un des cafés situés sous les arcades
URL:https://www.arb-cdb.ch/event/loufmeter2019/
LOCATION:Theater Matte\, Mattenenge 1\, 3011 Berne\, Suisse
CATEGORIES:Animation,Ouvert à tous
END:VEVENT
BEGIN:VEVENT
DTSTART;TZID=Europe/Paris:20190427T110000
DTEND;TZID=Europe/Paris:20190427T180000
DTSTAMP:20260422T201908
CREATED:20190424T190932Z
LAST-MODIFIED:20190424T191100Z
UID:4176-1556362800-1556388000@www.arb-cdb.ch
SUMMARY:Vitrofestival Romont
DESCRIPTION:le Vitrofestival est un rendez-vous bisannuel incontournable pour les amateurs d’arts liés au verre et pour les verriers suisses ! C’est également un évènement chaleureux et convivial qui attire de nombreux autres visiteurs.\nL’association Vitrofestival Romont vous souhaite la bienvenue dans la capitale du verre et du vitrail et beaucoup de plaisir à découvrir l’univers du verre.
URL:https://www.arb-cdb.ch/event/vitrofestival-2019/
LOCATION:Au Château\, Rue du Château 108b\, 1680 Romont\, Suisse
CATEGORIES:Animation,Ouvert à tous
END:VEVENT
BEGIN:VEVENT
DTSTART;TZID=Europe/Paris:20190428T100000
DTEND;TZID=Europe/Paris:20190428T170000
DTSTAMP:20260422T201908
CREATED:20190424T191212Z
LAST-MODIFIED:20190424T192700Z
UID:4186-1556445600-1556470800@www.arb-cdb.ch
SUMMARY:Vitrofestival Romont
DESCRIPTION:le Vitrofestival est un rendez-vous bisannuel incontournable pour les amateurs d’arts liés au verre et pour les verriers suisses ! C’est également un évènement chaleureux et convivial qui attire de nombreux autres visiteurs.\nL’association Vitrofestival Romont vous souhaite la bienvenue dans la capitale du verre et du vitrail et beaucoup de plaisir à découvrir l’univers du verre.
URL:https://www.arb-cdb.ch/event/vitrofestival-2019-2/
LOCATION:Au Château\, Rue du Château 108b\, 1680 Romont\, Suisse
CATEGORIES:Animation,Ouvert à tous
END:VEVENT
END:VCALENDAR