BEGIN:VCALENDAR
VERSION:2.0
PRODID:-//Association Romande et francophone de Berne et environs - ECPv6.15.20//NONSGML v1.0//EN
CALSCALE:GREGORIAN
METHOD:PUBLISH
X-WR-CALNAME:Association Romande et francophone de Berne et environs
X-ORIGINAL-URL:https://www.arb-cdb.ch
X-WR-CALDESC:Évènements pour Association Romande et francophone de Berne et environs
REFRESH-INTERVAL;VALUE=DURATION:PT1H
X-Robots-Tag:noindex
X-PUBLISHED-TTL:PT1H
BEGIN:VTIMEZONE
TZID:Europe/Paris
BEGIN:DAYLIGHT
TZOFFSETFROM:+0100
TZOFFSETTO:+0200
TZNAME:CEST
DTSTART:20230326T010000
END:DAYLIGHT
BEGIN:STANDARD
TZOFFSETFROM:+0200
TZOFFSETTO:+0100
TZNAME:CET
DTSTART:20231029T010000
END:STANDARD
BEGIN:DAYLIGHT
TZOFFSETFROM:+0100
TZOFFSETTO:+0200
TZNAME:CEST
DTSTART:20240331T010000
END:DAYLIGHT
BEGIN:STANDARD
TZOFFSETFROM:+0200
TZOFFSETTO:+0100
TZNAME:CET
DTSTART:20241027T010000
END:STANDARD
BEGIN:DAYLIGHT
TZOFFSETFROM:+0100
TZOFFSETTO:+0200
TZNAME:CEST
DTSTART:20250330T010000
END:DAYLIGHT
BEGIN:STANDARD
TZOFFSETFROM:+0200
TZOFFSETTO:+0100
TZNAME:CET
DTSTART:20251026T010000
END:STANDARD
END:VTIMEZONE
BEGIN:VEVENT
DTSTART;TZID=Europe/Paris:20241103T143000
DTEND;TZID=Europe/Paris:20241103T143000
DTSTAMP:20260425T162616
CREATED:20241009T221110Z
LAST-MODIFIED:20241009T221110Z
UID:10517-1730644200-1730644200@www.arb-cdb.ch
SUMMARY:Concert d'automne de l'Harmonikaverein Bern-Stadt
DESCRIPTION:L’Harmonikaverein Bern-Stadt (HVBS) a le plaisir de vous inviter à son concert d’automne
URL:https://www.arb-cdb.ch/event/concert-dautomne-de-lharmonikaverein-bern-stadt/
LOCATION:Hôtel Jardin\, Militärstrasse 38\, 3014 Bern\, Switzerland
CATEGORIES:Animation,Musique,Ouvert à tous,Payant
END:VEVENT
BEGIN:VEVENT
DTSTART;TZID=Europe/Paris:20241115T190000
DTEND;TZID=Europe/Paris:20241115T190000
DTSTAMP:20260425T162616
CREATED:20241020T183214Z
LAST-MODIFIED:20241020T183749Z
UID:10535-1731697200-1731697200@www.arb-cdb.ch
SUMMARY:Concert de jubilé du chœur Linksdrall
DESCRIPTION:Le chœur Linksdrall est un chœur de Berne\, mais qui chante en plusieurs langues\, notamment en français. Nous chantons des chansons du passé en songeant au futur\, pour qu’il soit lumineux.
URL:https://www.arb-cdb.ch/event/concert-de-jubile-du-coeur-linksdrall/
LOCATION:Kirchgemeindehaus St-Marien\, Wylerstrasse 26\, 3014 Bern\, Switzerland
CATEGORIES:Animation,Autre manifestation,Musique,Ouvert à tous
END:VEVENT
BEGIN:VEVENT
DTSTART;TZID=Europe/Paris:20241122T193000
DTEND;TZID=Europe/Paris:20241122T193000
DTSTAMP:20260425T162616
CREATED:20241102T083328Z
LAST-MODIFIED:20241102T083743Z
UID:10561-1732303800-1732303800@www.arb-cdb.ch
SUMMARY:Concert automnal 2024 de l'Oratorienchor Bern
DESCRIPTION:L’Oratorienchor Bern (OCB) est heureux vous annoncer son concert d’automne qui sera donné le \nVendredi 22 novembre 2024 à 19 h 30\nà l’Église française de Berne.  \nAu programme Tango Nueovo de Martin Palmeri et Luciano Jungman\nIci un extrait d’un courriel de Jean-Michel Ducommun avec une petite présentation en français et la possibilité de commander des billets. \n\n		\n			\n			\n		\n\n		\n 
URL:https://www.arb-cdb.ch/event/concert-automnal-2024-de-loratorienchor-bern/
LOCATION:Église française de Berne\, Zeughausgasse 8\, 3011 Berne\, Switzerland
CATEGORIES:Musique,Ouvert à tous,Payant
ATTACH;FMTTYPE=image/jpeg:https://www.arb-cdb.ch/wp-content/uploads/2023/03/20230421ocb.jpg
END:VEVENT
END:VCALENDAR