BEGIN:VCALENDAR
VERSION:2.0
PRODID:-//Association Romande et francophone de Berne et environs - ECPv6.15.20//NONSGML v1.0//EN
CALSCALE:GREGORIAN
METHOD:PUBLISH
X-ORIGINAL-URL:https://www.arb-cdb.ch
X-WR-CALDESC:Évènements pour Association Romande et francophone de Berne et environs
REFRESH-INTERVAL;VALUE=DURATION:PT1H
X-Robots-Tag:noindex
X-PUBLISHED-TTL:PT1H
BEGIN:VTIMEZONE
TZID:Europe/Paris
BEGIN:DAYLIGHT
TZOFFSETFROM:+0100
TZOFFSETTO:+0200
TZNAME:CEST
DTSTART:20240331T010000
END:DAYLIGHT
BEGIN:STANDARD
TZOFFSETFROM:+0200
TZOFFSETTO:+0100
TZNAME:CET
DTSTART:20241027T010000
END:STANDARD
BEGIN:DAYLIGHT
TZOFFSETFROM:+0100
TZOFFSETTO:+0200
TZNAME:CEST
DTSTART:20250330T010000
END:DAYLIGHT
BEGIN:STANDARD
TZOFFSETFROM:+0200
TZOFFSETTO:+0100
TZNAME:CET
DTSTART:20251026T010000
END:STANDARD
BEGIN:DAYLIGHT
TZOFFSETFROM:+0100
TZOFFSETTO:+0200
TZNAME:CEST
DTSTART:20260329T010000
END:DAYLIGHT
BEGIN:STANDARD
TZOFFSETFROM:+0200
TZOFFSETTO:+0100
TZNAME:CET
DTSTART:20261025T010000
END:STANDARD
END:VTIMEZONE
BEGIN:VEVENT
DTSTART;TZID=Europe/Paris:20251209T190000
DTEND;TZID=Europe/Paris:20251209T200000
DTSTAMP:20260421T002211
CREATED:20250819T153355Z
LAST-MODIFIED:20250819T153355Z
UID:11459-1765306800-1765310400@www.arb-cdb.ch
SUMMARY:L’Alliance française de Berne a le plaisir de vous inviter pour une conférence de Etienne de Montéty\, directeur du Figaro littéraire : « Les 200 ans du Figaro »
DESCRIPTION:
URL:https://www.arb-cdb.ch/event/lalliance-francaise-de-berne-a-le-plaisir-de-vous-inviter-pour-une-conference-de-etienne-de-montety-directeur-du-figaro-litteraire-les-200-ans-du-figaro/
LOCATION:Mediothek (anciennement Schulwarte)\, Helvetiaplatz 2\, 3005 Berne
CATEGORIES:Conférence
END:VEVENT
END:VCALENDAR