BEGIN:VCALENDAR
VERSION:2.0
PRODID:-//Association Romande et francophone de Berne et environs - ECPv6.15.20//NONSGML v1.0//EN
CALSCALE:GREGORIAN
METHOD:PUBLISH
X-WR-CALNAME:Association Romande et francophone de Berne et environs
X-ORIGINAL-URL:https://www.arb-cdb.ch
X-WR-CALDESC:Évènements pour Association Romande et francophone de Berne et environs
REFRESH-INTERVAL;VALUE=DURATION:PT1H
X-Robots-Tag:noindex
X-PUBLISHED-TTL:PT1H
BEGIN:VTIMEZONE
TZID:Europe/Paris
BEGIN:DAYLIGHT
TZOFFSETFROM:+0100
TZOFFSETTO:+0200
TZNAME:CEST
DTSTART:20240331T010000
END:DAYLIGHT
BEGIN:STANDARD
TZOFFSETFROM:+0200
TZOFFSETTO:+0100
TZNAME:CET
DTSTART:20241027T010000
END:STANDARD
BEGIN:DAYLIGHT
TZOFFSETFROM:+0100
TZOFFSETTO:+0200
TZNAME:CEST
DTSTART:20250330T010000
END:DAYLIGHT
BEGIN:STANDARD
TZOFFSETFROM:+0200
TZOFFSETTO:+0100
TZNAME:CET
DTSTART:20251026T010000
END:STANDARD
BEGIN:DAYLIGHT
TZOFFSETFROM:+0100
TZOFFSETTO:+0200
TZNAME:CEST
DTSTART:20260329T010000
END:DAYLIGHT
BEGIN:STANDARD
TZOFFSETFROM:+0200
TZOFFSETTO:+0100
TZNAME:CET
DTSTART:20261025T010000
END:STANDARD
END:VTIMEZONE
BEGIN:VEVENT
DTSTART;TZID=Europe/Paris:20250114T190000
DTEND;TZID=Europe/Paris:20250114T223000
DTSTAMP:20260423T181456
CREATED:20241129T082721Z
LAST-MODIFIED:20241219T075537Z
UID:10609-1736881200-1736893800@www.arb-cdb.ch
SUMMARY:Ella Maillart\, une Suissesse d’exception\, une exploratrice  d’avant-garde
DESCRIPTION:L’Alliance Française de Berne et l’Association romande et francophone de Berne et environs\nvous invitent à un conférence sur Ella Maillart
URL:https://www.arb-cdb.ch/event/ella-maillart-une-suissesse-dexception-une-exploratrice-davant-garde/
LOCATION:Mediothek (anciennement Schulwarte)\, Helvetiaplatz 2\, 3005 Berne
CATEGORIES:Conférence,Gratuit,Réservé aux membres
END:VEVENT
END:VCALENDAR