BEGIN:VCALENDAR
VERSION:2.0
PRODID:-//Association Romande et francophone de Berne et environs - ECPv6.15.20//NONSGML v1.0//EN
CALSCALE:GREGORIAN
METHOD:PUBLISH
X-WR-CALNAME:Association Romande et francophone de Berne et environs
X-ORIGINAL-URL:https://www.arb-cdb.ch
X-WR-CALDESC:Évènements pour Association Romande et francophone de Berne et environs
REFRESH-INTERVAL;VALUE=DURATION:PT1H
X-Robots-Tag:noindex
X-PUBLISHED-TTL:PT1H
BEGIN:VTIMEZONE
TZID:Europe/Paris
BEGIN:DAYLIGHT
TZOFFSETFROM:+0100
TZOFFSETTO:+0200
TZNAME:CEST
DTSTART:20240331T010000
END:DAYLIGHT
BEGIN:STANDARD
TZOFFSETFROM:+0200
TZOFFSETTO:+0100
TZNAME:CET
DTSTART:20241027T010000
END:STANDARD
BEGIN:DAYLIGHT
TZOFFSETFROM:+0100
TZOFFSETTO:+0200
TZNAME:CEST
DTSTART:20250330T010000
END:DAYLIGHT
BEGIN:STANDARD
TZOFFSETFROM:+0200
TZOFFSETTO:+0100
TZNAME:CET
DTSTART:20251026T010000
END:STANDARD
BEGIN:DAYLIGHT
TZOFFSETFROM:+0100
TZOFFSETTO:+0200
TZNAME:CEST
DTSTART:20260329T010000
END:DAYLIGHT
BEGIN:STANDARD
TZOFFSETFROM:+0200
TZOFFSETTO:+0100
TZNAME:CET
DTSTART:20261025T010000
END:STANDARD
END:VTIMEZONE
BEGIN:VEVENT
DTSTART;TZID=Europe/Paris:20250828T180000
DTEND;TZID=Europe/Paris:20250828T210000
DTSTAMP:20260420T074110
CREATED:20250107T145431Z
LAST-MODIFIED:20250107T153657Z
UID:10817-1756404000-1756414800@www.arb-cdb.ch
SUMMARY:Chronique d'un rêve\, au Ciné-CLAP
DESCRIPTION:Film d’Edgar Reitz\, 2013.\nDans un village marqué par la misère\, alors que les idée libérales et les découvertes secouent l’Allemagne\, un jeune paysan parvient à émanciper son esprit et son âme grâce à la lecture des livres d’un grand voyageur. Une véritable ode à la vie intérieure.\nVersion originale (D) sous-titrée en français.\nOrganisé par le Ciné-CLAP de l’Église réformée de Berne\,\nApéro de bienvenue dès 18 h. Projection à 19 h (durée du film : 1 h 47).\nAu CAP\, Predigergasse 3\, Berne\nChaque projection est suivie d’une collecte. Prix indicatif: 15 CHF.
URL:https://www.arb-cdb.ch/event/chronique-d_un-reve-cine-clap/
LOCATION:CAP\, Maison de paroisse de la Paroisse réformée française\, Predigergasse 3\, 3011 Berne\, Suisse
CATEGORIES:Collecte,Film s.-t. fr,Gratuit,Ouvert à tous
ATTACH;FMTTYPE=image/jpeg:https://www.arb-cdb.ch/wp-content/uploads/2025/01/ChoniqueDUnReve.jpg
END:VEVENT
END:VCALENDAR