BEGIN:VCALENDAR
VERSION:2.0
PRODID:-//Association Romande et francophone de Berne et environs - ECPv6.15.20//NONSGML v1.0//EN
CALSCALE:GREGORIAN
METHOD:PUBLISH
X-ORIGINAL-URL:https://www.arb-cdb.ch
X-WR-CALDESC:Évènements pour Association Romande et francophone de Berne et environs
REFRESH-INTERVAL;VALUE=DURATION:PT1H
X-Robots-Tag:noindex
X-PUBLISHED-TTL:PT1H
BEGIN:VTIMEZONE
TZID:Europe/Paris
BEGIN:DAYLIGHT
TZOFFSETFROM:+0100
TZOFFSETTO:+0200
TZNAME:CEST
DTSTART:20230326T010000
END:DAYLIGHT
BEGIN:STANDARD
TZOFFSETFROM:+0200
TZOFFSETTO:+0100
TZNAME:CET
DTSTART:20231029T010000
END:STANDARD
BEGIN:DAYLIGHT
TZOFFSETFROM:+0100
TZOFFSETTO:+0200
TZNAME:CEST
DTSTART:20240331T010000
END:DAYLIGHT
BEGIN:STANDARD
TZOFFSETFROM:+0200
TZOFFSETTO:+0100
TZNAME:CET
DTSTART:20241027T010000
END:STANDARD
BEGIN:DAYLIGHT
TZOFFSETFROM:+0100
TZOFFSETTO:+0200
TZNAME:CEST
DTSTART:20250330T010000
END:DAYLIGHT
BEGIN:STANDARD
TZOFFSETFROM:+0200
TZOFFSETTO:+0100
TZNAME:CET
DTSTART:20251026T010000
END:STANDARD
END:VTIMEZONE
BEGIN:VEVENT
DTSTART;TZID=Europe/Paris:20241030T170000
DTEND;TZID=Europe/Paris:20241030T170000
DTSTAMP:20260421T021326
CREATED:20231209T190154Z
LAST-MODIFIED:20231209T195204Z
UID:9539-1730307600-1730307600@www.arb-cdb.ch
SUMMARY:Zimmervald\, au Ciné-CLAP
DESCRIPTION:Film de Valéria Stucki\, 2023\nTout est mystérieux dans ce film: l’endroit\, Zimmerwald\, que tous ne connaissent pas nécessairement\, une renontre d’ornithologues qui a eu lieu en 1915 – … des adolescents d’un collège des environs de Berne partent à la découverte de l’Histoire.\nPlus de détails\nOrganisé par le Ciné-CLAP de l’Église réformée de Berne\,\nEt nous partons à la découverte de ce film\, avec les jeunes de la Paroisse française\, qui vont nous le présenter à 17 h\,\nsuivi de la projection du film\, puis apéritif.\nAu CAP\, Predigergasse 3\, Berne\nChaque projection est suivie d’une collecte. Prix indicatif: 15 CHF.\nTélécharger le programme de l’année (papillon)
URL:https://www.arb-cdb.ch/event/zimmerwald-au-cine-clap-2023/
LOCATION:CAP\, Maison de paroisse de la Paroisse réformée française\, Predigergasse 3\, 3011 Berne\, Suisse
CATEGORIES:Animation,Collecte,Gratuit,Ouvert à tous
ATTACH;FMTTYPE=image/jpeg:https://www.arb-cdb.ch/wp-content/uploads/2023/12/Zimmervwald.jpg
END:VEVENT
END:VCALENDAR