BEGIN:VCALENDAR
VERSION:2.0
PRODID:-//Association Romande et francophone de Berne et environs - ECPv6.15.20//NONSGML v1.0//EN
CALSCALE:GREGORIAN
METHOD:PUBLISH
X-ORIGINAL-URL:https://www.arb-cdb.ch
X-WR-CALDESC:Évènements pour Association Romande et francophone de Berne et environs
REFRESH-INTERVAL;VALUE=DURATION:PT1H
X-Robots-Tag:noindex
X-PUBLISHED-TTL:PT1H
BEGIN:VTIMEZONE
TZID:Europe/Paris
BEGIN:DAYLIGHT
TZOFFSETFROM:+0100
TZOFFSETTO:+0200
TZNAME:CEST
DTSTART:20230326T010000
END:DAYLIGHT
BEGIN:STANDARD
TZOFFSETFROM:+0200
TZOFFSETTO:+0100
TZNAME:CET
DTSTART:20231029T010000
END:STANDARD
BEGIN:DAYLIGHT
TZOFFSETFROM:+0100
TZOFFSETTO:+0200
TZNAME:CEST
DTSTART:20240331T010000
END:DAYLIGHT
BEGIN:STANDARD
TZOFFSETFROM:+0200
TZOFFSETTO:+0100
TZNAME:CET
DTSTART:20241027T010000
END:STANDARD
BEGIN:DAYLIGHT
TZOFFSETFROM:+0100
TZOFFSETTO:+0200
TZNAME:CEST
DTSTART:20250330T010000
END:DAYLIGHT
BEGIN:STANDARD
TZOFFSETFROM:+0200
TZOFFSETTO:+0100
TZNAME:CET
DTSTART:20251026T010000
END:STANDARD
END:VTIMEZONE
BEGIN:VEVENT
DTSTART;TZID=Europe/Paris:20240830T180000
DTEND;TZID=Europe/Paris:20240830T214500
DTSTAMP:20260421T062626
CREATED:20231209T183420Z
LAST-MODIFIED:20231209T183420Z
UID:9536-1725040800-1725054300@www.arb-cdb.ch
SUMMARY:Le fleuve\, au Ciné-CLAP
DESCRIPTION:Film de Jean Renoir\, 1951\nLe charme des vieux films ! Le fleuve\, c’est le Gange. Tourné par Jean Renoir près de Calcutta.\nPlus de détails\nOrganisé par le Ciné-CLAP de l’Église réformée de Berne\,\nen collaboration avec le Lichtspiel (cinémathèque de Berne)\nApéro de bienvenue offert dès 18 h. Projection à 19 h.\nAu CAP\, Predigergasse 3\, Berne\nChaque projection est suivie d’une collecte. Prix indicatif: 15 CHF.\nTélécharger le programme de l’année (papillon)
URL:https://www.arb-cdb.ch/event/le-fleuve-au-cine-clap/
LOCATION:CAP\, Maison de paroisse de la Paroisse réformée française\, Predigergasse 3\, 3011 Berne\, Suisse
CATEGORIES:Animation,Collecte,Gratuit,Ouvert à tous
ATTACH;FMTTYPE=image/jpeg:https://www.arb-cdb.ch/wp-content/uploads/2023/12/Le-Fleuve.jpg
END:VEVENT
END:VCALENDAR