BEGIN:VCALENDAR
VERSION:2.0
PRODID:-//Association Romande et francophone de Berne et environs - ECPv6.15.20//NONSGML v1.0//EN
CALSCALE:GREGORIAN
METHOD:PUBLISH
X-WR-CALNAME:Association Romande et francophone de Berne et environs
X-ORIGINAL-URL:https://www.arb-cdb.ch
X-WR-CALDESC:Évènements pour Association Romande et francophone de Berne et environs
REFRESH-INTERVAL;VALUE=DURATION:PT1H
X-Robots-Tag:noindex
X-PUBLISHED-TTL:PT1H
BEGIN:VTIMEZONE
TZID:Europe/Paris
BEGIN:DAYLIGHT
TZOFFSETFROM:+0100
TZOFFSETTO:+0200
TZNAME:CEST
DTSTART:20230326T010000
END:DAYLIGHT
BEGIN:STANDARD
TZOFFSETFROM:+0200
TZOFFSETTO:+0100
TZNAME:CET
DTSTART:20231029T010000
END:STANDARD
BEGIN:DAYLIGHT
TZOFFSETFROM:+0100
TZOFFSETTO:+0200
TZNAME:CEST
DTSTART:20240331T010000
END:DAYLIGHT
BEGIN:STANDARD
TZOFFSETFROM:+0200
TZOFFSETTO:+0100
TZNAME:CET
DTSTART:20241027T010000
END:STANDARD
BEGIN:DAYLIGHT
TZOFFSETFROM:+0100
TZOFFSETTO:+0200
TZNAME:CEST
DTSTART:20250330T010000
END:DAYLIGHT
BEGIN:STANDARD
TZOFFSETFROM:+0200
TZOFFSETTO:+0100
TZNAME:CET
DTSTART:20251026T010000
END:STANDARD
END:VTIMEZONE
BEGIN:VEVENT
DTSTART;VALUE=DATE:20240808
DTEND;VALUE=DATE:20240811
DTSTAMP:20260421T223314
CREATED:20240417T183505Z
LAST-MODIFIED:20240723T142326Z
UID:10004-1723075200-1723334399@www.arb-cdb.ch
SUMMARY:Buskers 2024
DESCRIPTION:Buskers Bern Festival des Arts de Rue.\n3 soirs dès 18 h dans la vielle ville. Boire et manger jusqu’à minuit et demi\, samedi dès 16 h.\,\nVendredi et samedi\, dès 15 h pour les enfants sur la Münsterplatteform.\nLe brace­let du festi­val et le programme: CHF 20.– pour les trois jours.\nPour les dona­teurs: CHF 30.– pour les trois jours (avec le brace­let de dona­teur\, l’entrée au Busker­shaus est gratuite les trois soirées).\nPour les enfants jusqu’à 12 ans\, sans le programme: CHF 5. – .\nLes artistes sont payés au chapeau : il circule entre les spectateurs pour collecter ce qui paye les artistes.\nBeaucoup d’informations existent en français\, page d’accueil en français\nLes informations détaillées et pratiques (en allemand) sont ici
URL:https://www.arb-cdb.ch/event/buskers-2024/
CATEGORIES:Animation,Collecte,Festival,Musique,Ouvert à tous
ATTACH;FMTTYPE=image/jpeg:https://www.arb-cdb.ch/wp-content/uploads/2023/04/20230810buskers-5-9a41a2ff.jpg
END:VEVENT
BEGIN:VEVENT
DTSTART;TZID=Europe/Paris:20240810T120000
DTEND;TZID=Europe/Paris:20240810T130000
DTSTAMP:20260421T223314
CREATED:20240202T132310Z
LAST-MODIFIED:20240202T132322Z
UID:9706-1723291200-1723294800@www.arb-cdb.ch
SUMMARY:8ème Estivale MEFB 2024
DESCRIPTION:Estivale n° 8\n \n– Sven Mindeci (accordéon)\n– Nina Wirz (orgue) \n \n 
URL:https://www.arb-cdb.ch/event/8eme-estivale-mefb-2024/
LOCATION:Église française de Berne\, Zeughausgasse 8\, 3011 Berne\, Switzerland
CATEGORIES:Collecte,Musique,Ouvert à tous
END:VEVENT
END:VCALENDAR