BEGIN:VCALENDAR
VERSION:2.0
PRODID:-//Association Romande et francophone de Berne et environs - ECPv6.15.20//NONSGML v1.0//EN
CALSCALE:GREGORIAN
METHOD:PUBLISH
X-WR-CALNAME:Association Romande et francophone de Berne et environs
X-ORIGINAL-URL:https://www.arb-cdb.ch
X-WR-CALDESC:Évènements pour Association Romande et francophone de Berne et environs
REFRESH-INTERVAL;VALUE=DURATION:PT1H
X-Robots-Tag:noindex
X-PUBLISHED-TTL:PT1H
BEGIN:VTIMEZONE
TZID:Europe/Paris
BEGIN:DAYLIGHT
TZOFFSETFROM:+0100
TZOFFSETTO:+0200
TZNAME:CEST
DTSTART:20230326T010000
END:DAYLIGHT
BEGIN:STANDARD
TZOFFSETFROM:+0200
TZOFFSETTO:+0100
TZNAME:CET
DTSTART:20231029T010000
END:STANDARD
BEGIN:DAYLIGHT
TZOFFSETFROM:+0100
TZOFFSETTO:+0200
TZNAME:CEST
DTSTART:20240331T010000
END:DAYLIGHT
BEGIN:STANDARD
TZOFFSETFROM:+0200
TZOFFSETTO:+0100
TZNAME:CET
DTSTART:20241027T010000
END:STANDARD
BEGIN:DAYLIGHT
TZOFFSETFROM:+0100
TZOFFSETTO:+0200
TZNAME:CEST
DTSTART:20250330T010000
END:DAYLIGHT
BEGIN:STANDARD
TZOFFSETFROM:+0200
TZOFFSETTO:+0100
TZNAME:CET
DTSTART:20251026T010000
END:STANDARD
END:VTIMEZONE
BEGIN:VEVENT
DTSTART;TZID=Europe/Paris:20240326T170000
DTEND;TZID=Europe/Paris:20240326T210000
DTSTAMP:20260422T203419
CREATED:20231208T201453Z
LAST-MODIFIED:20231209T192642Z
UID:9515-1711472400-1711486800@www.arb-cdb.ch
SUMMARY:L'EVANGILE selon St Matthieu\, au Ciné-CLAP
DESCRIPTION:Film de Pier Paolo Pasolini\, 1964\nDu grand cinéaste italien\, une représentation magistrale du texte biblique. Avec puissance\, le film restitue une figure de Jésus et des scènes imprégnées des visions et de la foi de plusieurs siècles de culture chrétienne.\nPlus de détails\nOrganisé par le Ciné-CLAP de l’Église réformée de Berne\,\nen collaboration avec le Lichtspiel (cinémathèque de Berne)\n17 h Présentation du film d’Olivier Schopfer\, suivie de la projection du film\, puis apéritif.\nFilm qui accompagne la semaine de Pâques. Attention l’évènement se fait exceptionnellement\nen l’Église française de Berne\, Zeughausgasse 8\, Berne.\nChaque projection est suivie d’une collecte. Prix indicatif: 15 CHF.\nTélécharger le programme de l’année (papillon)
URL:https://www.arb-cdb.ch/event/levengile-selonst-matthieu-au-cine-clap/
LOCATION:Église française de Berne\, Zeughausgasse 8\, 3011 Berne\, Switzerland
CATEGORIES:Animation,Collecte,Gratuit,Ouvert à tous
ATTACH;FMTTYPE=image/jpeg:https://www.arb-cdb.ch/wp-content/uploads/2023/12/EvangileSelonStMatthieu.jpg
END:VEVENT
END:VCALENDAR