BEGIN:VCALENDAR
VERSION:2.0
PRODID:-//Association Romande et francophone de Berne et environs - ECPv6.15.20//NONSGML v1.0//EN
CALSCALE:GREGORIAN
METHOD:PUBLISH
X-ORIGINAL-URL:https://www.arb-cdb.ch
X-WR-CALDESC:Évènements pour Association Romande et francophone de Berne et environs
REFRESH-INTERVAL;VALUE=DURATION:PT1H
X-Robots-Tag:noindex
X-PUBLISHED-TTL:PT1H
BEGIN:VTIMEZONE
TZID:Europe/Paris
BEGIN:DAYLIGHT
TZOFFSETFROM:+0100
TZOFFSETTO:+0200
TZNAME:CEST
DTSTART:20230326T010000
END:DAYLIGHT
BEGIN:STANDARD
TZOFFSETFROM:+0200
TZOFFSETTO:+0100
TZNAME:CET
DTSTART:20231029T010000
END:STANDARD
BEGIN:DAYLIGHT
TZOFFSETFROM:+0100
TZOFFSETTO:+0200
TZNAME:CEST
DTSTART:20240331T010000
END:DAYLIGHT
BEGIN:STANDARD
TZOFFSETFROM:+0200
TZOFFSETTO:+0100
TZNAME:CET
DTSTART:20241027T010000
END:STANDARD
BEGIN:DAYLIGHT
TZOFFSETFROM:+0100
TZOFFSETTO:+0200
TZNAME:CEST
DTSTART:20250330T010000
END:DAYLIGHT
BEGIN:STANDARD
TZOFFSETFROM:+0200
TZOFFSETTO:+0100
TZNAME:CET
DTSTART:20251026T010000
END:STANDARD
END:VTIMEZONE
BEGIN:VEVENT
DTSTART;TZID=Europe/Paris:20240324T170000
DTEND;TZID=Europe/Paris:20240324T170000
DTSTAMP:20260422T204114
CREATED:20240119T135944Z
LAST-MODIFIED:20240119T140006Z
UID:9649-1711299600-1711299600@www.arb-cdb.ch
SUMMARY:AareThéâtre : Chers parents
DESCRIPTION:La troupe de théâtre amateur francophone de la ville de Berne\, AareThéâtre\, 126 ans d’âge\, vous propose son nouveau spectacle\, une savoureuse comédie\, créée en 2021\, sous la forme d’un huis-clos familial plein de rebondissements. dernière représentation à l’ECLF de son spectacle 2024 : \nChers parents d’Emmanuel Patron et Armelle Patron\n\nVous êtes aussi les bienvenus au BArethéâtre\,\nouvert 1 heure avant chaque spectacle et 1 heure après.\nDétails et informations ici
URL:https://www.arb-cdb.ch/event/aaretheatre-chers-parents-5/
LOCATION:Ecole cantonale de langue française\, Berne Jupiterstrasse 2\, 3015 Bern
CATEGORIES:Collecte,Ouvert à tous,Théâtre
ATTACH;FMTTYPE=image/jpeg:https://www.arb-cdb.ch/wp-content/uploads/2024/01/2024AarEtheatre-troupe.jpg
ORGANIZER;CN="Aareth%C3%A9%C3%A2tre":MAILTO:info@aaretheatre.ch
END:VEVENT
END:VCALENDAR