BEGIN:VCALENDAR
VERSION:2.0
PRODID:-//Association Romande et francophone de Berne et environs - ECPv6.15.20//NONSGML v1.0//EN
CALSCALE:GREGORIAN
METHOD:PUBLISH
X-WR-CALNAME:Association Romande et francophone de Berne et environs
X-ORIGINAL-URL:https://www.arb-cdb.ch
X-WR-CALDESC:Évènements pour Association Romande et francophone de Berne et environs
REFRESH-INTERVAL;VALUE=DURATION:PT1H
X-Robots-Tag:noindex
X-PUBLISHED-TTL:PT1H
BEGIN:VTIMEZONE
TZID:Europe/Paris
BEGIN:DAYLIGHT
TZOFFSETFROM:+0100
TZOFFSETTO:+0200
TZNAME:CEST
DTSTART:20240331T010000
END:DAYLIGHT
BEGIN:STANDARD
TZOFFSETFROM:+0200
TZOFFSETTO:+0100
TZNAME:CET
DTSTART:20241027T010000
END:STANDARD
BEGIN:DAYLIGHT
TZOFFSETFROM:+0100
TZOFFSETTO:+0200
TZNAME:CEST
DTSTART:20250330T010000
END:DAYLIGHT
BEGIN:STANDARD
TZOFFSETFROM:+0200
TZOFFSETTO:+0100
TZNAME:CET
DTSTART:20251026T010000
END:STANDARD
BEGIN:DAYLIGHT
TZOFFSETFROM:+0100
TZOFFSETTO:+0200
TZNAME:CEST
DTSTART:20260329T010000
END:DAYLIGHT
BEGIN:STANDARD
TZOFFSETFROM:+0200
TZOFFSETTO:+0100
TZNAME:CET
DTSTART:20261025T010000
END:STANDARD
END:VTIMEZONE
BEGIN:VEVENT
DTSTART;TZID=Europe/Paris:20250404T190000
DTEND;TZID=Europe/Paris:20250404T190000
DTSTAMP:20260420T023737
CREATED:20250109T115106Z
LAST-MODIFIED:20250109T115106Z
UID:10846-1743793200-1743793200@www.arb-cdb.ch
SUMMARY:AareThéâtre : La bonne planque
DESCRIPTION:La troupe de théâtre amateur francophone de la ville de Berne\, AareThéâtre\, vous propose son nouveau spectacle : : \nLa bonne planque\, une comédie de Michel André\n\n3e des 5 représentations à l’ECLF de son spectacle 2025\nVous êtes aussi les bienvenus au BArethéâtre\,\nouvert 1 heure avant chaque spectacle et 1 heure après. \n\n		\n			\n			\n		\n\n		\n 
URL:https://www.arb-cdb.ch/event/aaretheatre-la-bonne-planque-3e/
LOCATION:Ecole cantonale de langue française\, Berne Jupiterstrasse 2\, 3015 Bern
CATEGORIES:Collecte,Ouvert à tous,Théâtre
END:VEVENT
BEGIN:VEVENT
DTSTART;TZID=Europe/Paris:20250405T190000
DTEND;TZID=Europe/Paris:20250405T190000
DTSTAMP:20260420T023737
CREATED:20250109T115333Z
LAST-MODIFIED:20250109T115407Z
UID:10848-1743879600-1743879600@www.arb-cdb.ch
SUMMARY:AareThéâtre : La bonne planque
DESCRIPTION:La troupe de théâtre amateur francophone de la ville de Berne\, AareThéâtre\, vous propose son nouveau spectacle : : \nLa bonne planque\, une comédie de Michel André\n\n4e des 5 représentations à l’ECLF de son spectacle 2025\nVous êtes aussi les bienvenus au BArethéâtre\,\nouvert 1 heure avant chaque spectacle et 1 heure après. \n\n		\n			\n			\n		\n\n		\n 
URL:https://www.arb-cdb.ch/event/aaretheatre-la-bonne-planque-4e/
LOCATION:Ecole cantonale de langue française\, Berne Jupiterstrasse 2\, 3015 Bern
CATEGORIES:Collecte,Ouvert à tous,Théâtre
END:VEVENT
BEGIN:VEVENT
DTSTART;TZID=Europe/Paris:20250406T170000
DTEND;TZID=Europe/Paris:20250406T170000
DTSTAMP:20260420T023737
CREATED:20250109T115615Z
LAST-MODIFIED:20250109T115735Z
UID:10851-1743958800-1743958800@www.arb-cdb.ch
SUMMARY:AareThéâtre : La bonne planque
DESCRIPTION:La troupe de théâtre amateur francophone de la ville de Berne\, AareThéâtre\, vous propose son nouveau spectacle : : \nLa bonne planque\, une comédie de Michel André\n\nDernière des 5 représentations à l’ECLF de son spectacle 2025\nVous êtes aussi les bienvenus au BArethéâtre\,\nouvert 1 heure avant chaque spectacle et 1 heure après. \n\n		\n			\n			\n		\n\n		\n 
URL:https://www.arb-cdb.ch/event/aaretheatre-la-bonne-planque-derniere/
LOCATION:Ecole cantonale de langue française\, Berne Jupiterstrasse 2\, 3015 Bern
CATEGORIES:Collecte,Ouvert à tous,Théâtre
END:VEVENT
BEGIN:VEVENT
DTSTART;TZID=Europe/Paris:20250415T170000
DTEND;TZID=Europe/Paris:20250415T180000
DTSTAMP:20260420T023737
CREATED:20250203T141122Z
LAST-MODIFIED:20250203T141412Z
UID:10908-1744736400-1744740000@www.arb-cdb.ch
SUMMARY:CONCERT -- Orgues
DESCRIPTION:LES CHORALS DE LA PASSION pour orgue \nLa semaine sainte jour après jour\nOrgue Kuhn: Jürg Brunner\nOrgue Goll: Antonio Garcia \n  \n  \n  \n  \n  \n 
URL:https://www.arb-cdb.ch/event/concert-orgues/
LOCATION:Église française de Berne\, Zeughausgasse 8\, 3011 Berne\, Switzerland
CATEGORIES:Collecte,Musique,Ouvert à tous
END:VEVENT
BEGIN:VEVENT
DTSTART;TZID=Europe/Paris:20250416T170000
DTEND;TZID=Europe/Paris:20250416T203000
DTSTAMP:20260420T023737
CREATED:20250107T142011Z
LAST-MODIFIED:20250107T153909Z
UID:10814-1744822800-1744835400@www.arb-cdb.ch
SUMMARY:Projection surprise pour la semaine de Pâques\, au Ciné-CLAP
DESCRIPTION:Une projection surprise pour la semaine de Pâques.\nDurée du film : 2 h 18.\nPrésentation d’Oliver Schopfer\, suivie de la projection du film\, puis apéritif\n\nOrganisé par le Ciné-CLAP de l’Église réformée de Berne\,\nEn l’Église française de Berne\, Zeughausgasse 8\, 3011 Berne.\nChaque projection est suivie d’une collecte. Prix indicatif: 15 CHF.
URL:https://www.arb-cdb.ch/event/projection-surprise-pour-la-semaine-de-paques-au-cine-clap/
LOCATION:Église française de Berne\, Zeughausgasse 8\, 3011 Berne\, Switzerland
CATEGORIES:Animation,Collecte,Gratuit,Ouvert à tous
END:VEVENT
BEGIN:VEVENT
DTSTART;TZID=Europe/Paris:20250421T180000
DTEND;TZID=Europe/Paris:20250421T193000
DTSTAMP:20260420T023737
CREATED:20250203T141933Z
LAST-MODIFIED:20250203T141937Z
UID:10910-1745258400-1745263800@www.arb-cdb.ch
SUMMARY:CONCERT -- Bach
DESCRIPTION:OSTERORATORIUM & MAGNIFICAT\nde Johann Sebastian Bach \nFreitagsakademie Bern\nEnsemble Orlando Fribourg\nDir. Laurent Gendre \n  \n  \n  \n  \n  \n 
URL:https://www.arb-cdb.ch/event/concert-bach/
LOCATION:Église française de Berne\, Zeughausgasse 8\, 3011 Berne\, Switzerland
CATEGORIES:Collecte,Musique,Ouvert à tous
END:VEVENT
BEGIN:VEVENT
DTSTART;TZID=Europe/Paris:20250427T180000
DTEND;TZID=Europe/Paris:20250427T193000
DTSTAMP:20260420T023737
CREATED:20250203T142321Z
LAST-MODIFIED:20250203T142354Z
UID:10912-1745776800-1745782200@www.arb-cdb.ch
SUMMARY:CONCERT -- Musique et Parole
DESCRIPTION:MISA TANGO\n\nChoeur paroisse de Tavannes-Reconvilier\nDirection: Philippe Krüttli\nMezzo-Soprano: Isabelle Gueissaz\nTextes: Thierry Dominicé \n  \n  \n  \n  \n  \n 
URL:https://www.arb-cdb.ch/event/concert-musique-parole/
LOCATION:Église française de Berne\, Zeughausgasse 8\, 3011 Berne\, Switzerland
CATEGORIES:Collecte,Musique,Ouvert à tous
END:VEVENT
END:VCALENDAR