BEGIN:VCALENDAR
VERSION:2.0
PRODID:-//Association Romande et francophone de Berne et environs - ECPv6.15.20//NONSGML v1.0//EN
CALSCALE:GREGORIAN
METHOD:PUBLISH
X-ORIGINAL-URL:https://www.arb-cdb.ch
X-WR-CALDESC:Évènements pour Association Romande et francophone de Berne et environs
REFRESH-INTERVAL;VALUE=DURATION:PT1H
X-Robots-Tag:noindex
X-PUBLISHED-TTL:PT1H
BEGIN:VTIMEZONE
TZID:Europe/Paris
BEGIN:DAYLIGHT
TZOFFSETFROM:+0100
TZOFFSETTO:+0200
TZNAME:CEST
DTSTART:20230326T010000
END:DAYLIGHT
BEGIN:STANDARD
TZOFFSETFROM:+0200
TZOFFSETTO:+0100
TZNAME:CET
DTSTART:20231029T010000
END:STANDARD
BEGIN:DAYLIGHT
TZOFFSETFROM:+0100
TZOFFSETTO:+0200
TZNAME:CEST
DTSTART:20240331T010000
END:DAYLIGHT
BEGIN:STANDARD
TZOFFSETFROM:+0200
TZOFFSETTO:+0100
TZNAME:CET
DTSTART:20241027T010000
END:STANDARD
BEGIN:DAYLIGHT
TZOFFSETFROM:+0100
TZOFFSETTO:+0200
TZNAME:CEST
DTSTART:20250330T010000
END:DAYLIGHT
BEGIN:STANDARD
TZOFFSETFROM:+0200
TZOFFSETTO:+0100
TZNAME:CET
DTSTART:20251026T010000
END:STANDARD
END:VTIMEZONE
BEGIN:VEVENT
DTSTART;TZID=Europe/Paris:20241206T170000
DTEND;TZID=Europe/Paris:20241206T214500
DTSTAMP:20260420T215612
CREATED:20231209T170525Z
LAST-MODIFIED:20231209T175434Z
UID:9522-1733504400-1733521500@www.arb-cdb.ch
SUMMARY:Le temps de l'innocence\, au Ciné-CLAP
DESCRIPTION:Film de Martin Scorsese\, 1993\nTrois personnages principaux qui\, dans la riche société newyorkaise de la fin du 19ème siècle\, rivalisent de volonté et de liberté.\nOrganisé par le Ciné-Clap de l’Église réformée de Berne\,\nen collaboration avec le Lichtspiel (cinémathèque de Berne)\nPlus de détails\nApéro de bienvenue offert dès 17 h. Projection à 18 h.\nAu Lichtspiel\, Sandrainstrasse 3\, Berne\nChaque projection est suivie d’une collecte. Prix indicatif: 15 CHF.\nTélécharger le programme de l’année (papillon)
URL:https://www.arb-cdb.ch/event/le-temps-de-linnocence-au-cine-clap/
LOCATION:Lichtspiel\, cinémathèque de Berne\, Sandrainstrasse 3\, 3007 Berne\, Suisse
CATEGORIES:Animation,Collecte,Gratuit,Ouvert à tous
ATTACH;FMTTYPE=image/jpeg:https://www.arb-cdb.ch/wp-content/uploads/2023/12/Le_Temps_de_l_innocence.jpg
END:VEVENT
END:VCALENDAR