BEGIN:VCALENDAR
VERSION:2.0
PRODID:-//Association Romande et francophone de Berne et environs - ECPv6.15.20//NONSGML v1.0//EN
CALSCALE:GREGORIAN
METHOD:PUBLISH
X-ORIGINAL-URL:https://www.arb-cdb.ch
X-WR-CALDESC:Évènements pour Association Romande et francophone de Berne et environs
REFRESH-INTERVAL;VALUE=DURATION:PT1H
X-Robots-Tag:noindex
X-PUBLISHED-TTL:PT1H
BEGIN:VTIMEZONE
TZID:Europe/Paris
BEGIN:DAYLIGHT
TZOFFSETFROM:+0100
TZOFFSETTO:+0200
TZNAME:CEST
DTSTART:20240331T010000
END:DAYLIGHT
BEGIN:STANDARD
TZOFFSETFROM:+0200
TZOFFSETTO:+0100
TZNAME:CET
DTSTART:20241027T010000
END:STANDARD
BEGIN:DAYLIGHT
TZOFFSETFROM:+0100
TZOFFSETTO:+0200
TZNAME:CEST
DTSTART:20250330T010000
END:DAYLIGHT
BEGIN:STANDARD
TZOFFSETFROM:+0200
TZOFFSETTO:+0100
TZNAME:CET
DTSTART:20251026T010000
END:STANDARD
BEGIN:DAYLIGHT
TZOFFSETFROM:+0100
TZOFFSETTO:+0200
TZNAME:CEST
DTSTART:20260329T010000
END:DAYLIGHT
BEGIN:STANDARD
TZOFFSETFROM:+0200
TZOFFSETTO:+0100
TZNAME:CET
DTSTART:20261025T010000
END:STANDARD
END:VTIMEZONE
BEGIN:VEVENT
DTSTART;VALUE=DATE:20250910
DTEND;VALUE=DATE:20250912
DTSTAMP:20260420T224850
CREATED:20250909T105124Z
LAST-MODIFIED:20250909T105124Z
UID:11486-1757462400-1757635199@www.arb-cdb.ch
SUMMARY:Marche de château en château (de Thoune à Oberhofen)
DESCRIPTION:Le Club de randonnée et de ski de fond de Berne (CRF) vous invite à une\nmarche de Thoune à Oberhofen. 9\,2 km\, ↑ 220 m ↓ 215 m.\nLe jour définitif de l’excursion\, mercredi ou jeudi\, dépend de la météo.\nAdressez-vous directement à l’organisatrice ou l’organisateur (voir plus bas) de préférence avant lundi soir.\nCela vous permet de recevoir les renseignements utiles et d’optimaliser les transports.\nVous pouvez charger le programme actuel du CRF est ici\net voir des photos des précédentes sorties ici dès 2019 et ici de 2016 à 2018
URL:https://www.arb-cdb.ch/event/marche-de-chateau-en-chateau-thoune-oberhofe-2025n/
CATEGORIES:Excursion,Gratuit
END:VEVENT
BEGIN:VEVENT
DTSTART;TZID=Europe/Paris:20250911T141500
DTEND;TZID=Europe/Paris:20250911T160000
DTSTAMP:20260420T224850
CREATED:20250630T114005Z
LAST-MODIFIED:20250630T114005Z
UID:11321-1757600100-1757606400@www.arb-cdb.ch
SUMMARY:Conférence UNAB
DESCRIPTION:Mathieu Avanzi \nProfesseur ordinaire de dialectologie gallo romane et sociolinguistique le l’Université de Neuchâtel \nParler jurassien : ces mots qui ne passent pas la frontière ! \nLe Jura\, à cheval sur deux pays\, est aussi un territoire où la langue façonne les identités. D’un côté et de l’autre de la frontière\, on partage bien des choses… sauf certains mots et expressions ! Pourquoi dit-on totché ici mais gâteau de ménage quand on passe la frontière ? Sinon\, vous êtes plutôt cramiats ou plutôt cramaillots\, pelle à cheni ou ramassoire ? D’où viennent ces particularismes linguistiques et comment ont-ils traversé le temps ? \nEntre humour et science\, cette conférence vous propose un voyage fascinant au cœur du parler jurassien\, entre héritage patois et saveurs locales du français. \nCette page est tirée du site de l’UNAB.
URL:https://www.arb-cdb.ch/event/conference-unab-250911/
LOCATION:Fondation ascaro\, Belpstrasse 37\, 3007 Berne\, Suisse
CATEGORIES:Conférence,Payant pour les non-membres
ORGANIZER;CN="Universit%C3%A9 des A%C3%AEn%C3%A9s de langue fran%C3%A7aise de Berne   ( UNAB )":MAILTO:unab@bluewin.ch
END:VEVENT
BEGIN:VEVENT
DTSTART;TZID=Europe/Paris:20250911T191500
DTEND;TZID=Europe/Paris:20250911T213000
DTSTAMP:20260420T224850
CREATED:20250817T163229Z
LAST-MODIFIED:20250817T163801Z
UID:11445-1757618100-1757626200@www.arb-cdb.ch
SUMMARY:Ciné-Debat Rencontres vous invita à la projection du Film "Sage Homme"
DESCRIPTION:Après avoir raté le concours d’entrée en médecine\, Léopold intègre par défaut l’école des sage-femmes en cachant la vérité à son entourage. Alors qu’il s’engage sans conviction dans ce milieu exclusivement féminin\, sa rencontre avec Nathalie\, sage-femme d’expérience au caractère passionné\, va changer son regard sur cet univers fascinant et bouleverser ses certitudes.
URL:https://www.arb-cdb.ch/event/cine-debat-rencontres-vous-invita-a-la-projection-du-film-sage-homme/
LOCATION:Cinéma Lichtspiel\, Sandrainstrasse 3\, 3007 Berne\, Suisse
CATEGORIES:Film projeté en français
END:VEVENT
END:VCALENDAR