BEGIN:VCALENDAR
VERSION:2.0
PRODID:-//Association Romande et francophone de Berne et environs - ECPv6.15.20//NONSGML v1.0//EN
CALSCALE:GREGORIAN
METHOD:PUBLISH
X-ORIGINAL-URL:https://www.arb-cdb.ch
X-WR-CALDESC:Évènements pour Association Romande et francophone de Berne et environs
REFRESH-INTERVAL;VALUE=DURATION:PT1H
X-Robots-Tag:noindex
X-PUBLISHED-TTL:PT1H
BEGIN:VTIMEZONE
TZID:Europe/Paris
BEGIN:DAYLIGHT
TZOFFSETFROM:+0100
TZOFFSETTO:+0200
TZNAME:CEST
DTSTART:20240331T010000
END:DAYLIGHT
BEGIN:STANDARD
TZOFFSETFROM:+0200
TZOFFSETTO:+0100
TZNAME:CET
DTSTART:20241027T010000
END:STANDARD
BEGIN:DAYLIGHT
TZOFFSETFROM:+0100
TZOFFSETTO:+0200
TZNAME:CEST
DTSTART:20250330T010000
END:DAYLIGHT
BEGIN:STANDARD
TZOFFSETFROM:+0200
TZOFFSETTO:+0100
TZNAME:CET
DTSTART:20251026T010000
END:STANDARD
BEGIN:DAYLIGHT
TZOFFSETFROM:+0100
TZOFFSETTO:+0200
TZNAME:CEST
DTSTART:20260329T010000
END:DAYLIGHT
BEGIN:STANDARD
TZOFFSETFROM:+0200
TZOFFSETTO:+0100
TZNAME:CET
DTSTART:20261025T010000
END:STANDARD
END:VTIMEZONE
BEGIN:VEVENT
DTSTART;VALUE=DATE:20250802
DTEND;VALUE=DATE:20250810
DTSTAMP:20260420T084120
CREATED:20250305T101509Z
LAST-MODIFIED:20250305T102419Z
UID:11083-1754092800-1754783999@www.arb-cdb.ch
SUMMARY:Une semaine à Bad Wörishofen (Bavière\, D)
DESCRIPTION:Cet été\, du 2 au 9 août 2025\, la Paroisse réformée de Berne a le grand plaisir de vous convier à\nune semaine de vacances à Bad Wörishofen (Bavière\, D).\nC’est ouvert à toutes les personnes qui souhaitent passer une semaine en commun\, sans distinction d’âge ni de confession. Que vous soyez bons marcheurs ou que vous ayez l’intention de contempler le panorama depuis la terrasse\, le programme sera adapté à vos besoins.\nLe bulletin d’inscription (délai 15 mai 2025) au format Word est ici\, au format pdf est ici.
URL:https://www.arb-cdb.ch/event/une-semaine-a-bad-woerishofen2025/
CATEGORIES:Excursion,Ouvert à tous,Payant,sur inscription
ATTACH;FMTTYPE=image/jpeg:https://www.arb-cdb.ch/wp-content/uploads/2025/03/Les-vacances-2025-ImEnA.jpg
ORGANIZER;CN="Paroisse r%C3%A9form%C3%A9e fran%C3%A7aise%2C rencontres et vacances avec Sarah Vollert":MAILTO:sarah.vollert@egliserefberne.ch
END:VEVENT
BEGIN:VEVENT
DTSTART;VALUE=DATE:20250807
DTEND;VALUE=DATE:20250810
DTSTAMP:20260420T084120
CREATED:20250504T104418Z
LAST-MODIFIED:20250504T104928Z
UID:11166-1754524800-1754783999@www.arb-cdb.ch
SUMMARY:Buskers 2025
DESCRIPTION:Buskers Bern Festival des Arts de Rue.\n3 soirs dès 18 h dans la vielle ville. Boire et manger jusqu’à minuit voir 0 h 30\, samedi dès 16 h.\,\nVendredi et samedi\, dès 15 h pour les enfants sur la Münsterplatteform.\nLe brace­let du festi­val et le programme: CHF 20.– pour les trois jours.\nPour les dona­teurs: CHF 30.– pour les trois jours (avec le brace­let de dona­teur\, l’entrée au Busker­shaus est gratuite les trois soirées).\nPour les enfants jusqu’à 12 ans\, sans le programme: CHF 5. – .\nLes artistes sont payés au chapeau : il circule entre les spectateurs pour collecter ce qui paye les artistes.\nUne brève description en français sur le site Bern.ch\nLes informations détaillées et pratiques (en allemand) sont ici
URL:https://www.arb-cdb.ch/event/buskers-2025/
CATEGORIES:Animation,Collecte,Festival,Musique,Ouvert à tous,Théâtre
ATTACH;FMTTYPE=image/jpeg:https://www.arb-cdb.ch/wp-content/uploads/2023/04/20230810buskers-5-9a41a2ff.jpg
END:VEVENT
END:VCALENDAR