BEGIN:VCALENDAR
VERSION:2.0
PRODID:-//Association Romande et francophone de Berne et environs - ECPv6.15.20//NONSGML v1.0//EN
CALSCALE:GREGORIAN
METHOD:PUBLISH
X-ORIGINAL-URL:https://www.arb-cdb.ch
X-WR-CALDESC:Évènements pour Association Romande et francophone de Berne et environs
REFRESH-INTERVAL;VALUE=DURATION:PT1H
X-Robots-Tag:noindex
X-PUBLISHED-TTL:PT1H
BEGIN:VTIMEZONE
TZID:Europe/Paris
BEGIN:DAYLIGHT
TZOFFSETFROM:+0100
TZOFFSETTO:+0200
TZNAME:CEST
DTSTART:20240331T010000
END:DAYLIGHT
BEGIN:STANDARD
TZOFFSETFROM:+0200
TZOFFSETTO:+0100
TZNAME:CET
DTSTART:20241027T010000
END:STANDARD
BEGIN:DAYLIGHT
TZOFFSETFROM:+0100
TZOFFSETTO:+0200
TZNAME:CEST
DTSTART:20250330T010000
END:DAYLIGHT
BEGIN:STANDARD
TZOFFSETFROM:+0200
TZOFFSETTO:+0100
TZNAME:CET
DTSTART:20251026T010000
END:STANDARD
BEGIN:DAYLIGHT
TZOFFSETFROM:+0100
TZOFFSETTO:+0200
TZNAME:CEST
DTSTART:20260329T010000
END:DAYLIGHT
BEGIN:STANDARD
TZOFFSETFROM:+0200
TZOFFSETTO:+0100
TZNAME:CET
DTSTART:20261025T010000
END:STANDARD
END:VTIMEZONE
BEGIN:VEVENT
DTSTART;TZID=Europe/Paris:20250514T132000
DTEND;TZID=Europe/Paris:20250514T170000
DTSTAMP:20260419T231918
CREATED:20250426T185114Z
LAST-MODIFIED:20250426T185114Z
UID:11159-1747228800-1747242000@www.arb-cdb.ch
SUMMARY:Promenade pédestre de mai
DESCRIPTION:L’équipe des randos pédestres de la paroisse réformée de Berne vous propose sa promenade pédestre de mai\nDe Blinzern à Kehrsatz par de doux paysages…\nRendez-vous à 13 h 20\, Treffpunkt gare de Berne. Bus 19 pour Blinzern\, 13h37 (2 zones 100/101)\nPromenade chaque deuxième mercredi du mois\, de mars à novembre\nProchaines rando : 11 juin (journée)\, 9 juillet \, 13 août\, 10 septembre (journée)\, 8 octobre\, 12 novembre
URL:https://www.arb-cdb.ch/event/promenade-pedestre-de-mai-2025/
CATEGORIES:Excursion,Ouvert à tous
ATTACH;FMTTYPE=image/jpeg:https://www.arb-cdb.ch/wp-content/uploads/2022/05/LogoGroupePedestreEgliseFrancaiseDeBerne.jpg
END:VEVENT
END:VCALENDAR