BEGIN:VCALENDAR
VERSION:2.0
PRODID:-//Association Romande et francophone de Berne et environs - ECPv6.15.20//NONSGML v1.0//EN
CALSCALE:GREGORIAN
METHOD:PUBLISH
X-ORIGINAL-URL:https://www.arb-cdb.ch
X-WR-CALDESC:Évènements pour Association Romande et francophone de Berne et environs
REFRESH-INTERVAL;VALUE=DURATION:PT1H
X-Robots-Tag:noindex
X-PUBLISHED-TTL:PT1H
BEGIN:VTIMEZONE
TZID:Europe/Paris
BEGIN:DAYLIGHT
TZOFFSETFROM:+0100
TZOFFSETTO:+0200
TZNAME:CEST
DTSTART:20240331T010000
END:DAYLIGHT
BEGIN:STANDARD
TZOFFSETFROM:+0200
TZOFFSETTO:+0100
TZNAME:CET
DTSTART:20241027T010000
END:STANDARD
BEGIN:DAYLIGHT
TZOFFSETFROM:+0100
TZOFFSETTO:+0200
TZNAME:CEST
DTSTART:20250330T010000
END:DAYLIGHT
BEGIN:STANDARD
TZOFFSETFROM:+0200
TZOFFSETTO:+0100
TZNAME:CET
DTSTART:20251026T010000
END:STANDARD
BEGIN:DAYLIGHT
TZOFFSETFROM:+0100
TZOFFSETTO:+0200
TZNAME:CEST
DTSTART:20260329T010000
END:DAYLIGHT
BEGIN:STANDARD
TZOFFSETFROM:+0200
TZOFFSETTO:+0100
TZNAME:CET
DTSTART:20261025T010000
END:STANDARD
END:VTIMEZONE
BEGIN:VEVENT
DTSTART;VALUE=DATE:20250510
DTEND;VALUE=DATE:20250511
DTSTAMP:20260419T231938
CREATED:20250504T111815Z
LAST-MODIFIED:20250504T111815Z
UID:11173-1746835200-1746921599@www.arb-cdb.ch
SUMMARY:Le 43e Grand prix de Berne
DESCRIPTION:L’une des courses les plus importantes de Suisse. Ce qui a commencé en 1982 avec 3’139 inscrits s’est transformé en une course de rue avec plus de 30’000 participants.\nLe Grand-Prix de Berne allie sport de compétition et sport de masse. Outre les meilleurs temps\, un grand nombre de participants mettent surtout l’accent sur le plaisir de bouger et de courir. L’impressionnante coulisse des spectateurs et le parcours attractif à travers la vieille ville\, le long de l’Aar et à travers la forêt du Dählhözli promettent de la variété et une expérience de course enivrante. \nLes diverses courses : \nLes 10 miles les plus beaux du monde\nGrand-Prix original\, 10 miles (16\,0934 km)\n4\,7 km à travers la vieille ville de Berne\nAltstadt Grand-Prix\, 4\,7 km\nLa course pour les enfants\, les familles et les débutants\nBären Grand-Prix\, 1\,6 km
URL:https://www.arb-cdb.ch/event/le-43e-grand-prix-de-berne/
CATEGORIES:Autre manifestation,Ouvert à tous
ATTACH;FMTTYPE=image/jpeg:https://www.arb-cdb.ch/wp-content/uploads/2023/01/GrandPrixDeBernPT-e1673043285387.jpg
END:VEVENT
END:VCALENDAR