BEGIN:VCALENDAR
VERSION:2.0
PRODID:-//Association Romande et francophone de Berne et environs - ECPv6.15.20//NONSGML v1.0//EN
CALSCALE:GREGORIAN
METHOD:PUBLISH
X-ORIGINAL-URL:https://www.arb-cdb.ch
X-WR-CALDESC:Évènements pour Association Romande et francophone de Berne et environs
REFRESH-INTERVAL;VALUE=DURATION:PT1H
X-Robots-Tag:noindex
X-PUBLISHED-TTL:PT1H
BEGIN:VTIMEZONE
TZID:Europe/Paris
BEGIN:DAYLIGHT
TZOFFSETFROM:+0100
TZOFFSETTO:+0200
TZNAME:CEST
DTSTART:20240331T010000
END:DAYLIGHT
BEGIN:STANDARD
TZOFFSETFROM:+0200
TZOFFSETTO:+0100
TZNAME:CET
DTSTART:20241027T010000
END:STANDARD
BEGIN:DAYLIGHT
TZOFFSETFROM:+0100
TZOFFSETTO:+0200
TZNAME:CEST
DTSTART:20250330T010000
END:DAYLIGHT
BEGIN:STANDARD
TZOFFSETFROM:+0200
TZOFFSETTO:+0100
TZNAME:CET
DTSTART:20251026T010000
END:STANDARD
BEGIN:DAYLIGHT
TZOFFSETFROM:+0100
TZOFFSETTO:+0200
TZNAME:CEST
DTSTART:20260329T010000
END:DAYLIGHT
BEGIN:STANDARD
TZOFFSETFROM:+0200
TZOFFSETTO:+0100
TZNAME:CET
DTSTART:20261025T010000
END:STANDARD
END:VTIMEZONE
BEGIN:VEVENT
DTSTART;TZID=Europe/Paris:20250423T070000
DTEND;TZID=Europe/Paris:20250425T170000
DTSTAMP:20260420T022759
CREATED:20250327T175236Z
LAST-MODIFIED:20250327T175236Z
UID:11128-1745391600-1745600400@www.arb-cdb.ch
SUMMARY:Marché bernois des plantes sauvages
DESCRIPTION:Le plus grand marché de plantes sauvages de Suisse.\nDepuis 30 ans\, environ 400 espèces de plantes sauvages locales sont proposées au « Bärner Wildpflanzen Märit » (marché aux plantes sauvages de Berne)\nUne introduction en français\, avec un lien sur le site officiel en allemand\, est sur le site officiel du tourisme à Berne
URL:https://www.arb-cdb.ch/event/marche-bernois-des-plantes-sauvages-2025/
LOCATION:Place Fédérale\, Place fédérale\, 3011 Berne\, Switzerland
CATEGORIES:Autre manifestation,Ouvert à tous
END:VEVENT
BEGIN:VEVENT
DTSTART;VALUE=DATE:20250424
DTEND;VALUE=DATE:20250426
DTSTAMP:20260420T022759
CREATED:20250228T160115Z
LAST-MODIFIED:20250228T160115Z
UID:11043-1745452800-1745625599@www.arb-cdb.ch
SUMMARY:De Boudry à Neuchâtel par les rives du lac
DESCRIPTION:Le Club de randonnée et de ski de fond de Berne (CRF) vous invite à une\nrandonnée de Boudry à Neuchâtel par les rives du lac\, env. 11 km (possibilité de prendre le tram en cours de route).\nLa date définitive\, jeudi ou vendredi\, de l’excursion dépend de la météo.\nAdressez-vous directement à l’organisatrice ou l’organisateur (voir plus bas) de préférence avant le jeudi soir.\nCela vous permet de recevoir les renseignements utiles et d’optimaliser les transports.\nVous pouvez charger le programme actuel du CRF est ici\net voir des photos des précédentes sorties ici dès 2019 et ici de 2016 à 2018
URL:https://www.arb-cdb.ch/event/boudry-a-neuchatel-par-les-rives-du-lac2025/
CATEGORIES:Excursion,Gratuit,Ouvert à tous,sur inscription
ATTACH;FMTTYPE=image/png:https://www.arb-cdb.ch/wp-content/uploads/CRF_TexteEtTout400px.png
END:VEVENT
END:VCALENDAR