BEGIN:VCALENDAR
VERSION:2.0
PRODID:-//Association Romande et francophone de Berne et environs - ECPv6.15.20//NONSGML v1.0//EN
CALSCALE:GREGORIAN
METHOD:PUBLISH
X-ORIGINAL-URL:https://www.arb-cdb.ch
X-WR-CALDESC:Évènements pour Association Romande et francophone de Berne et environs
REFRESH-INTERVAL;VALUE=DURATION:PT1H
X-Robots-Tag:noindex
X-PUBLISHED-TTL:PT1H
BEGIN:VTIMEZONE
TZID:Europe/Paris
BEGIN:DAYLIGHT
TZOFFSETFROM:+0100
TZOFFSETTO:+0200
TZNAME:CEST
DTSTART:20240331T010000
END:DAYLIGHT
BEGIN:STANDARD
TZOFFSETFROM:+0200
TZOFFSETTO:+0100
TZNAME:CET
DTSTART:20241027T010000
END:STANDARD
BEGIN:DAYLIGHT
TZOFFSETFROM:+0100
TZOFFSETTO:+0200
TZNAME:CEST
DTSTART:20250330T010000
END:DAYLIGHT
BEGIN:STANDARD
TZOFFSETFROM:+0200
TZOFFSETTO:+0100
TZNAME:CET
DTSTART:20251026T010000
END:STANDARD
BEGIN:DAYLIGHT
TZOFFSETFROM:+0100
TZOFFSETTO:+0200
TZNAME:CEST
DTSTART:20260329T010000
END:DAYLIGHT
BEGIN:STANDARD
TZOFFSETFROM:+0200
TZOFFSETTO:+0100
TZNAME:CET
DTSTART:20261025T010000
END:STANDARD
END:VTIMEZONE
BEGIN:VEVENT
DTSTART;TZID=Europe/Paris:20250419T193000
DTEND;TZID=Europe/Paris:20250419T193000
DTSTAMP:20260420T022704
CREATED:20250414T162535Z
LAST-MODIFIED:20250414T163412Z
UID:11147-1745091000-1745091000@www.arb-cdb.ch
SUMMARY:Concert printemps 2025 de l'Oratorienchor Bern
DESCRIPTION:L’Oratorienchor Bern (OCB) est heureux vous annoncer ses prochains concerts qui seront donnés les \nSamedi 19 avril à 19 h 30 et dimanche 20 avril 2025 à 17 h\nà l’Église française de Berne.  \nAu programme Cavalleria rusticana de Pietro Mascagni\nJean-Michel Ducommun a écrit une présentation en français avec divers renseignements utiles\,\nainsi que le livret en italien et en français qu’il a traduit
URL:https://www.arb-cdb.ch/event/concert-printemps-2025-de-loratorienchor-bern-1/
LOCATION:Église française de Berne\, Zeughausgasse 8\, 3011 Berne\, Switzerland
CATEGORIES:Musique,Ouvert à tous,Payant
ATTACH;FMTTYPE=image/jpeg:https://www.arb-cdb.ch/wp-content/uploads/2023/03/20230421ocb.jpg
END:VEVENT
END:VCALENDAR