BEGIN:VCALENDAR
VERSION:2.0
PRODID:-//Association Romande et francophone de Berne et environs - ECPv6.15.20//NONSGML v1.0//EN
CALSCALE:GREGORIAN
METHOD:PUBLISH
X-WR-CALNAME:Association Romande et francophone de Berne et environs
X-ORIGINAL-URL:https://www.arb-cdb.ch
X-WR-CALDESC:Évènements pour Association Romande et francophone de Berne et environs
REFRESH-INTERVAL;VALUE=DURATION:PT1H
X-Robots-Tag:noindex
X-PUBLISHED-TTL:PT1H
BEGIN:VTIMEZONE
TZID:Europe/Paris
BEGIN:DAYLIGHT
TZOFFSETFROM:+0100
TZOFFSETTO:+0200
TZNAME:CEST
DTSTART:20240331T010000
END:DAYLIGHT
BEGIN:STANDARD
TZOFFSETFROM:+0200
TZOFFSETTO:+0100
TZNAME:CET
DTSTART:20241027T010000
END:STANDARD
BEGIN:DAYLIGHT
TZOFFSETFROM:+0100
TZOFFSETTO:+0200
TZNAME:CEST
DTSTART:20250330T010000
END:DAYLIGHT
BEGIN:STANDARD
TZOFFSETFROM:+0200
TZOFFSETTO:+0100
TZNAME:CET
DTSTART:20251026T010000
END:STANDARD
BEGIN:DAYLIGHT
TZOFFSETFROM:+0100
TZOFFSETTO:+0200
TZNAME:CEST
DTSTART:20260329T010000
END:DAYLIGHT
BEGIN:STANDARD
TZOFFSETFROM:+0200
TZOFFSETTO:+0100
TZNAME:CET
DTSTART:20261025T010000
END:STANDARD
END:VTIMEZONE
BEGIN:VEVENT
DTSTART;TZID=Europe/Paris:20250409T125000
DTEND;TZID=Europe/Paris:20250409T125000
DTSTAMP:20260420T064744
CREATED:20250327T165740Z
LAST-MODIFIED:20250327T165740Z
UID:11124-1744203000-1744203000@www.arb-cdb.ch
SUMMARY:Promenade pédestre d'avril
DESCRIPTION:L’équipe des randos pédestres de la paroisse réformée de Berne vous propose sa promenade pédestre d’avril\nDe Heimenschwand à Oberei. Parcours varié et marche facile dans paysage de charme\, environ 1 h 30.\nRendez-vous à 12 h 50\, Treffpunkt gare de Berne. Train en direction de Brig\, voie 7\, départ 13 h 07\nPromenade chaque deuxième mercredi du mois\, de mars à novembre\nProchaines rando : 14 mai\, 11 juin (journée)\, 9 juillet \, 13 août\, 10 septembre (journée)\, 8 octobre\, 12 novembre
URL:https://www.arb-cdb.ch/event/promenade-pedestre-d_avril-2025/
CATEGORIES:Excursion,Ouvert à tous
ATTACH;FMTTYPE=image/jpeg:https://www.arb-cdb.ch/wp-content/uploads/2022/05/LogoGroupePedestreEgliseFrancaiseDeBerne.jpg
END:VEVENT
END:VCALENDAR