BEGIN:VCALENDAR
VERSION:2.0
PRODID:-//Association Romande et francophone de Berne et environs - ECPv6.15.20//NONSGML v1.0//EN
CALSCALE:GREGORIAN
METHOD:PUBLISH
X-WR-CALNAME:Association Romande et francophone de Berne et environs
X-ORIGINAL-URL:https://www.arb-cdb.ch
X-WR-CALDESC:Évènements pour Association Romande et francophone de Berne et environs
REFRESH-INTERVAL;VALUE=DURATION:PT1H
X-Robots-Tag:noindex
X-PUBLISHED-TTL:PT1H
BEGIN:VTIMEZONE
TZID:Europe/Paris
BEGIN:DAYLIGHT
TZOFFSETFROM:+0100
TZOFFSETTO:+0200
TZNAME:CEST
DTSTART:20240331T010000
END:DAYLIGHT
BEGIN:STANDARD
TZOFFSETFROM:+0200
TZOFFSETTO:+0100
TZNAME:CET
DTSTART:20241027T010000
END:STANDARD
BEGIN:DAYLIGHT
TZOFFSETFROM:+0100
TZOFFSETTO:+0200
TZNAME:CEST
DTSTART:20250330T010000
END:DAYLIGHT
BEGIN:STANDARD
TZOFFSETFROM:+0200
TZOFFSETTO:+0100
TZNAME:CET
DTSTART:20251026T010000
END:STANDARD
BEGIN:DAYLIGHT
TZOFFSETFROM:+0100
TZOFFSETTO:+0200
TZNAME:CEST
DTSTART:20260329T010000
END:DAYLIGHT
BEGIN:STANDARD
TZOFFSETFROM:+0200
TZOFFSETTO:+0100
TZNAME:CET
DTSTART:20261025T010000
END:STANDARD
END:VTIMEZONE
BEGIN:VEVENT
DTSTART;VALUE=DATE:20250404
DTEND;VALUE=DATE:20250406
DTSTAMP:20260420T034703
CREATED:20250228T154558Z
LAST-MODIFIED:20250228T154558Z
UID:11036-1743724800-1743897599@www.arb-cdb.ch
SUMMARY:Randonnée de Lyss à Frieswil
DESCRIPTION:Le Club de randonnée et de ski de fond de Berne (CRF) vous invite à une\nrandonnée pédestre Lyss-Friedwil\, env. 12 km\, 3 h 30\, ↑ 404 m\, ↓ 174 m\nLa date définitive\, vendredi ou samedi\, de l’excursion dépend de la météo.\nAdressez-vous directement à l’organisatrice ou l’organisateur (voir plus bas) de préférence avant le jeudi soir.\nCela vous permet de recevoir les renseignements utiles et d’optimaliser les transports.\nVous pouvez charger le programme actuel du CRF est ici\net voir des photos des précédentes sorties ici dès 2019 et ici de 2016 à 2018
URL:https://www.arb-cdb.ch/event/randonnee-de-lyss-a-frieswil2025/
CATEGORIES:Excursion,Gratuit,Ouvert à tous,sur inscription
ATTACH;FMTTYPE=image/png:https://www.arb-cdb.ch/wp-content/uploads/CRF_TexteEtTout400px.png
END:VEVENT
BEGIN:VEVENT
DTSTART;TZID=Europe/Paris:20250405T190000
DTEND;TZID=Europe/Paris:20250405T190000
DTSTAMP:20260420T034703
CREATED:20250109T115333Z
LAST-MODIFIED:20250109T115407Z
UID:10848-1743879600-1743879600@www.arb-cdb.ch
SUMMARY:AareThéâtre : La bonne planque
DESCRIPTION:La troupe de théâtre amateur francophone de la ville de Berne\, AareThéâtre\, vous propose son nouveau spectacle : : \nLa bonne planque\, une comédie de Michel André\n\n4e des 5 représentations à l’ECLF de son spectacle 2025\nVous êtes aussi les bienvenus au BArethéâtre\,\nouvert 1 heure avant chaque spectacle et 1 heure après. \n\n		\n			\n			\n		\n\n		\n 
URL:https://www.arb-cdb.ch/event/aaretheatre-la-bonne-planque-4e/
LOCATION:Ecole cantonale de langue française\, Berne Jupiterstrasse 2\, 3015 Bern
CATEGORIES:Collecte,Ouvert à tous,Théâtre
END:VEVENT
END:VCALENDAR